From: dpdklab@iol.unh.edu
To: Test Report <test-report@dpdk.org>
Cc: dpdk-test-reports@iol.unh.edu
Subject: |SUCCESS| pw151445-151446 [PATCH] [v2,2/2] net/intel: add Tx time qu
Date: Wed, 12 Feb 2025 23:50:58 -0800 (PST) [thread overview]
Message-ID: <67ada462.170a0220.192120.2668SMTPIN_ADDED_MISSING@mx.google.com> (raw)
In-Reply-To: <20250212214711.1046777-3-soumyadeep.hore@intel.com>
Test-Label: iol-compile-amd64-testing
Test-Status: SUCCESS
http://dpdk.org/patch/151446
_Testing PASS_
Submitter: Soumyadeep Hore <soumyadeep.hore@intel.com>
Date: Wednesday, February 12 2025 21:47:11
DPDK git baseline: Repo:dpdk
Branch: master
CommitID:c2b6f3e7212dc32603304a6bb41b0e8f081761a5
151445-151446 --> testing pass
Upstream job id: Generic-VM-DPDK-Compile-Meson#33268
Test environment and result as below:
+---------------------+--------------------+-------------------+
| Environment | dpdk_meson_compile | dpdk_msvc_compile |
+=====================+====================+===================+
| FreeBSD 13.4 | PASS | SKIPPED |
+---------------------+--------------------+-------------------+
| FreeBSD 14.2 | PASS | SKIPPED |
+---------------------+--------------------+-------------------+
| Windows Server 2022 | SKIPPED | PASS |
+---------------------+--------------------+-------------------+
FreeBSD 13.4
Kernel: 13.4-RELEASE-p1
Compiler: clang 18.1.6
FreeBSD 14.2
Kernel: 14.2-RELEASE
Compiler: clang 18.1.6
Windows Server 2022
Kernel: 10.0.20348.2031
Compiler: clang 15.0.7, gcc 14.1.0 (MinGW), and MSVC VS 19.39.33521
To view detailed results, visit:
https://lab.dpdk.org/results/dashboard/patchsets/32570/
UNH-IOL DPDK Community Lab
To manage your email subscriptions, visit:
https://lab.dpdk.org/results/dashboard/preferences/subscriptions/
next prev parent reply other threads:[~2025-02-13 7:50 UTC|newest]
Thread overview: 18+ messages / expand[flat|nested] mbox.gz Atom feed top
[not found] <20250212214711.1046777-3-soumyadeep.hore@intel.com>
2025-02-13 5:19 ` |SUCCESS| pw151445-151446 [PATCH v2 2/2] net/intel: add Tx time queue qemudev
2025-02-13 5:24 ` qemudev
2025-02-13 5:55 ` |SUCCESS| pw151446 " checkpatch
2025-02-13 7:21 ` |SUCCESS| pw151445-151446 [PATCH] [v2,2/2] net/intel: add Tx time qu dpdklab
2025-02-13 7:29 ` dpdklab
2025-02-13 7:31 ` dpdklab
2025-02-13 7:40 ` dpdklab
2025-02-13 7:50 ` dpdklab [this message]
2025-02-13 8:06 ` |PENDING| " dpdklab
2025-02-13 8:06 ` dpdklab
2025-02-13 8:11 ` |SUCCESS| " dpdklab
2025-02-13 8:13 ` dpdklab
2025-02-13 8:44 ` |PENDING| " dpdklab
2025-02-13 8:58 ` |SUCCESS| " dpdklab
2025-02-13 9:06 ` |PENDING| " dpdklab
2025-02-13 10:10 ` |SUCCESS| " dpdklab
2025-02-13 10:16 ` dpdklab
2025-02-13 11:17 ` dpdklab
Reply instructions:
You may reply publicly to this message via plain-text email
using any one of the following methods:
* Save the following mbox file, import it into your mail client,
and reply-to-all from there: mbox
Avoid top-posting and favor interleaved quoting:
https://en.wikipedia.org/wiki/Posting_style#Interleaved_style
* Reply using the --to, --cc, and --in-reply-to
switches of git-send-email(1):
git send-email \
--in-reply-to=67ada462.170a0220.192120.2668SMTPIN_ADDED_MISSING@mx.google.com \
--to=dpdklab@iol.unh.edu \
--cc=dpdk-test-reports@iol.unh.edu \
--cc=test-report@dpdk.org \
/path/to/YOUR_REPLY
https://kernel.org/pub/software/scm/git/docs/git-send-email.html
* If your mail client supports setting the In-Reply-To header
via mailto: links, try the mailto: link
Be sure your reply has a Subject: header at the top and a blank line
before the message body.
This is a public inbox, see mirroring instructions
for how to clone and mirror all data and code used for this inbox;
as well as URLs for NNTP newsgroup(s).