From mboxrd@z Thu Jan 1 00:00:00 1970 Return-Path: Received: from mails.dpdk.org (mails.dpdk.org [217.70.189.124]) by inbox.dpdk.org (Postfix) with ESMTP id B46E94620F for ; Thu, 13 Feb 2025 08:50:59 +0100 (CET) Received: from mails.dpdk.org (localhost [127.0.0.1]) by mails.dpdk.org (Postfix) with ESMTP id ADCD242EB3; Thu, 13 Feb 2025 08:50:59 +0100 (CET) Received: from mail-pl1-f228.google.com (mail-pl1-f228.google.com [209.85.214.228]) by mails.dpdk.org (Postfix) with ESMTP id 1635E4028C for ; Thu, 13 Feb 2025 08:50:59 +0100 (CET) Received: by mail-pl1-f228.google.com with SMTP id d9443c01a7336-220c8eb195aso10513675ad.0 for ; Wed, 12 Feb 2025 23:50:59 -0800 (PST) DKIM-Signature: v=1; a=rsa-sha256; c=relaxed/relaxed; d=iol.unh.edu; s=unh-iol; t=1739433058; x=1740037858; darn=dpdk.org; h=references:in-reply-to:cc:to:from:subject:message-id:date:from:to :cc:subject:date:message-id:reply-to; bh=EF7O4J+d9iYJIGWSrL/Ifar+RKdPeKipGns1Iwsd1ig=; b=gruwh7ptiiW3iWs270xa6L8QDEwjod9I6FBLLoB9FDn/GlZSK6fFddAbgp/qEzvMHH kKypqFCsW0kUrk1VO5wJr13pD/3HQmaw2Tp6TgGatq6bdHZe/e02DaMdN8Hp2OSMiv10 KONqcxw2n27E2jQOKFRRs0SfohjmNXyxym9N4= X-Google-DKIM-Signature: v=1; a=rsa-sha256; c=relaxed/relaxed; d=1e100.net; s=20230601; t=1739433058; x=1740037858; h=references:in-reply-to:cc:to:from:subject:message-id:date :x-gm-message-state:from:to:cc:subject:date:message-id:reply-to; bh=EF7O4J+d9iYJIGWSrL/Ifar+RKdPeKipGns1Iwsd1ig=; b=f61YSETwfNn/yu45Lr+aE86SIK1Kn6c+IZKfSERY7coKvOyu4U7tgqeW252IoykX2f h9mSjqaPiTS+g5VofBeNWc/+0zcnmMN71hjQhNAMqZ3x/5f9n/hRNiEPdOkot94G2qew OtnxESv4KRmdhemFG1Zsc4WGWL8MgAlJiAC/ivqII1RkJCseSNxe97zrfivGluGpjHP8 Sv5em8Rtgqeq+N04H3LIsKDQELPutWUaDUmMocREN7T25WwzR9FGU0cyy7YR3Nmn9srg GbfaVYVjvKzEOFKQn+2hh0uddt/TvuoQCbIXFOx3qZWXf8EEXDNRlDmoSk+mjds48LS2 oHEA== X-Gm-Message-State: AOJu0Yxz/08mzqIqaYpRbxyeWiAR4zCgA3Q2828m+d+x8UkIFucJraml GxqkvREw8jTJ30SRMNbMMRxLRVmPlgydhMAZvZf/QAmnrcBJC6I1lZQmqKbqAItVjWeBQzf0Kmp pE+/wQYGrBIQaxSFzYouMuFS3SCNg2Z7A8iCeZe3H X-Gm-Gg: ASbGncv4ARvPoTxDlhQIzLs+H0lI60WdSURjG9s+8N25rAYy1Tli02P5ejRsHPJxeTf AASYoU/3k45+T7pgjPuoedH9Cdbz2tWf0D7vDeiY4xEiTw1OFF+00jqa7zhCg4FDeEf68UK1nTc 25brqF8UMy+yxf8e8W499jbZmUdTmj2HwTT7IaI7epERQYCKCZhEWPPaku0lmVdAES5La0TD15Q lmDB5sG4n46Dp18W8U6/HEv/JBsPDJojCPs5ZlhNOSSFJOHn06Iy1pR+iBPmMceTvPxPWkfab9Q Ge4pXAY1OH6gwRQtVTcSLT3k5tp6Ug== X-Google-Smtp-Source: AGHT+IFHsSa9t4eYPAjrJG/plnRCHcFHBgnoOuK3gYcWSt8SqxQ6KZ8FMT/PMy4vi5Gow3Onktm5qKET3Uxd X-Received: by 2002:a17:903:1c7:b0:215:431f:268f with SMTP id d9443c01a7336-220bbab3403mr112837345ad.10.1739433058291; Wed, 12 Feb 2025 23:50:58 -0800 (PST) Received: from postal.iol.unh.edu (postal.iol.unh.edu. [132.177.123.84]) by smtp-relay.gmail.com with ESMTPS id d9443c01a7336-220d532641esm456855ad.69.2025.02.12.23.50.58 (version=TLS1_2 cipher=ECDHE-ECDSA-AES128-GCM-SHA256 bits=128/128); Wed, 12 Feb 2025 23:50:58 -0800 (PST) X-Relaying-Domain: iol.unh.edu Date: Wed, 12 Feb 2025 23:50:58 -0800 (PST) Message-ID: <67ada462.170a0220.192120.2668SMTPIN_ADDED_MISSING@mx.google.com> Received: from [172.21.0.10] (unknown [172.18.0.240]) by postal.iol.unh.edu (Postfix) with ESMTP id 67CDB6052471; Thu, 13 Feb 2025 02:50:57 -0500 (EST) Subject: |SUCCESS| pw151445-151446 [PATCH] [v2,2/2] net/intel: add Tx time qu From: dpdklab@iol.unh.edu To: Test Report Cc: dpdk-test-reports@iol.unh.edu In-Reply-To: <20250212214711.1046777-3-soumyadeep.hore@intel.com> References: <20250212214711.1046777-3-soumyadeep.hore@intel.com> Content-Type: text/plain X-BeenThere: test-report@dpdk.org X-Mailman-Version: 2.1.29 Precedence: list List-Id: automatic DPDK test reports List-Unsubscribe: , List-Archive: List-Post: List-Help: List-Subscribe: , Errors-To: test-report-bounces@dpdk.org Test-Label: iol-compile-amd64-testing Test-Status: SUCCESS http://dpdk.org/patch/151446 _Testing PASS_ Submitter: Soumyadeep Hore Date: Wednesday, February 12 2025 21:47:11 DPDK git baseline: Repo:dpdk Branch: master CommitID:c2b6f3e7212dc32603304a6bb41b0e8f081761a5 151445-151446 --> testing pass Upstream job id: Generic-VM-DPDK-Compile-Meson#33268 Test environment and result as below: +---------------------+--------------------+-------------------+ | Environment | dpdk_meson_compile | dpdk_msvc_compile | +=====================+====================+===================+ | FreeBSD 13.4 | PASS | SKIPPED | +---------------------+--------------------+-------------------+ | FreeBSD 14.2 | PASS | SKIPPED | +---------------------+--------------------+-------------------+ | Windows Server 2022 | SKIPPED | PASS | +---------------------+--------------------+-------------------+ FreeBSD 13.4 Kernel: 13.4-RELEASE-p1 Compiler: clang 18.1.6 FreeBSD 14.2 Kernel: 14.2-RELEASE Compiler: clang 18.1.6 Windows Server 2022 Kernel: 10.0.20348.2031 Compiler: clang 15.0.7, gcc 14.1.0 (MinGW), and MSVC VS 19.39.33521 To view detailed results, visit: https://lab.dpdk.org/results/dashboard/patchsets/32570/ UNH-IOL DPDK Community Lab To manage your email subscriptions, visit: https://lab.dpdk.org/results/dashboard/preferences/subscriptions/