From mboxrd@z Thu Jan 1 00:00:00 1970 Return-Path: Received: from mails.dpdk.org (mails.dpdk.org [217.70.189.124]) by inbox.dpdk.org (Postfix) with ESMTP id 0F2214620F for ; Thu, 13 Feb 2025 08:51:46 +0100 (CET) Received: from mails.dpdk.org (localhost [127.0.0.1]) by mails.dpdk.org (Postfix) with ESMTP id 0ABBB402A3; Thu, 13 Feb 2025 08:51:46 +0100 (CET) Received: from mail-pl1-f225.google.com (mail-pl1-f225.google.com [209.85.214.225]) by mails.dpdk.org (Postfix) with ESMTP id 9C61F4028C for ; Thu, 13 Feb 2025 08:51:44 +0100 (CET) Received: by mail-pl1-f225.google.com with SMTP id d9443c01a7336-21f5660c2fdso10350785ad.2 for ; Wed, 12 Feb 2025 23:51:44 -0800 (PST) DKIM-Signature: v=1; a=rsa-sha256; c=relaxed/relaxed; d=iol.unh.edu; s=unh-iol; t=1739433104; x=1740037904; darn=dpdk.org; h=cc:to:from:subject:message-id:date:from:to:cc:subject:date :message-id:reply-to; bh=wZD8uNKrUUrR53Letg+dZgI8o6NYktOMUb8YiyXFMIM=; b=iFoygOCtLDkqJwefTl7aX8O81XPNG+9y/x5vNMuO3q3otvtkjzLhq/9tYP5Xwm9r0k EryjTP8F4oTUiP85P9Ldz8q9VEPMAaRSv5MV5IW5F+Mpjig2+lAwaWQi30P2MIWcq34v jXrOrjhpVS88c41H1paFZnoSvSWR28H2okCUQ= X-Google-DKIM-Signature: v=1; a=rsa-sha256; c=relaxed/relaxed; d=1e100.net; s=20230601; t=1739433104; x=1740037904; h=cc:to:from:subject:message-id:date:x-gm-message-state:from:to:cc :subject:date:message-id:reply-to; bh=wZD8uNKrUUrR53Letg+dZgI8o6NYktOMUb8YiyXFMIM=; b=jmmrOM4nch89L2ZGluQhiJd+eW0hNWckwHrbgmg6I8mafitm04T29Z6SSk7oBYtCRp jnlHBTCQMovZqbSCB3guOeYDfTK19CNf1P+Tk+OP7So6U3tnERlv5oAsA0WLXebSlIlq wolbeYXn9lEC2zBUe/PxhlZN4s0LT2vZoNRblunVxpmiqf9F33/9gYHtpnxhnM3CKV14 rVueRazskXsPhG7kAxHN4DIUEeV0DFBPlwWLhY4Asf7NDcmVJKxMNpQdIPTBdPLadh4R SyG4Z/w+2wih670A0eE2/kFWJGcLKSVkx++uEXEC41u9gMTT3IuIMK0VHgZ/Bx2JCJcf 7xLA== X-Gm-Message-State: AOJu0YyLs82/snKE1lcEpiirBUBeABI/VlliMDIxiHnoBfB9eD9bDtJi rPhVx+hhAo7iuSpxshYFkXNCufhPm4O3rt3u+t6dcBKIJklfhReCHamDrhLLpyo5eNoT9Nz41cb jwQ89Focqw1elRT0JNwfE/qGNG0lkyT1VqOVObV8/sWMDXUOb X-Gm-Gg: ASbGncvLZY9wkmaZcPwPJpRDCeWF+t1TFQb7wZ85xbLzexSCj259KbFloiGl8Yk9quW eDQLBMvnpQR6CxoUuSG8Cyq7yNVJ55qGqQhAzWijCUT8DOCe9KCJGp7oxpDjU34oxdoRVkDy4MV ZWsEr/ZABBufhUG7UBdJTGoQp5t9J73VymEdelWTxOvnX9+l98JOcI7E9JFsq0g4lMTcE82VmWd lrtEqMnDYk2CNpCGR40C+7IwoAgdC5525kelvwy3X0m72psOXaqGuR3tc0NcBCDrqZ6/czbU1hO ostzGosPqcbysRTTxEHE6kViJAgzsNKhTBZb752zuQ== X-Google-Smtp-Source: AGHT+IHJygmv+b3gQEBTmJSsFmn87yWmO2J0IOzmoZdNBd17m9ZSL1dHHVOWqb3XHEIX7MTg6nsXIHf23qUa X-Received: by 2002:a05:6a00:1905:b0:730:949d:2d36 with SMTP id d2e1a72fcca58-7323c1e3960mr3379942b3a.18.1739433103768; Wed, 12 Feb 2025 23:51:43 -0800 (PST) Received: from postal.iol.unh.edu (postal.iol.unh.edu. [2606:4100:3880:1234::84]) by smtp-relay.gmail.com with ESMTPS id d2e1a72fcca58-73242546874sm50512b3a.1.2025.02.12.23.51.43 (version=TLS1_2 cipher=ECDHE-ECDSA-AES128-GCM-SHA256 bits=128/128); Wed, 12 Feb 2025 23:51:43 -0800 (PST) X-Relaying-Domain: iol.unh.edu Date: Wed, 12 Feb 2025 23:51:43 -0800 (PST) Message-ID: <67ada48f.050a0220.1313ae.2985SMTPIN_ADDED_MISSING@mx.google.com> Received: from [172.21.0.7] (unknown [172.18.0.240]) by postal.iol.unh.edu (Postfix) with ESMTP id 956D46052471; Thu, 13 Feb 2025 02:51:42 -0500 (EST) Subject: |SUCCESS| [GIT MASTER] 7ce7d3341d7e21c2a81f2fea8e451681d7306d77 From: dpdklab@iol.unh.edu To: Test Report Cc: dpdk-test-reports@iol.unh.edu, Xueming Li , Christian Ehrhardt , Kevin Traynor , Luca Boccassi Content-Type: text/plain X-BeenThere: test-report@dpdk.org X-Mailman-Version: 2.1.29 Precedence: list List-Id: automatic DPDK test reports List-Unsubscribe: , List-Archive: List-Post: List-Help: List-Subscribe: , Errors-To: test-report-bounces@dpdk.org _Testing PASS_ Branch: tags/v22.11 7ce7d3341d7e21c2a81f2fea8e451681d7306d77 --> testing pass Upstream job id: Generic-Unit-Test-DPDK#314480 Test environment and result as below: +-----------------------------+----------------+---------------------------+------------------------------+--------------+ | Environment | dpdk_unit_test | cryptodev_sw_zuc_autotest | cryptodev_sw_snow3g_autotest | lpm_autotest | +=============================+================+===========================+==============================+==============+ | 32-bit Ubuntu 22.04.4 (ARM) | PASS | SKIPPED | SKIPPED | SKIPPED | +-----------------------------+----------------+---------------------------+------------------------------+--------------+ | Debian 12 (arm) | SKIPPED | PASS | PASS | SKIPPED | +-----------------------------+----------------+---------------------------+------------------------------+--------------+ | Ubuntu 20.04 ARM SVE | SKIPPED | SKIPPED | SKIPPED | PASS | +-----------------------------+----------------+---------------------------+------------------------------+--------------+ 32-bit Ubuntu 22.04.4 (ARM) Kernel: 5.15.83+ aarch64 Compiler: gcc (Ubuntu 11.4.0-1ubuntu1~22.04) 11.4.0 Debian 12 (arm) Kernel: Depends on container host Compiler: gcc (Debian 12.2.0-14) 12.2.0 Ubuntu 20.04 ARM SVE Kernel: Depends on container host Compiler: gcc (Ubuntu 10.5.0-1ubuntu1~20.04) 10.5.0 To view detailed results, visit: https://lab.dpdk.org/results/dashboard/tarballs/32559/ UNH-IOL DPDK Community Lab To manage your email subscriptions, visit: https://lab.dpdk.org/results/dashboard/preferences/subscriptions/