From mboxrd@z Thu Jan 1 00:00:00 1970 Return-Path: Received: from mails.dpdk.org (mails.dpdk.org [217.70.189.124]) by inbox.dpdk.org (Postfix) with ESMTP id E00124620F for ; Thu, 13 Feb 2025 09:07:27 +0100 (CET) Received: from mails.dpdk.org (localhost [127.0.0.1]) by mails.dpdk.org (Postfix) with ESMTP id D5D18402A3; Thu, 13 Feb 2025 09:07:27 +0100 (CET) Received: from mail-pj1-f97.google.com (mail-pj1-f97.google.com [209.85.216.97]) by mails.dpdk.org (Postfix) with ESMTP id 11DCA4028C for ; Thu, 13 Feb 2025 09:07:26 +0100 (CET) Received: by mail-pj1-f97.google.com with SMTP id 98e67ed59e1d1-2fbffe0254fso1200426a91.3 for ; Thu, 13 Feb 2025 00:07:25 -0800 (PST) DKIM-Signature: v=1; a=rsa-sha256; c=relaxed/relaxed; d=iol.unh.edu; s=unh-iol; t=1739434045; x=1740038845; darn=dpdk.org; h=cc:to:from:subject:message-id:date:from:to:cc:subject:date :message-id:reply-to; bh=B/6ehmtw7muz975xUI6Q2Eh9K+9CcGDA9MQhZbEh6VM=; b=GrTbtw+KetwlQRnHiO5S/T0IWDSo85pjYmZa84QUbb8h7lr/pZygPNLJjMZOSKYar0 5Bl1xGYkeRMB10rnmTuF8aN5kGAOc01BISqS6cC01fCXPgvKRd0jTQ6Q1l5GhY+mNxGp twm8z/j9JULhM6ES8SgGOVlnS6cvdPvlG60Sk= X-Google-DKIM-Signature: v=1; a=rsa-sha256; c=relaxed/relaxed; d=1e100.net; s=20230601; t=1739434045; x=1740038845; h=cc:to:from:subject:message-id:date:x-gm-message-state:from:to:cc :subject:date:message-id:reply-to; bh=B/6ehmtw7muz975xUI6Q2Eh9K+9CcGDA9MQhZbEh6VM=; b=oqA14/n7qjAJfdDVvLI94lBkSbLQuhw1EtGdid3tOaokyIhnmRUwsewnHombx0pqmH XeV2SafRIi/78i38dDr4BpNbapg/54h+axJ6UlScKGhzqx+oiWgJaB23Nhj9BPOmNAUH pR/7Y1m3LW/+1AJn5CV1X6bnQvyn6RSibM/pf8D3BseRgIaRSE2DN/UQpH6SgMXRNbj6 x2jan94UvG0g0V7ecIFRUozcal/crwcrT9mEKFQbt0Fr1JEwQ3psK1Z5YlHyjXWPBiMp glNiMSrvPe45Q/1Hbh5aZ6n+p+AF9op1ksfeNFjSKCSTa5orqtDl5HNCkGP1MEn6+R9I t69g== X-Gm-Message-State: AOJu0Yw0rxHaBz2co7rCtw1Gp9l3RXr68muo7VZAKlY45MZIwNkS2YS6 A2qqhxTvGt/j+saebT/1voc6yk2l5ISa342YWrzN1kbPRafO+qswxVQXMOJsqG0/4/hKht+YK+7 sDUiOkMQ1T+Eb2vPgd3jco7vHCULpQ9bFLTClfRPtl9c0HieA X-Gm-Gg: ASbGnct6TcfhbexHTSqH/5CNDhfarRIcuw2zKiikxO6UkjUhavuH9ra+dqluz4WU4r/ d0YnLbFI33y0JnAtMRgBsdgicCs6cpaSAM65Cn/idXU9rFQFw2OWDHba0VTJe9bH3fYWcNBrTN9 8AdCy0DeV4C/sP48HofVt/xUofS+rZeufheU6MxxBM6vEYN907HCnHY16ap+E5UfivOqD+vayFm 4dmaAJnDpJTpSVKe/xBCIWDK01dEbVuxfV/NM97O7jkKptN2+l9Okhr1VmM36w8E7QBYOMlIQ0u MhC0ns56J9o5bjjsPxeYVQPBtkhp0MkxwE+KIzPj9A== X-Google-Smtp-Source: AGHT+IGXxz10i7AGZWwbh8uvXlLGB5LivCWuR+bZEt8wri2hOXxZSuIfuIeoGwXc9buWCXSlyZOtGAHQ7heP X-Received: by 2002:a17:90b:4a10:b0:2ea:5054:6c49 with SMTP id 98e67ed59e1d1-2fbf5ae3f48mr11054117a91.0.1739434045196; Thu, 13 Feb 2025 00:07:25 -0800 (PST) Received: from postal.iol.unh.edu (postal.iol.unh.edu. [2606:4100:3880:1234::84]) by smtp-relay.gmail.com with ESMTPS id 98e67ed59e1d1-2faa5d0caa1sm49351a91.1.2025.02.13.00.07.25 (version=TLS1_2 cipher=ECDHE-ECDSA-AES128-GCM-SHA256 bits=128/128); Thu, 13 Feb 2025 00:07:25 -0800 (PST) X-Relaying-Domain: iol.unh.edu Date: Thu, 13 Feb 2025 00:07:25 -0800 (PST) Message-ID: <67ada83d.170a0220.20682f.285fSMTPIN_ADDED_MISSING@mx.google.com> Received: from [172.21.0.6] (unknown [172.18.0.240]) by postal.iol.unh.edu (Postfix) with ESMTP id 568856052471; Thu, 13 Feb 2025 03:07:24 -0500 (EST) Subject: |SUCCESS| [GIT MASTER] f2eea2f37a82bb73fb01d56350708f7d70e21379 From: dpdklab@iol.unh.edu To: Test Report Cc: dpdk-test-reports@iol.unh.edu, Xueming Li , Christian Ehrhardt , Kevin Traynor , Luca Boccassi Content-Type: text/plain X-BeenThere: test-report@dpdk.org X-Mailman-Version: 2.1.29 Precedence: list List-Id: automatic DPDK test reports List-Unsubscribe: , List-Archive: List-Post: List-Help: List-Subscribe: , Errors-To: test-report-bounces@dpdk.org _Testing PASS_ Branch: tags/v24.11 f2eea2f37a82bb73fb01d56350708f7d70e21379 --> testing pass Upstream job id: Generic-Unit-Test-DPDK#314494 Test environment and result as below: +-----------------------------+----------------+------------------------------+--------------+---------------------------+ | Environment | dpdk_unit_test | cryptodev_sw_snow3g_autotest | lpm_autotest | cryptodev_sw_zuc_autotest | +=============================+================+==============================+==============+===========================+ | 32-bit Ubuntu 22.04.4 (ARM) | PASS | SKIPPED | SKIPPED | SKIPPED | +-----------------------------+----------------+------------------------------+--------------+---------------------------+ | Debian 11 (Buster) (ARM) | PASS | SKIPPED | SKIPPED | SKIPPED | +-----------------------------+----------------+------------------------------+--------------+---------------------------+ | Fedora 40 (ARM) | PASS | SKIPPED | SKIPPED | SKIPPED | +-----------------------------+----------------+------------------------------+--------------+---------------------------+ | CentOS Stream 10 (ARM) | PASS | SKIPPED | SKIPPED | SKIPPED | +-----------------------------+----------------+------------------------------+--------------+---------------------------+ | Debian 12 (arm) | PASS | PASS | SKIPPED | PASS | +-----------------------------+----------------+------------------------------+--------------+---------------------------+ | CentOS Stream 9 (ARM) | PASS | SKIPPED | SKIPPED | SKIPPED | +-----------------------------+----------------+------------------------------+--------------+---------------------------+ | RHEL9 (ARM) | PASS | SKIPPED | SKIPPED | SKIPPED | +-----------------------------+----------------+------------------------------+--------------+---------------------------+ | Fedora 41 (ARM) | PASS | SKIPPED | SKIPPED | SKIPPED | +-----------------------------+----------------+------------------------------+--------------+---------------------------+ | Fedora 41 (ARM Clang) | PASS | SKIPPED | SKIPPED | SKIPPED | +-----------------------------+----------------+------------------------------+--------------+---------------------------+ | Fedora 40 (ARM Clang) | PASS | SKIPPED | SKIPPED | SKIPPED | +-----------------------------+----------------+------------------------------+--------------+---------------------------+ | Ubuntu 20.04 (ARM) | PASS | SKIPPED | SKIPPED | SKIPPED | +-----------------------------+----------------+------------------------------+--------------+---------------------------+ | Ubuntu 24.04 (ARM) | PASS | SKIPPED | SKIPPED | SKIPPED | +-----------------------------+----------------+------------------------------+--------------+---------------------------+ | Ubuntu 22.04 (ARM) | PASS | SKIPPED | SKIPPED | SKIPPED | +-----------------------------+----------------+------------------------------+--------------+---------------------------+ | Ubuntu 20.04 ARM SVE | SKIPPED | SKIPPED | PASS | SKIPPED | +-----------------------------+----------------+------------------------------+--------------+---------------------------+ 32-bit Ubuntu 22.04.4 (ARM) Kernel: 5.15.83+ aarch64 Compiler: gcc (Ubuntu 11.4.0-1ubuntu1~22.04) 11.4.0 Debian 11 (Buster) (ARM) Kernel: Depends on container host Compiler: gcc (Debian 10.2.1-6) 10.2.1 20210110 Fedora 40 (ARM) Kernel: Depends on container host Compiler: gcc 14.2.1 20240912 (Red Hat 14.2.1-3) CentOS Stream 10 (ARM) Kernel: Depends on container host Compiler: gcc 14.2.1 20241104 (Red Hat 14.2.1-6) Debian 12 (arm) Kernel: Depends on container host Compiler: gcc (Debian 12.2.0-14) 12.2.0 CentOS Stream 9 (ARM) Kernel: Depends on container host Compiler: gcc 11.5.0 20240719 (Red Hat 11.5.0-2) RHEL9 (ARM) Kernel: Depends on container host Compiler: gcc 11.5.0 20240719 (Red Hat 11.5.0-2) Fedora 41 (ARM) Kernel: Depends on container host Compiler: gcc 14.2.1 20240912 (Red Hat 14.2.1-3) Fedora 41 (ARM Clang) Kernel: Depends on container host Compiler: clang 19.1.5 (Fedora 19.1.5-1.fc41) Fedora 40 (ARM Clang) Kernel: Depends on container host Compiler: clang 18.1.8 (Fedora 18.1.8-1.fc40) Ubuntu 20.04 (ARM) Kernel: Depends on container host Compiler: gcc (Ubuntu 9.4.0-1ubuntu1~20.04.2) 9.4.0 Ubuntu 24.04 (ARM) Kernel: Depends on container host Compiler: gcc (Ubuntu 13.3.0-6ubuntu2~24.04) 13.3.0 Ubuntu 22.04 (ARM) Kernel: Depends on container host Compiler: gcc (Ubuntu 11.4.0-1ubuntu1~22.04) 11.4.0 Ubuntu 20.04 ARM SVE Kernel: Depends on container host Compiler: gcc (Ubuntu 10.5.0-1ubuntu1~20.04) 10.5.0 To view detailed results, visit: https://lab.dpdk.org/results/dashboard/tarballs/32557/ UNH-IOL DPDK Community Lab To manage your email subscriptions, visit: https://lab.dpdk.org/results/dashboard/preferences/subscriptions/