From mboxrd@z Thu Jan 1 00:00:00 1970 Return-Path: Received: from mails.dpdk.org (mails.dpdk.org [217.70.189.124]) by inbox.dpdk.org (Postfix) with ESMTP id 88CB74620F for ; Thu, 13 Feb 2025 09:31:49 +0100 (CET) Received: from mails.dpdk.org (localhost [127.0.0.1]) by mails.dpdk.org (Postfix) with ESMTP id 7E8F3402A3; Thu, 13 Feb 2025 09:31:49 +0100 (CET) Received: from mail-il1-f227.google.com (mail-il1-f227.google.com [209.85.166.227]) by mails.dpdk.org (Postfix) with ESMTP id EDAFB4028C for ; Thu, 13 Feb 2025 09:31:48 +0100 (CET) Received: by mail-il1-f227.google.com with SMTP id e9e14a558f8ab-3d18f97e98aso3355455ab.3 for ; Thu, 13 Feb 2025 00:31:48 -0800 (PST) DKIM-Signature: v=1; a=rsa-sha256; c=relaxed/relaxed; d=iol.unh.edu; s=unh-iol; t=1739435508; x=1740040308; darn=dpdk.org; h=cc:to:from:subject:message-id:date:from:to:cc:subject:date :message-id:reply-to; bh=MSOdHti3FzpXIOsplWmBYdgPRHXn4GChuhrGUIXMvsI=; b=ERJgghnhDvxOUH7ix7ENAXZGoHQULzcYhtElVNJXw6jmcJosDvurfMGHNpU195nBAS X6D7exoo2pRWOa818JFxl/jJtYAP0KOoPoW4KeG8NikXZ40N/Q9gL+mdLhjuO80rfBR5 nHllVTqj9rMGJGasEf7OtcIOHEiRBhJc2pfpw= X-Google-DKIM-Signature: v=1; a=rsa-sha256; c=relaxed/relaxed; d=1e100.net; s=20230601; t=1739435508; x=1740040308; h=cc:to:from:subject:message-id:date:x-gm-message-state:from:to:cc :subject:date:message-id:reply-to; bh=MSOdHti3FzpXIOsplWmBYdgPRHXn4GChuhrGUIXMvsI=; b=kGnwM1Vzs1f8np0i9flsJsDXlxzXni9IMDRk9zu6wvhIKPO4pwPo5f/+fejEDEv+l8 oFqnlTKCluWNvfRVVBBMdUDtGpB3BKy+2r5x+M0KXhBpulMAQ2nJuBhWcwNwtuq56bao JadtMqnZDqEr04xVKSFyPuvuxdMFkvkabfCzOAM6lOUFLTKj6PfE/F/U/51dhhxAi3QC f6C2Y3e4H1T40jeiMW6Sf9APsQg/Wc9jPsbrQiChTpcHw+Kb8FLOlgaQNtFSOjmQcqtn nqNvwdc7sxNKz2WH3G2V4gzTlivsl4RrdWq7N4nzsp8KlaMeo5Becp5dBYCnc4cJgXAo j9yg== X-Gm-Message-State: AOJu0Yw51dPs91j4sM3WP01YOjpVG6kGAUIxjSuOIKnIG/4woKiYGP/7 cDBjmug7iK1x0UWMgRyo9GY1bbMQClObYTBkS1ESKg7LQaFyzwdBYY90UbNnYx+gG2aKbrUUE2W j7Xxyb+ISOGHyAh0xbNxUpDI7RM1WIoOa X-Gm-Gg: ASbGncse+lvTdcVJ9akIO4FKuDuEMCk8HXfd3jnaTxjY3YYHg46/nIn49G+/3JaR/J0 3FSDeQJsRi/rHz+gLy4du+ZTq3LUJWRJu85IDsp5NiIqaVPERGkKped+gZfSpAc8Q7Z0doIkZW5 kg7vhQsifrfuL3N6E5kQpOs7sudMDox1nrZjOyHpFEAkkmd6OQOmx28EytBqn0eeWcEuA5SKI+G uxIjqu2rwkZQ3x+Up3nwDS1rEwskNgPyonG3Hux5hcVdCBM+yXgKrkwUesUWpRdRi/MXJhuPLTC KJ06DjbF4IEnjsivcu/t5Ezp75vZdg== X-Google-Smtp-Source: AGHT+IHe54nc9PUzb6pQiS+aKnjSJTsa1nuKjPdvTSRROA3Ueg1cuHn3b4qb4nnOPzuqoeT8f5PQzCQVCEAW X-Received: by 2002:a05:6e02:1a21:b0:3cf:c745:4fa8 with SMTP id e9e14a558f8ab-3d18c2d56b2mr25004915ab.18.1739435508313; Thu, 13 Feb 2025 00:31:48 -0800 (PST) Received: from postal.iol.unh.edu (postal.iol.unh.edu. [132.177.123.84]) by smtp-relay.gmail.com with ESMTPS id 8926c6da1cb9f-4ed281a8125sm51619173.40.2025.02.13.00.31.48 (version=TLS1_2 cipher=ECDHE-ECDSA-AES128-GCM-SHA256 bits=128/128); Thu, 13 Feb 2025 00:31:48 -0800 (PST) X-Relaying-Domain: iol.unh.edu Date: Thu, 13 Feb 2025 00:31:48 -0800 (PST) Message-ID: <67adadf4.050a0220.101dba.2c42SMTPIN_ADDED_MISSING@mx.google.com> Received: from [172.21.0.5] (unknown [172.18.0.240]) by postal.iol.unh.edu (Postfix) with ESMTP id C21D06052471; Thu, 13 Feb 2025 03:31:47 -0500 (EST) Subject: |SUCCESS| [GIT MASTER] f2eea2f37a82bb73fb01d56350708f7d70e21379 From: dpdklab@iol.unh.edu To: Test Report Cc: dpdk-test-reports@iol.unh.edu, Xueming Li , Christian Ehrhardt , Kevin Traynor , Luca Boccassi Content-Type: text/plain X-BeenThere: test-report@dpdk.org X-Mailman-Version: 2.1.29 Precedence: list List-Id: automatic DPDK test reports List-Unsubscribe: , List-Archive: List-Post: List-Help: List-Subscribe: , Errors-To: test-report-bounces@dpdk.org _Testing PASS_ Branch: tags/v24.11 f2eea2f37a82bb73fb01d56350708f7d70e21379 --> testing pass Upstream job id: Generic-Unit-Test-DPDK#314507 Test environment and result as below: +---------------------+----------------+ | Environment | dpdk_unit_test | +=====================+================+ | Debian 12 | PASS | +---------------------+----------------+ | Debian Bullseye | PASS | +---------------------+----------------+ | Fedora 40 | PASS | +---------------------+----------------+ | Fedora 40 (Clang) | PASS | +---------------------+----------------+ | CentOS Stream 9 | PASS | +---------------------+----------------+ | CentOS Stream 10 | PASS | +---------------------+----------------+ | Fedora 41 | PASS | +---------------------+----------------+ | Ubuntu 20.04 | PASS | +---------------------+----------------+ | RHEL9 | PASS | +---------------------+----------------+ | Fedora 41 (Clang) | PASS | +---------------------+----------------+ | RHEL8 | PASS | +---------------------+----------------+ | Ubuntu 22.04 | PASS | +---------------------+----------------+ | Ubuntu 24.04 | PASS | +---------------------+----------------+ | Windows Server 2022 | PASS | +---------------------+----------------+ Debian 12 Kernel: Depends on container host Compiler: gcc (Debian 12.2.0-14) 12.2.0 Debian Bullseye Kernel: Depends on container host Compiler: gcc (Debian 10.2.1-6) 10.2.1 20210110 Fedora 40 Kernel: Depends on container host Compiler: gcc 14.2.1 20240912 (Red Hat 14.2.1-3) Fedora 40 (Clang) Kernel: Depends on container host Compiler: clang 18.1.8 (Fedora 18.1.8-1.fc40) CentOS Stream 9 Kernel: Depends on container host Compiler: gcc 11.5.0 20240719 (Red Hat 11.5.0-2) CentOS Stream 10 Kernel: Depends on container host Compiler: gcc 14.2.1 20241104 (Red Hat 14.2.1-6) Fedora 41 Kernel: Depends on container host Compiler: gcc 14.2.1 20240912 (Red Hat 14.2.1-3) Ubuntu 20.04 Kernel: Depends on container host Compiler: gcc (Ubuntu 9.4.0-1ubuntu1~20.04.2) 9.4.0 RHEL9 Kernel: Depends on container host Compiler: gcc 11.5.0 20240719 (Red Hat 11.5.0-2) Fedora 41 (Clang) Kernel: Depends on container host Compiler: clang 19.1.5 (Fedora 19.1.5-1.fc41) RHEL8 Kernel: Depends on container host Compiler: gcc 8.5.0 20210514 (Red Hat 8.5.0-22) Ubuntu 22.04 Kernel: Depends on container host Compiler: gcc (Ubuntu 11.4.0-1ubuntu1~22.04) 11.4.0 Ubuntu 24.04 Kernel: Depends on container host Compiler: gcc (Ubuntu 13.3.0-6ubuntu2~24.04) 13.3.0 Windows Server 2022 Kernel: 10.0.20348.2031 Compiler: clang 15.0.7, gcc 14.1.0 (MinGW), and MSVC VS 19.39.33521 To view detailed results, visit: https://lab.dpdk.org/results/dashboard/tarballs/32557/ UNH-IOL DPDK Community Lab To manage your email subscriptions, visit: https://lab.dpdk.org/results/dashboard/preferences/subscriptions/