From mboxrd@z Thu Jan 1 00:00:00 1970 Return-Path: Received: from mails.dpdk.org (mails.dpdk.org [217.70.189.124]) by inbox.dpdk.org (Postfix) with ESMTP id B81654620F for ; Thu, 13 Feb 2025 09:33:03 +0100 (CET) Received: from mails.dpdk.org (localhost [127.0.0.1]) by mails.dpdk.org (Postfix) with ESMTP id B2C97402A3; Thu, 13 Feb 2025 09:33:03 +0100 (CET) Received: from mail-pl1-f226.google.com (mail-pl1-f226.google.com [209.85.214.226]) by mails.dpdk.org (Postfix) with ESMTP id EBE6D4028C for ; Thu, 13 Feb 2025 09:33:02 +0100 (CET) Received: by mail-pl1-f226.google.com with SMTP id d9443c01a7336-220d28c215eso7622525ad.1 for ; Thu, 13 Feb 2025 00:33:02 -0800 (PST) DKIM-Signature: v=1; a=rsa-sha256; c=relaxed/relaxed; d=iol.unh.edu; s=unh-iol; t=1739435582; x=1740040382; darn=dpdk.org; h=cc:to:from:subject:message-id:date:from:to:cc:subject:date :message-id:reply-to; bh=UeEvdook56LV/Iql4fPaK51+jBEvK1h8KOrYQ/COMCo=; b=d2KuI0K3qiRIA87hH60Stak9nt55KCw5BgVQ3uzHHDvEO6BgBQp1xjnuWjJSjUfSax UkNSjbGHregznwXTR//B0rDKLrwHoJ2THJYFMSqAh/ymN8VObyE/e65MSTl4dI1yiH/u JQ0b88daDXYNJsPRLvuKJjLuRa/lke6Dkgd9s= X-Google-DKIM-Signature: v=1; a=rsa-sha256; c=relaxed/relaxed; d=1e100.net; s=20230601; t=1739435582; x=1740040382; h=cc:to:from:subject:message-id:date:x-gm-message-state:from:to:cc :subject:date:message-id:reply-to; bh=UeEvdook56LV/Iql4fPaK51+jBEvK1h8KOrYQ/COMCo=; b=jX1uAYC0jm1rY4fBVtcHwDas0irTtOFinsfYXBD68hSBJbsslQuFgW1w0R4ya0d8je 19akCXkTyACXRH8zq+HToNpGrn+4U4uFzPhJGMkcYpfnTrIbeJT4Uegi1/6kyn7ZBq/r cdUS45lUYg6tB3GY6OH236cRS84O54L4YoZbSnX+XQ9fTUuaTiDGq/Y1bmVrhEKYcMJG qiJFhGPH/GN+hYnsNuQOYIIQGbc84dY2UsOd4o83+4OOIoAQn47LAvo8UVug5OegvlJv onbkHQ5NpAbB5i6NHkNVOYf4jX0PFM0EjXpkQMIuGMgqVrDa6cSPDbFzil91IEI9CAfm pAnA== X-Gm-Message-State: AOJu0YxtvyvBwQcjf7bOttg+FMY0BVzIqxCwpI9PwSWfm0nsn9BdCUUl olDiEfFollXQJ7AJXJMGOpYsZRI3wisnNPnnoDOzIEDkHKbSikBPNm0l+wLCwRG/Rx/A55qJ/OL dmUMZMWy2DTztjzVh6eIdqk4PigZCbQYw X-Gm-Gg: ASbGncsClSAvGSEpZdB8z7sW7YTHrH1zGQ1HgTW3mN8NM+cmXFeq01zocBWEvEe/q9y dFZfZg4mBdS8TBXkdu/O7219yJWgfT5OO957nhXJ5MckKqeMpk3TaitDbUMCiiaS9wRCKUCFvUG vgN9PMdcMRlF+4c84nyzkrP+MCh95lSElSNeXmRDyovvb48DRCqWSCKLOfgkR0oXXJVqitqpKQc 2kOL+fajwfuBMUzyt8Jke/SHCuV+skk4glhOE8Obf2l9CL9dQ/RcDqxcEuITFwcAyGmg1AXnfNT 2KdDmxVg/POOZFg27VjPzkRPxk/KLA== X-Google-Smtp-Source: AGHT+IFGhKy6H1f/penAzvseO0Gb7wYTlghm852AFchU7/khsQlvwMiNKL+ApjcSPzVkX1pqRA0dofa5pmPA X-Received: by 2002:a17:902:d485:b0:215:522d:72d6 with SMTP id d9443c01a7336-220d213ee2emr42635785ad.38.1739435581068; Thu, 13 Feb 2025 00:33:01 -0800 (PST) Received: from postal.iol.unh.edu (postal.iol.unh.edu. [132.177.123.84]) by smtp-relay.gmail.com with ESMTPS id d9443c01a7336-220d5326206sm441735ad.63.2025.02.13.00.33.00 (version=TLS1_2 cipher=ECDHE-ECDSA-AES128-GCM-SHA256 bits=128/128); Thu, 13 Feb 2025 00:33:01 -0800 (PST) X-Relaying-Domain: iol.unh.edu Date: Thu, 13 Feb 2025 00:33:01 -0800 (PST) Message-ID: <67adae3d.170a0220.2ceac5.2bbaSMTPIN_ADDED_MISSING@mx.google.com> Received: from [172.21.0.7] (unknown [172.18.0.240]) by postal.iol.unh.edu (Postfix) with ESMTP id 34B006052471; Thu, 13 Feb 2025 03:33:00 -0500 (EST) Subject: |SUCCESS| [GIT MASTER] 7ce7d3341d7e21c2a81f2fea8e451681d7306d77 From: dpdklab@iol.unh.edu To: Test Report Cc: dpdk-test-reports@iol.unh.edu, Xueming Li , Christian Ehrhardt , Kevin Traynor , Luca Boccassi Content-Type: text/plain X-BeenThere: test-report@dpdk.org X-Mailman-Version: 2.1.29 Precedence: list List-Id: automatic DPDK test reports List-Unsubscribe: , List-Archive: List-Post: List-Help: List-Subscribe: , Errors-To: test-report-bounces@dpdk.org _Testing PASS_ Branch: tags/v22.11 7ce7d3341d7e21c2a81f2fea8e451681d7306d77 --> testing pass Upstream job id: Generic-DPDK-Compile-Meson#361095 Test environment and result as below: +------------------------------------+--------------------+ | Environment | dpdk_meson_compile | +====================================+====================+ | RHEL9 (ARM) | PASS | +------------------------------------+--------------------+ | Ubuntu 20.04 ARM GCC Cross Compile | PASS | +------------------------------------+--------------------+ | Ubuntu 20.04 ARM SVE | PASS | +------------------------------------+--------------------+ | Debian 12 with MUSDK | PASS | +------------------------------------+--------------------+ | Fedora 40 (ARM Clang) | PASS | +------------------------------------+--------------------+ | Fedora 40 (ARM) | PASS | +------------------------------------+--------------------+ | Fedora 41 (ARM Clang) | PASS | +------------------------------------+--------------------+ | Fedora 41 (ARM) | PASS | +------------------------------------+--------------------+ | Ubuntu 24.04 (ARM) | PASS | +------------------------------------+--------------------+ | Ubuntu 20.04 (ARM) | PASS | +------------------------------------+--------------------+ | Ubuntu 22.04 (ARM) | PASS | +------------------------------------+--------------------+ | Debian 11 (Buster) (ARM) | PASS | +------------------------------------+--------------------+ | CentOS Stream 9 (ARM) | PASS | +------------------------------------+--------------------+ | CentOS Stream 10 (ARM) | PASS | +------------------------------------+--------------------+ | Debian 12 (arm) | PASS | +------------------------------------+--------------------+ RHEL9 (ARM) Kernel: Depends on container host Compiler: gcc 11.5.0 20240719 (Red Hat 11.5.0-2) Ubuntu 20.04 ARM GCC Cross Compile Kernel: Depends on container host Compiler: aarch64-linux-gnu-gcc (Ubuntu 9.4.0-1ubuntu1~20.04.2) 9.4.0 Ubuntu 20.04 ARM SVE Kernel: Depends on container host Compiler: gcc (Ubuntu 10.5.0-1ubuntu1~20.04) 10.5.0 Debian 12 with MUSDK Kernel: Depends on container host Compiler: gcc (Debian 12.2.0-14) 12.2.0 Fedora 40 (ARM Clang) Kernel: Depends on container host Compiler: clang 18.1.8 (Fedora 18.1.8-1.fc40) Fedora 40 (ARM) Kernel: Depends on container host Compiler: gcc 14.2.1 20240912 (Red Hat 14.2.1-3) Fedora 41 (ARM Clang) Kernel: Depends on container host Compiler: clang 19.1.5 (Fedora 19.1.5-1.fc41) Fedora 41 (ARM) Kernel: Depends on container host Compiler: gcc 14.2.1 20240912 (Red Hat 14.2.1-3) Ubuntu 24.04 (ARM) Kernel: Depends on container host Compiler: gcc (Ubuntu 13.3.0-6ubuntu2~24.04) 13.3.0 Ubuntu 20.04 (ARM) Kernel: Depends on container host Compiler: gcc (Ubuntu 9.4.0-1ubuntu1~20.04.2) 9.4.0 Ubuntu 22.04 (ARM) Kernel: Depends on container host Compiler: gcc (Ubuntu 11.4.0-1ubuntu1~22.04) 11.4.0 Debian 11 (Buster) (ARM) Kernel: Depends on container host Compiler: gcc (Debian 10.2.1-6) 10.2.1 20210110 CentOS Stream 9 (ARM) Kernel: Depends on container host Compiler: gcc 11.5.0 20240719 (Red Hat 11.5.0-2) CentOS Stream 10 (ARM) Kernel: Depends on container host Compiler: gcc 14.2.1 20241104 (Red Hat 14.2.1-6) Debian 12 (arm) Kernel: Depends on container host Compiler: gcc (Debian 12.2.0-14) 12.2.0 To view detailed results, visit: https://lab.dpdk.org/results/dashboard/tarballs/32559/ UNH-IOL DPDK Community Lab To manage your email subscriptions, visit: https://lab.dpdk.org/results/dashboard/preferences/subscriptions/