From mboxrd@z Thu Jan 1 00:00:00 1970 Return-Path: Received: from mails.dpdk.org (mails.dpdk.org [217.70.189.124]) by inbox.dpdk.org (Postfix) with ESMTP id 494B54620F for ; Thu, 13 Feb 2025 09:56:59 +0100 (CET) Received: from mails.dpdk.org (localhost [127.0.0.1]) by mails.dpdk.org (Postfix) with ESMTP id 52EBC402A3; Thu, 13 Feb 2025 09:56:58 +0100 (CET) Received: from mail-qv1-f99.google.com (mail-qv1-f99.google.com [209.85.219.99]) by mails.dpdk.org (Postfix) with ESMTP id 9535D4028C for ; Thu, 13 Feb 2025 09:56:56 +0100 (CET) Received: by mail-qv1-f99.google.com with SMTP id 6a1803df08f44-6e4468b7099so5158616d6.1 for ; Thu, 13 Feb 2025 00:56:56 -0800 (PST) DKIM-Signature: v=1; a=rsa-sha256; c=relaxed/relaxed; d=iol.unh.edu; s=unh-iol; t=1739437016; x=1740041816; darn=dpdk.org; h=cc:to:from:subject:message-id:date:from:to:cc:subject:date :message-id:reply-to; bh=kgHQwP/BFu2zsLUhX57w1vVrBBIf4kSdxtaqG797JLY=; b=UzIBU9nZ6zRI1fmXlBd3sA9BKgdb4WDVHVst6Nc3AfES4GHvvSurPcs7UuJCWynycR 38US3AY43q3O6VGKH0RvxLubPNuYwazzWMqfHYrI8+DsoTUjjbjZOP296FiP2Mq1hG7H MoPBJjxTbNJoxPh+dKMTmW8gxeq2o2LszkU9s= X-Google-DKIM-Signature: v=1; a=rsa-sha256; c=relaxed/relaxed; d=1e100.net; s=20230601; t=1739437016; x=1740041816; h=cc:to:from:subject:message-id:date:x-gm-message-state:from:to:cc :subject:date:message-id:reply-to; bh=kgHQwP/BFu2zsLUhX57w1vVrBBIf4kSdxtaqG797JLY=; b=Kba6alDOVk6Mda/TVpOUaSQytfpioJe0edyFHbFdhlg+GaYMjEMStMdx8e614L/ge1 RblaY7Xl7M57Y/nnR5bXJ7vVhUL+7qXzAXLSHuALyLlkGHaPE5clOA9HuI1j20vSwxjm vxc00hrtxO5MQ59x5eO4WuGKRZx2gYVciwQ4zhdL266he0RywAhJpbGtREFPAnUNXd+9 wWLRt/CFYHOjva8/gvv+kEK0K4yFE9TD8F470JsoBVs/W8jNmYW7q8LN241F67hlWBI8 CoOHV8CvFSnQ0mttmNsrBGfM1GVzYab9tOMToCuJrtlob1gp07Trgj78ToTkXCLQrZUJ 5/Kg== X-Gm-Message-State: AOJu0YwSx3dlj8tQkBrMqGeTTTWLb/BijLRHg0bZVLK+cKlPJPLwAkAK 4Yg6UJEN6+7Rch1z1zcouw0bxlyIRfn6b8fBud70MQ4nf4cqYrED7eORgCy15lx69IDWo9dOch6 5KJgU7j8bXjCRDe8F9E2lY8F0OvUoLcSsA7ONEMjPgZTOT0Nv X-Gm-Gg: ASbGncsSgNuGwPfQXq/bl571hf8fq8fpYS6dcELeGkvd91TAaukPqkXc4tmNtG1gMxI 8vaRyB0xCorixZmckX5GLWtpfHFsFV+fOfS6CVhY+XlmQAyuLGpHUO+ZJvAPdvhxwD6npcS6FOk 5wc3f9GWqiIaTKVO+zUAs8sIvwKnlNJEgT9HlzWLCKgXTFiRZ1loSKf5AhWA1dnvVi0iM5N7XzR 47EMFdjsvq6d3bTNZxGIRSYUKWpmu8Z0XPYhB7mFTJHYqNIqDhJ33oUPVSJv5+Um1B40QIahfzh i69RZGzgQ0lzx8caNKOQyhefNVXDe8wZ7/OyaGNrYQ== X-Google-Smtp-Source: AGHT+IF91oywqN5hisNC9g1h9eoy8kaziRwFSWfI+d8ivkoIrrdeSFXeGwksm6f7D22GbMeaatj8lmFLr9Yh X-Received: by 2002:a05:6214:2424:b0:6e4:3ddc:5d33 with SMTP id 6a1803df08f44-6e65bf2228dmr41530556d6.13.1739437015921; Thu, 13 Feb 2025 00:56:55 -0800 (PST) Received: from postal.iol.unh.edu (postal.iol.unh.edu. [2606:4100:3880:1234::84]) by smtp-relay.gmail.com with ESMTPS id 6a1803df08f44-6e65d7a3929sm474926d6.64.2025.02.13.00.56.55 (version=TLS1_2 cipher=ECDHE-ECDSA-AES128-GCM-SHA256 bits=128/128); Thu, 13 Feb 2025 00:56:55 -0800 (PST) X-Relaying-Domain: iol.unh.edu Date: Thu, 13 Feb 2025 00:56:55 -0800 (PST) Message-ID: <67adb3d7.050a0220.ba19.295bSMTPIN_ADDED_MISSING@mx.google.com> Received: from [172.21.0.5] (unknown [172.18.0.240]) by postal.iol.unh.edu (Postfix) with ESMTP id 960F16052471; Thu, 13 Feb 2025 03:56:55 -0500 (EST) Subject: |SUCCESS| [GIT MASTER] c66daa12e76d7b4912cfb7109a761856a7a873ab From: dpdklab@iol.unh.edu To: Test Report Cc: dpdk-test-reports@iol.unh.edu, Xueming Li , Christian Ehrhardt , Kevin Traynor , Luca Boccassi Content-Type: text/plain X-BeenThere: test-report@dpdk.org X-Mailman-Version: 2.1.29 Precedence: list List-Id: automatic DPDK test reports List-Unsubscribe: , List-Archive: List-Post: List-Help: List-Subscribe: , Errors-To: test-report-bounces@dpdk.org _Testing PASS_ Branch: tags/v23.11 c66daa12e76d7b4912cfb7109a761856a7a873ab --> testing pass Upstream job id: Generic-Unit-Test-DPDK#314511 Test environment and result as below: +-----------------------------+---------------------------+------------------------------+--------------+----------------+ | Environment | cryptodev_sw_zuc_autotest | cryptodev_sw_snow3g_autotest | lpm_autotest | dpdk_unit_test | +=============================+===========================+==============================+==============+================+ | Debian 12 (arm) | PASS | PASS | SKIPPED | PASS | +-----------------------------+---------------------------+------------------------------+--------------+----------------+ | Ubuntu 20.04 ARM SVE | SKIPPED | SKIPPED | PASS | SKIPPED | +-----------------------------+---------------------------+------------------------------+--------------+----------------+ | CentOS Stream 10 (ARM) | SKIPPED | SKIPPED | SKIPPED | PASS | +-----------------------------+---------------------------+------------------------------+--------------+----------------+ | CentOS Stream 9 (ARM) | SKIPPED | SKIPPED | SKIPPED | PASS | +-----------------------------+---------------------------+------------------------------+--------------+----------------+ | Debian 11 (Buster) (ARM) | SKIPPED | SKIPPED | SKIPPED | PASS | +-----------------------------+---------------------------+------------------------------+--------------+----------------+ | Fedora 41 (ARM Clang) | SKIPPED | SKIPPED | SKIPPED | PASS | +-----------------------------+---------------------------+------------------------------+--------------+----------------+ | Fedora 40 (ARM) | SKIPPED | SKIPPED | SKIPPED | PASS | +-----------------------------+---------------------------+------------------------------+--------------+----------------+ | Fedora 40 (ARM Clang) | SKIPPED | SKIPPED | SKIPPED | PASS | +-----------------------------+---------------------------+------------------------------+--------------+----------------+ | Fedora 41 (ARM) | SKIPPED | SKIPPED | SKIPPED | PASS | +-----------------------------+---------------------------+------------------------------+--------------+----------------+ | Ubuntu 24.04 (ARM) | SKIPPED | SKIPPED | SKIPPED | PASS | +-----------------------------+---------------------------+------------------------------+--------------+----------------+ | Ubuntu 20.04 (ARM) | SKIPPED | SKIPPED | SKIPPED | PASS | +-----------------------------+---------------------------+------------------------------+--------------+----------------+ | Ubuntu 22.04 (ARM) | SKIPPED | SKIPPED | SKIPPED | PASS | +-----------------------------+---------------------------+------------------------------+--------------+----------------+ | RHEL9 (ARM) | SKIPPED | SKIPPED | SKIPPED | PASS | +-----------------------------+---------------------------+------------------------------+--------------+----------------+ | 32-bit Ubuntu 22.04.4 (ARM) | SKIPPED | SKIPPED | SKIPPED | PASS | +-----------------------------+---------------------------+------------------------------+--------------+----------------+ Debian 12 (arm) Kernel: Depends on container host Compiler: gcc (Debian 12.2.0-14) 12.2.0 Ubuntu 20.04 ARM SVE Kernel: Depends on container host Compiler: gcc (Ubuntu 10.5.0-1ubuntu1~20.04) 10.5.0 CentOS Stream 10 (ARM) Kernel: Depends on container host Compiler: gcc 14.2.1 20241104 (Red Hat 14.2.1-6) CentOS Stream 9 (ARM) Kernel: Depends on container host Compiler: gcc 11.5.0 20240719 (Red Hat 11.5.0-2) Debian 11 (Buster) (ARM) Kernel: Depends on container host Compiler: gcc (Debian 10.2.1-6) 10.2.1 20210110 Fedora 41 (ARM Clang) Kernel: Depends on container host Compiler: clang 19.1.5 (Fedora 19.1.5-1.fc41) Fedora 40 (ARM) Kernel: Depends on container host Compiler: gcc 14.2.1 20240912 (Red Hat 14.2.1-3) Fedora 40 (ARM Clang) Kernel: Depends on container host Compiler: clang 18.1.8 (Fedora 18.1.8-1.fc40) Fedora 41 (ARM) Kernel: Depends on container host Compiler: gcc 14.2.1 20240912 (Red Hat 14.2.1-3) Ubuntu 24.04 (ARM) Kernel: Depends on container host Compiler: gcc (Ubuntu 13.3.0-6ubuntu2~24.04) 13.3.0 Ubuntu 20.04 (ARM) Kernel: Depends on container host Compiler: gcc (Ubuntu 9.4.0-1ubuntu1~20.04.2) 9.4.0 Ubuntu 22.04 (ARM) Kernel: Depends on container host Compiler: gcc (Ubuntu 11.4.0-1ubuntu1~22.04) 11.4.0 RHEL9 (ARM) Kernel: Depends on container host Compiler: gcc 11.5.0 20240719 (Red Hat 11.5.0-2) 32-bit Ubuntu 22.04.4 (ARM) Kernel: 5.15.83+ aarch64 Compiler: gcc (Ubuntu 11.4.0-1ubuntu1~22.04) 11.4.0 To view detailed results, visit: https://lab.dpdk.org/results/dashboard/tarballs/32558/ UNH-IOL DPDK Community Lab To manage your email subscriptions, visit: https://lab.dpdk.org/results/dashboard/preferences/subscriptions/