From mboxrd@z Thu Jan 1 00:00:00 1970 Return-Path: Received: from mails.dpdk.org (mails.dpdk.org [217.70.189.124]) by inbox.dpdk.org (Postfix) with ESMTP id 2278D46211 for ; Thu, 13 Feb 2025 10:47:50 +0100 (CET) Received: from mails.dpdk.org (localhost [127.0.0.1]) by mails.dpdk.org (Postfix) with ESMTP id EEE9642EA9; Thu, 13 Feb 2025 10:47:49 +0100 (CET) Received: from mail-oa1-f100.google.com (mail-oa1-f100.google.com [209.85.160.100]) by mails.dpdk.org (Postfix) with ESMTP id EA2F640287 for ; Thu, 13 Feb 2025 10:47:48 +0100 (CET) Received: by mail-oa1-f100.google.com with SMTP id 586e51a60fabf-2b86794e3abso362545fac.0 for ; Thu, 13 Feb 2025 01:47:48 -0800 (PST) DKIM-Signature: v=1; a=rsa-sha256; c=relaxed/relaxed; d=iol.unh.edu; s=unh-iol; t=1739440068; x=1740044868; darn=dpdk.org; h=cc:to:from:subject:message-id:date:from:to:cc:subject:date :message-id:reply-to; bh=nOBPL64Xu/LvLrZpJtJRdvyZ8alKhTZPZny+C9LRcx8=; b=HEhr/HID7+b1EcB7aIqoryrjBQDZ9qUCe+QQQRWjb19dIPmVEFOAn2UtPjlwnH5v6S D6szQ6W64v+yCKYRQALoUUYWc1CHgrUyOUB48XyxFUwTvgzf1IcMgpUq3aVauzhuwOJJ Nbhr44zXXWqpcuJ8vOn6IFfSMFgGMCBOl+PuQ= X-Google-DKIM-Signature: v=1; a=rsa-sha256; c=relaxed/relaxed; d=1e100.net; s=20230601; t=1739440068; x=1740044868; h=cc:to:from:subject:message-id:date:x-gm-message-state:from:to:cc :subject:date:message-id:reply-to; bh=nOBPL64Xu/LvLrZpJtJRdvyZ8alKhTZPZny+C9LRcx8=; b=STHjiK6oA62Ez7FZ6F8ZD0pHb0wgeJz/44HFZBl5I8AUVD6qGMx19GnSB5NotX/3nm ix63g/tuuxzyq+8+T79rYSvViarpYUfeMiD5V20SnS6MwCG2F3OY9bMazx2q5BCSoK7p OkvhPpO2qjtodcA0TA1bFtsM8IEidr5OKcHkiW/nYxOXeb2HLZdmCl0v+vDr2v4MP1sV uaiZWHwoR/NlX2/bQWFyuHHDCTJdQJRW7Cj1CVyLv5DAoyw/oz4HBqjQRr0hqHKNUT2n THnZYdgSf5DzMZRweCAP9Yx8N6JvLJIrIzlRWOXmOhf3X4TToH+luXs/cyQAiVFyRVWN fnPQ== X-Gm-Message-State: AOJu0YzMUWkn9ZQQej5ApL/QdOBDsqOrsS6077W89KFl4SJjxL5muGHh 3KZfhLGvbp/cek2OOE2rhJ+j/cEA/QNdcqr2mtXKV6p44s6GdkJwLL4rs5W5SgnDmeKEtsWDZx7 mLRpL0JshipqczzUfkkuUbL4PENsYZIIq X-Gm-Gg: ASbGncuz6KZ2JoSlgyHG/+1787upwODyQDYI9gQdr5aPOtzEuyL2pSglcwj5HNv22Yv SCkz6GA4VGVd9TU18VQHMB4Jrpqe88dUveRTKxeb5+i9nw9NCqvlJxaWJOLBRzyyP2tdfWGbZKg 1KzGflJ27RBT9FzutwxVuZi51TJXCOFRJZ3OPIc/Yvu4LMMRc3NKnXNZ+nuoopj0z83uHw2LLtT SH4wjfoEpNO+OEucQxNIFQAiQYkvvejcYUdqZMl+OenOMn/GDOQLeUepi3naV9rf3N1o8562P29 Oe++aAOalOR86PgxkoZKcTiYBdmz3g== X-Google-Smtp-Source: AGHT+IEuzD8IcMAHE7gaImAGRkj+eUhV1j1sAQKkf+65NOXpOiE5AUOs1xhyd09uzqWD0KAuaLLms4DYMikP X-Received: by 2002:a05:6870:ac1f:b0:2b7:da8e:48aa with SMTP id 586e51a60fabf-2b8d6558adamr3729950fac.23.1739440068047; Thu, 13 Feb 2025 01:47:48 -0800 (PST) Received: from postal.iol.unh.edu (postal.iol.unh.edu. [132.177.123.84]) by smtp-relay.gmail.com with ESMTPS id 586e51a60fabf-2b95a7b555esm56026fac.30.2025.02.13.01.47.47 (version=TLS1_2 cipher=ECDHE-ECDSA-AES128-GCM-SHA256 bits=128/128); Thu, 13 Feb 2025 01:47:48 -0800 (PST) X-Relaying-Domain: iol.unh.edu Date: Thu, 13 Feb 2025 01:47:48 -0800 (PST) Message-ID: <67adbfc4.050a0220.1ad0b2.323dSMTPIN_ADDED_MISSING@mx.google.com> Received: from [172.21.0.6] (unknown [172.18.0.240]) by postal.iol.unh.edu (Postfix) with ESMTP id 79BA26052471; Thu, 13 Feb 2025 04:47:47 -0500 (EST) Subject: |SUCCESS| [GIT MASTER] f2eea2f37a82bb73fb01d56350708f7d70e21379 From: dpdklab@iol.unh.edu To: Test Report Cc: dpdk-test-reports@iol.unh.edu, Xueming Li , Christian Ehrhardt , Kevin Traynor , Luca Boccassi Content-Type: text/plain X-BeenThere: test-report@dpdk.org X-Mailman-Version: 2.1.29 Precedence: list List-Id: automatic DPDK test reports List-Unsubscribe: , List-Archive: List-Post: List-Help: List-Subscribe: , Errors-To: test-report-bounces@dpdk.org _Testing PASS_ Branch: tags/v24.11 f2eea2f37a82bb73fb01d56350708f7d70e21379 --> testing pass Upstream job id: ACVP-FIPS-testing#8895 Test environment and result as below: +--------------------+----------------------+----------------------+ | Environment | compressdev_zlib_pmd | dpdk_fips_validation | +====================+======================+======================+ | Ubuntu 22.04 (ARM) | PASS | SKIPPED | +--------------------+----------------------+----------------------+ | Ubuntu 22.04 | PASS | SKIPPED | +--------------------+----------------------+----------------------+ | Ubuntu 20.04 | SKIPPED | PASS | +--------------------+----------------------+----------------------+ Ubuntu 22.04 (ARM) Kernel: 5.15.0-97-generic Compiler: gcc gcc (Ubuntu 11.4.0-1ubuntu1~22.04) 11.4.0 Ubuntu 22.04 Kernel: 5.15.0-100-generic Compiler: gcc gcc (Ubuntu 11.4.0-1ubuntu1~22.04) 11.4.0 Ubuntu 20.04 Kernel: Depends on container host Compiler: gcc (Ubuntu 9.4.0-1ubuntu1~20.04.2) 9.4.0 To view detailed results, visit: https://lab.dpdk.org/results/dashboard/tarballs/32557/ UNH-IOL DPDK Community Lab To manage your email subscriptions, visit: https://lab.dpdk.org/results/dashboard/preferences/subscriptions/