From mboxrd@z Thu Jan 1 00:00:00 1970 Return-Path: Received: from mails.dpdk.org (mails.dpdk.org [217.70.189.124]) by inbox.dpdk.org (Postfix) with ESMTP id BA95F46211 for ; Thu, 13 Feb 2025 11:06:29 +0100 (CET) Received: from mails.dpdk.org (localhost [127.0.0.1]) by mails.dpdk.org (Postfix) with ESMTP id CDF0B42F61; Thu, 13 Feb 2025 11:06:28 +0100 (CET) Received: from mail-qk1-f226.google.com (mail-qk1-f226.google.com [209.85.222.226]) by mails.dpdk.org (Postfix) with ESMTP id 793D342EE7 for ; Thu, 13 Feb 2025 11:06:27 +0100 (CET) Received: by mail-qk1-f226.google.com with SMTP id af79cd13be357-7c05f3dde21so86166585a.2 for ; Thu, 13 Feb 2025 02:06:27 -0800 (PST) DKIM-Signature: v=1; a=rsa-sha256; c=relaxed/relaxed; d=iol.unh.edu; s=unh-iol; t=1739441187; x=1740045987; darn=dpdk.org; h=cc:to:from:subject:message-id:date:from:to:cc:subject:date :message-id:reply-to; bh=QrOBm60otycFQRwK7ndO3OfRGb4caZvDgdV7uA9W7FA=; b=DSSFqHvgnVp2M/AZMjmsX5etneaTrqUwdzSTSnzEro62fpXCJzvVXSyxbPX5BesfgW bcvdP8LHSwCNx3wEZIFIG3gyU3eljagPPFuhBnZtms6aOckr7N9KVkX0My5zIxDj9qhp xCsnwASP9MISFoo2XGeyi4tZf0JICCqw8yqp8= X-Google-DKIM-Signature: v=1; a=rsa-sha256; c=relaxed/relaxed; d=1e100.net; s=20230601; t=1739441187; x=1740045987; h=cc:to:from:subject:message-id:date:x-gm-message-state:from:to:cc :subject:date:message-id:reply-to; bh=QrOBm60otycFQRwK7ndO3OfRGb4caZvDgdV7uA9W7FA=; b=GG/ZNNuCsmCIspLhJyjRPnatu5O0rWotyMr+lyNJEBNBwVSGpz5OumaxXogk2h9QdM rZJ7D0V171Krj42tyHE3C/6uN2owPB2trhZPNFg9/AJDeAbo4sZS4KHhiLnVZHgfj0cf bQb6wBRPDjJzzP+qA2x1nLm2SPA5YC0uOo0dzKrpO51VdHfrtU+d5H5TMXae+R4RmbM6 aqlSo+hPQ946UyPQXHaUfGtuYy6S2C12qx92mYzj3tQoHFFbeY95Zm+Ia5186Y0bcDuz AZ5KleTXr60X4Ljhs/PGL9TRtYU5/X5aRbQP8WIpA78kc1VC+c8zIR13ZFrpT2tmWp+v D7/g== X-Gm-Message-State: AOJu0Ywo7xYP6E+Kq4awM4l3sfCwGdePjZTzNQT/Ja7W6Vf1OU/7P+Yq 1tBAdorD8Lcc9eqt1iTbLnbrSP4FjWVR/KNl4NrUUXeUd0VtCH8r/N3iPdtFvuQnp6z/iup58Ir rY8nKJDTgh6Xs95IP86Pjvfk4+p7a4gUjFiJ3zLj7y0RxGaOF X-Gm-Gg: ASbGncttpM/65NSl8IXccKAuK1Ah2fI+azksOck17lzZhZRqu1LFzi3qNcLtwktYj/I Q9d+t47I12LnDS3ecHs2DMBIAjew9WnKRmo9emNwJFnzU4bxgJ8k4W9L9eg3kv/A2+vXM68zSvK z396LSyh/kDeTHbIf9jKztBJQBrD0tHVUnPXoP2taoIFAs4EvsLRaBTNqfEDQT4lo5D+E7ualeF trvmVMMPW3MYcp4VyRZ6A5Rq8Wx/KmZRBgi88kxV+iccM+D2i2+wCh9ChnrTvTJmOiyLpwu7GvT FYcDwxdwqVkBfUpzp6EyRNQFpnio5T19RwWDFfWSKA== X-Google-Smtp-Source: AGHT+IFWX13TDn+Pg7qqbxfo3Ll0D8oI1COZ85UqOVzK5Cjl1Oppu88JKNoB0qRDw6ycPdJ0RuYbw1UG/Lug X-Received: by 2002:a05:6214:2261:b0:6d4:238e:35b0 with SMTP id 6a1803df08f44-6e65bf57a33mr40213256d6.17.1739441186806; Thu, 13 Feb 2025 02:06:26 -0800 (PST) Received: from postal.iol.unh.edu (postal.iol.unh.edu. [2606:4100:3880:1234::84]) by smtp-relay.gmail.com with ESMTPS id 6a1803df08f44-6e65d7a2f7bsm486036d6.57.2025.02.13.02.06.26 (version=TLS1_2 cipher=ECDHE-ECDSA-AES128-GCM-SHA256 bits=128/128); Thu, 13 Feb 2025 02:06:26 -0800 (PST) X-Relaying-Domain: iol.unh.edu Date: Thu, 13 Feb 2025 02:06:26 -0800 (PST) Message-ID: <67adc422.d40a0220.25bd14.2a9dSMTPIN_ADDED_MISSING@mx.google.com> Received: from [172.21.0.7] (unknown [172.18.0.240]) by postal.iol.unh.edu (Postfix) with ESMTP id 7A2356052471; Thu, 13 Feb 2025 05:06:26 -0500 (EST) Subject: |SUCCESS| [GIT MASTER] c66daa12e76d7b4912cfb7109a761856a7a873ab From: dpdklab@iol.unh.edu To: Test Report Cc: dpdk-test-reports@iol.unh.edu, Xueming Li , Christian Ehrhardt , Kevin Traynor , Luca Boccassi Content-Type: text/plain X-BeenThere: test-report@dpdk.org X-Mailman-Version: 2.1.29 Precedence: list List-Id: automatic DPDK test reports List-Unsubscribe: , List-Archive: List-Post: List-Help: List-Subscribe: , Errors-To: test-report-bounces@dpdk.org _Testing PASS_ Branch: tags/v23.11 c66daa12e76d7b4912cfb7109a761856a7a873ab --> testing pass Upstream job id: Generic-DPDK-Compile-Meson#361152 Test environment and result as below: +------------------------------------+--------------------+ | Environment | dpdk_meson_compile | +====================================+====================+ | RHEL9 (ARM) | PASS | +------------------------------------+--------------------+ | Ubuntu 20.04 ARM GCC Cross Compile | PASS | +------------------------------------+--------------------+ | Ubuntu 20.04 ARM SVE | PASS | +------------------------------------+--------------------+ | Fedora 41 (ARM) | PASS | +------------------------------------+--------------------+ | Debian 12 with MUSDK | PASS | +------------------------------------+--------------------+ | Fedora 40 (ARM Clang) | PASS | +------------------------------------+--------------------+ | Ubuntu 22.04 (ARM) | PASS | +------------------------------------+--------------------+ | Ubuntu 20.04 (ARM) | PASS | +------------------------------------+--------------------+ | Fedora 41 (ARM Clang) | PASS | +------------------------------------+--------------------+ | CentOS Stream 9 (ARM) | PASS | +------------------------------------+--------------------+ | Ubuntu 24.04 (ARM) | PASS | +------------------------------------+--------------------+ | CentOS Stream 10 (ARM) | PASS | +------------------------------------+--------------------+ | Debian 11 (Buster) (ARM) | PASS | +------------------------------------+--------------------+ | Debian 12 (arm) | PASS | +------------------------------------+--------------------+ | Fedora 40 (ARM) | PASS | +------------------------------------+--------------------+ RHEL9 (ARM) Kernel: Depends on container host Compiler: gcc 11.5.0 20240719 (Red Hat 11.5.0-2) Ubuntu 20.04 ARM GCC Cross Compile Kernel: Depends on container host Compiler: aarch64-linux-gnu-gcc (Ubuntu 9.4.0-1ubuntu1~20.04.2) 9.4.0 Ubuntu 20.04 ARM SVE Kernel: Depends on container host Compiler: gcc (Ubuntu 10.5.0-1ubuntu1~20.04) 10.5.0 Fedora 41 (ARM) Kernel: Depends on container host Compiler: gcc 14.2.1 20240912 (Red Hat 14.2.1-3) Debian 12 with MUSDK Kernel: Depends on container host Compiler: gcc (Debian 12.2.0-14) 12.2.0 Fedora 40 (ARM Clang) Kernel: Depends on container host Compiler: clang 18.1.8 (Fedora 18.1.8-1.fc40) Ubuntu 22.04 (ARM) Kernel: Depends on container host Compiler: gcc (Ubuntu 11.4.0-1ubuntu1~22.04) 11.4.0 Ubuntu 20.04 (ARM) Kernel: Depends on container host Compiler: gcc (Ubuntu 9.4.0-1ubuntu1~20.04.2) 9.4.0 Fedora 41 (ARM Clang) Kernel: Depends on container host Compiler: clang 19.1.5 (Fedora 19.1.5-1.fc41) CentOS Stream 9 (ARM) Kernel: Depends on container host Compiler: gcc 11.5.0 20240719 (Red Hat 11.5.0-2) Ubuntu 24.04 (ARM) Kernel: Depends on container host Compiler: gcc (Ubuntu 13.3.0-6ubuntu2~24.04) 13.3.0 CentOS Stream 10 (ARM) Kernel: Depends on container host Compiler: gcc 14.2.1 20241104 (Red Hat 14.2.1-6) Debian 11 (Buster) (ARM) Kernel: Depends on container host Compiler: gcc (Debian 10.2.1-6) 10.2.1 20210110 Debian 12 (arm) Kernel: Depends on container host Compiler: gcc (Debian 12.2.0-14) 12.2.0 Fedora 40 (ARM) Kernel: Depends on container host Compiler: gcc 14.2.1 20240912 (Red Hat 14.2.1-3) To view detailed results, visit: https://lab.dpdk.org/results/dashboard/tarballs/32558/ UNH-IOL DPDK Community Lab To manage your email subscriptions, visit: https://lab.dpdk.org/results/dashboard/preferences/subscriptions/