From mboxrd@z Thu Jan 1 00:00:00 1970 Return-Path: Received: from mails.dpdk.org (mails.dpdk.org [217.70.189.124]) by inbox.dpdk.org (Postfix) with ESMTP id 827CA46211 for ; Thu, 13 Feb 2025 11:10:17 +0100 (CET) Received: from mails.dpdk.org (localhost [127.0.0.1]) by mails.dpdk.org (Postfix) with ESMTP id 5CB1142EA9; Thu, 13 Feb 2025 11:10:17 +0100 (CET) Received: from mail-qv1-f99.google.com (mail-qv1-f99.google.com [209.85.219.99]) by mails.dpdk.org (Postfix) with ESMTP id 7AEFE40287 for ; Thu, 13 Feb 2025 11:10:15 +0100 (CET) Received: by mail-qv1-f99.google.com with SMTP id 6a1803df08f44-6dd43aa1558so6786126d6.0 for ; Thu, 13 Feb 2025 02:10:15 -0800 (PST) DKIM-Signature: v=1; a=rsa-sha256; c=relaxed/relaxed; d=iol.unh.edu; s=unh-iol; t=1739441415; x=1740046215; darn=dpdk.org; h=references:in-reply-to:cc:to:from:subject:message-id:date:from:to :cc:subject:date:message-id:reply-to; bh=ZRzwuVq8SYdnofybuSVSJ7SsjeAb0/0dQdL8ctGjlNk=; b=iQMXasoyz0HQgEpxVKBfgxAWJxDhyha5ieCq+9FcgxI3Wf6B0Ma+XG3shEn31wZgmc 6fZh7dQvRhW8lsiHWEYXfk8IkTpZF2wH90xap0i1IoOWndFQGM410Gist1Q5DhuNaR5s Nfnnhm5004/jRgIh3X0iDRu7Bgd1WycublsTI= X-Google-DKIM-Signature: v=1; a=rsa-sha256; c=relaxed/relaxed; d=1e100.net; s=20230601; t=1739441415; x=1740046215; h=references:in-reply-to:cc:to:from:subject:message-id:date :x-gm-message-state:from:to:cc:subject:date:message-id:reply-to; bh=ZRzwuVq8SYdnofybuSVSJ7SsjeAb0/0dQdL8ctGjlNk=; b=cwIAjwlAihYvHOYfq5e1PjA1P8lDCFx9nFJeLG3xfhflSkblryz1QJe7uLY83Yp9B9 UiSBMKe6xE86wGtRqve0VkQ7ROVaWLsNZ6DGJLPmo2ksDACpxUHDEzrK4m+kbLKa39ak bktova0CIEuJgbsqphdCEkLAXboBz/0STtNbOS4UcDfOuohh2ar4LHJtg7Ht7Nt1k4D6 5XS9dtUvT/WGAXKyhJnBYMEn5Ah5scWUvXpAFXIWamaqht3try92CtNkVT9qfhLFv3Nq iWr+Qfyw2mViAIf5TQskyUAOjNeBkbxYAPaK6rGsiZZMqgeTlLsQc2cljb7sjP7gp6N4 T3Bw== X-Gm-Message-State: AOJu0Yw2z7mXRfoOeN7g7yhmU3krih5ncjXb+QBApDgOdtjJLN3b9dMg qCR4fF4ruolfAzoUNGMFSaO2bYygIN4V/UfMu9yW/FqHBiV4N4sVe2JLIVkmK26KHjDdk0Si+2Z n0sa2gB4YnwJXlgEFH0Qd+ne5actlxxy/YpgJRE5I0Fz3SZIq+vRPwZ0s X-Gm-Gg: ASbGncuCXrMAbhEtLBDFTkKaL7Eq3xU9feqi6NO4bo/3xowkwsfKDblxalJWdG+26C9 PZAeRw3YBmVrgCTXjp7vcxKmIdOjKiWXlQzNXGXmhJp6BiFa2tAucVBViVfP9hvjlCRrIxVrB+3 JAlCAh1yjirnC8M6OKqQ8StJxlUP5V8qvVsW5f7mMlHJ8hd5hNfqyVn1mkjJCxdm/9k8WujR3+K /7CaxIS7qngIAuUeuO5l9LL9zMSLVgr4PUm0oc8YV3cwYIix+SJSt8g/+89JFK+i4+pOM4zw+Uz MoU4wpwgd2HJx+THnPs2suZ8lev0fM38sh+ZsBgs3w== X-Google-Smtp-Source: AGHT+IHfPbFn3hHlzZLfAuGnp3tgtEQjSpvwqmxfl6EcUJC5LpmTljBJduuNdQ7H2pUqJBNbf1cQTksKEWOQ X-Received: by 2002:a05:6214:2488:b0:6d8:6a74:ae68 with SMTP id 6a1803df08f44-6e46f8c85bemr79447496d6.29.1739441414891; Thu, 13 Feb 2025 02:10:14 -0800 (PST) Received: from postal.iol.unh.edu (postal.iol.unh.edu. [2606:4100:3880:1234::84]) by smtp-relay.gmail.com with ESMTPS id 6a1803df08f44-6e65d72c280sm547456d6.9.2025.02.13.02.10.14 (version=TLS1_2 cipher=ECDHE-ECDSA-AES128-GCM-SHA256 bits=128/128); Thu, 13 Feb 2025 02:10:14 -0800 (PST) X-Relaying-Domain: iol.unh.edu Date: Thu, 13 Feb 2025 02:10:14 -0800 (PST) Message-ID: <67adc506.d40a0220.932b9.2ec8SMTPIN_ADDED_MISSING@mx.google.com> Received: from [172.21.0.5] (unknown [172.18.0.240]) by postal.iol.unh.edu (Postfix) with ESMTP id 8EF376052471; Thu, 13 Feb 2025 05:10:14 -0500 (EST) Subject: |SUCCESS| pw151445-151446 [PATCH] [v2,2/2] net/intel: add Tx time qu From: dpdklab@iol.unh.edu To: Test Report Cc: dpdk-test-reports@iol.unh.edu In-Reply-To: <20250212214711.1046777-3-soumyadeep.hore@intel.com> References: <20250212214711.1046777-3-soumyadeep.hore@intel.com> Content-Type: text/plain X-BeenThere: test-report@dpdk.org X-Mailman-Version: 2.1.29 Precedence: list List-Id: automatic DPDK test reports List-Unsubscribe: , List-Archive: List-Post: List-Help: List-Subscribe: , Errors-To: test-report-bounces@dpdk.org Test-Label: iol-abi-testing Test-Status: SUCCESS http://dpdk.org/patch/151446 _Testing PASS_ Submitter: Soumyadeep Hore Date: Wednesday, February 12 2025 21:47:11 DPDK git baseline: Repo:dpdk Branch: master CommitID:c2b6f3e7212dc32603304a6bb41b0e8f081761a5 151445-151446 --> testing pass Upstream job id: Generic-DPDK-Compile-ABI#115991 Test environment and result as below: +-------------------+----------+ | Environment | abi_test | +===================+==========+ | CentOS Stream 9 | PASS | +-------------------+----------+ | CentOS Stream 10 | PASS | +-------------------+----------+ | Debian Bullseye | PASS | +-------------------+----------+ | Fedora 40 (Clang) | PASS | +-------------------+----------+ | Debian 12 | PASS | +-------------------+----------+ | Fedora 40 | PASS | +-------------------+----------+ | Ubuntu 24.04 | PASS | +-------------------+----------+ | RHEL9 | PASS | +-------------------+----------+ | openSUSE Leap 15 | PASS | +-------------------+----------+ | Ubuntu 22.04 | PASS | +-------------------+----------+ | RHEL8 | PASS | +-------------------+----------+ | Fedora 41 | PASS | +-------------------+----------+ | Fedora 41 (Clang) | PASS | +-------------------+----------+ CentOS Stream 9 Kernel: Depends on container host Compiler: gcc 11.5.0 20240719 (Red Hat 11.5.0-2) CentOS Stream 10 Kernel: Depends on container host Compiler: gcc 14.2.1 20241104 (Red Hat 14.2.1-6) Debian Bullseye Kernel: Depends on container host Compiler: gcc (Debian 10.2.1-6) 10.2.1 20210110 Fedora 40 (Clang) Kernel: Depends on container host Compiler: clang 18.1.8 (Fedora 18.1.8-1.fc40) Debian 12 Kernel: Depends on container host Compiler: gcc (Debian 12.2.0-14) 12.2.0 Fedora 40 Kernel: Depends on container host Compiler: gcc 14.2.1 20240912 (Red Hat 14.2.1-3) Ubuntu 24.04 Kernel: Depends on container host Compiler: gcc (Ubuntu 13.3.0-6ubuntu2~24.04) 13.3.0 RHEL9 Kernel: Depends on container host Compiler: gcc 11.5.0 20240719 (Red Hat 11.5.0-2) openSUSE Leap 15 Kernel: Depends on container host Compiler: gcc (SUSE Linux) 7.5.0 Ubuntu 22.04 Kernel: Depends on container host Compiler: gcc (Ubuntu 11.4.0-1ubuntu1~22.04) 11.4.0 RHEL8 Kernel: Depends on container host Compiler: gcc 8.5.0 20210514 (Red Hat 8.5.0-22) Fedora 41 Kernel: Depends on container host Compiler: gcc 14.2.1 20240912 (Red Hat 14.2.1-3) Fedora 41 (Clang) Kernel: Depends on container host Compiler: clang 19.1.5 (Fedora 19.1.5-1.fc41) To view detailed results, visit: https://lab.dpdk.org/results/dashboard/patchsets/32570/ UNH-IOL DPDK Community Lab To manage your email subscriptions, visit: https://lab.dpdk.org/results/dashboard/preferences/subscriptions/