From mboxrd@z Thu Jan 1 00:00:00 1970 Return-Path: Received: from mails.dpdk.org (mails.dpdk.org [217.70.189.124]) by inbox.dpdk.org (Postfix) with ESMTP id 126B546211 for ; Thu, 13 Feb 2025 11:16:38 +0100 (CET) Received: from mails.dpdk.org (localhost [127.0.0.1]) by mails.dpdk.org (Postfix) with ESMTP id 0F6FB42EA9; Thu, 13 Feb 2025 11:16:38 +0100 (CET) Received: from mail-io1-f99.google.com (mail-io1-f99.google.com [209.85.166.99]) by mails.dpdk.org (Postfix) with ESMTP id CB02B40287 for ; Thu, 13 Feb 2025 11:16:36 +0100 (CET) Received: by mail-io1-f99.google.com with SMTP id ca18e2360f4ac-8555e673b2bso25559139f.0 for ; Thu, 13 Feb 2025 02:16:36 -0800 (PST) DKIM-Signature: v=1; a=rsa-sha256; c=relaxed/relaxed; d=iol.unh.edu; s=unh-iol; t=1739441796; x=1740046596; darn=dpdk.org; h=references:in-reply-to:cc:to:from:subject:message-id:date:from:to :cc:subject:date:message-id:reply-to; bh=HJlbkF8rVcLTp6bA+wsY70qSpiKR7KpEeRzvA2cdu/8=; b=PS+BhPKQhvp9qoQH8Ae0tu+S/i13TGkLqfzRuYP1gIhcrtaxEQbgsKErq7azuyRtF2 I+oe/EqADtKp015G6lVUreFcVPKgTRNTuQJS2AyDZHQQCS4XE2EjvIGwLcZ3GwM7xWYQ UlFJZ7iuvTY2ctUAkdudKoR+7CAPLzBFs/qMk= X-Google-DKIM-Signature: v=1; a=rsa-sha256; c=relaxed/relaxed; d=1e100.net; s=20230601; t=1739441796; x=1740046596; h=references:in-reply-to:cc:to:from:subject:message-id:date :x-gm-message-state:from:to:cc:subject:date:message-id:reply-to; bh=HJlbkF8rVcLTp6bA+wsY70qSpiKR7KpEeRzvA2cdu/8=; b=HyXRny73BVY14Mg2FlJrXNBZgCH+sRiluIdrzCXtepLP4B+mMlwR/xeytdha0iGLi5 T1pKZw7PLEX4mIZmx8PHn4w6b/wiWyZTJVtjcidkRP9GFLe/GJDm9dmxn02SQtKROz+t ZA/wNUpDjofgopGar+LR7zaGuJBDg3To6Oexu4WHvNRqyMuF8T4wXzgYpNqG1NRuTDxs NGlf4YIPc239lu3kQydR2v/3m6cCguIv897kwR/a5Waewwd9j+PrP0cDdwBhHK/NK3BP tgjdzGNYahbbDb0HNcZw28v1l2OL0RbY7QK5HMImoC/qBWDOxK4sfpit0HHABAkcS6ld +LnQ== X-Gm-Message-State: AOJu0YwbVjos2hM/wJP+IA+jLEG8ejsyG79re+t30z2IVE6EBdgPyjf5 aMSpn5SEFXY66UONlbICgtbVLDu2uMMdiVuy3oSYInEe4xlCHj0zRG1fU6l9Rs7bxIGYveFBn+6 eRl0mrZUi8zOVVdQWF0bv9NsmjtcaLnWxQlXNz0r0 X-Gm-Gg: ASbGncs7F+HaZc3HXMGWiQv1YVWLFoG2svtaLr3Q8dm8/ZecuB3OWgQZs1G1SMbX7KF l7SVQtPwWp29bidxX64+DNj/3h9m843OJRE2KCbpaJe9slzWJRqAd/MGoDdWdsjlCdYcM3pOOJS fe3nGjKg3j0mkQ3/KeMBRve1zFv+wQpAzNKVdIAwEJjsRsXK0cmtn3zbRNCK4EwuOl+HLY0mOao RfJ5LZtvD7k2l716XMeXYspIBXdzyW/DDmH8CGf1Tx/BanaPBz2cdWOOdFJXvcuC7Zs05o4NcgP n0mJ1Qg7K4PRSpKiIH3wbkhF+1EbGA== X-Google-Smtp-Source: AGHT+IFk/OertrlIscXuOg82Llk6I0mpIs/1asEcJNc2vfIK+Yi4ixUkimL8woa6dPFeRyBBf/Hw3SEIkdYl X-Received: by 2002:a05:6602:42d0:b0:841:99cb:776f with SMTP id ca18e2360f4ac-855652c7e1bmr173640939f.6.1739441796097; Thu, 13 Feb 2025 02:16:36 -0800 (PST) Received: from postal.iol.unh.edu (postal.iol.unh.edu. [132.177.123.84]) by smtp-relay.gmail.com with ESMTPS id 8926c6da1cb9f-4ed28313548sm58369173.73.2025.02.13.02.16.36 (version=TLS1_2 cipher=ECDHE-ECDSA-AES128-GCM-SHA256 bits=128/128); Thu, 13 Feb 2025 02:16:36 -0800 (PST) X-Relaying-Domain: iol.unh.edu Date: Thu, 13 Feb 2025 02:16:36 -0800 (PST) Message-ID: <67adc684.050a0220.3cd3a2.3246SMTPIN_ADDED_MISSING@mx.google.com> Received: from [172.21.0.5] (unknown [172.18.0.240]) by postal.iol.unh.edu (Postfix) with ESMTP id 9BC2D6052471; Thu, 13 Feb 2025 05:16:35 -0500 (EST) Subject: |SUCCESS| pw151445-151446 [PATCH] [v2,2/2] net/intel: add Tx time qu From: dpdklab@iol.unh.edu To: Test Report Cc: dpdk-test-reports@iol.unh.edu In-Reply-To: <20250212214711.1046777-3-soumyadeep.hore@intel.com> References: <20250212214711.1046777-3-soumyadeep.hore@intel.com> Content-Type: text/plain X-BeenThere: test-report@dpdk.org X-Mailman-Version: 2.1.29 Precedence: list List-Id: automatic DPDK test reports List-Unsubscribe: , List-Archive: List-Post: List-Help: List-Subscribe: , Errors-To: test-report-bounces@dpdk.org Test-Label: iol-unit-amd64-testing Test-Status: SUCCESS http://dpdk.org/patch/151446 _Testing PASS_ Submitter: Soumyadeep Hore Date: Wednesday, February 12 2025 21:47:11 DPDK git baseline: Repo:dpdk Branch: master CommitID:c2b6f3e7212dc32603304a6bb41b0e8f081761a5 151445-151446 --> testing pass Upstream job id: Generic-Unit-Test-DPDK#314565 Test environment and result as below: +---------------------+----------------+ | Environment | dpdk_unit_test | +=====================+================+ | CentOS Stream 9 | PASS | +---------------------+----------------+ | CentOS Stream 10 | PASS | +---------------------+----------------+ | Debian Bullseye | PASS | +---------------------+----------------+ | Fedora 40 | PASS | +---------------------+----------------+ | Debian 12 | PASS | +---------------------+----------------+ | Fedora 40 (Clang) | PASS | +---------------------+----------------+ | Fedora 41 | PASS | +---------------------+----------------+ | Ubuntu 20.04 | PASS | +---------------------+----------------+ | Fedora 41 (Clang) | PASS | +---------------------+----------------+ | RHEL8 | PASS | +---------------------+----------------+ | RHEL9 | PASS | +---------------------+----------------+ | Ubuntu 22.04 | PASS | +---------------------+----------------+ | Ubuntu 24.04 | PASS | +---------------------+----------------+ | Windows Server 2022 | PASS | +---------------------+----------------+ CentOS Stream 9 Kernel: Depends on container host Compiler: gcc 11.5.0 20240719 (Red Hat 11.5.0-2) CentOS Stream 10 Kernel: Depends on container host Compiler: gcc 14.2.1 20241104 (Red Hat 14.2.1-6) Debian Bullseye Kernel: Depends on container host Compiler: gcc (Debian 10.2.1-6) 10.2.1 20210110 Fedora 40 Kernel: Depends on container host Compiler: gcc 14.2.1 20240912 (Red Hat 14.2.1-3) Debian 12 Kernel: Depends on container host Compiler: gcc (Debian 12.2.0-14) 12.2.0 Fedora 40 (Clang) Kernel: Depends on container host Compiler: clang 18.1.8 (Fedora 18.1.8-1.fc40) Fedora 41 Kernel: Depends on container host Compiler: gcc 14.2.1 20240912 (Red Hat 14.2.1-3) Ubuntu 20.04 Kernel: Depends on container host Compiler: gcc (Ubuntu 9.4.0-1ubuntu1~20.04.2) 9.4.0 Fedora 41 (Clang) Kernel: Depends on container host Compiler: clang 19.1.5 (Fedora 19.1.5-1.fc41) RHEL8 Kernel: Depends on container host Compiler: gcc 8.5.0 20210514 (Red Hat 8.5.0-22) RHEL9 Kernel: Depends on container host Compiler: gcc 11.5.0 20240719 (Red Hat 11.5.0-2) Ubuntu 22.04 Kernel: Depends on container host Compiler: gcc (Ubuntu 11.4.0-1ubuntu1~22.04) 11.4.0 Ubuntu 24.04 Kernel: Depends on container host Compiler: gcc (Ubuntu 13.3.0-6ubuntu2~24.04) 13.3.0 Windows Server 2022 Kernel: 10.0.20348.2031 Compiler: clang 15.0.7, gcc 14.1.0 (MinGW), and MSVC VS 19.39.33521 To view detailed results, visit: https://lab.dpdk.org/results/dashboard/patchsets/32570/ UNH-IOL DPDK Community Lab To manage your email subscriptions, visit: https://lab.dpdk.org/results/dashboard/preferences/subscriptions/