From mboxrd@z Thu Jan 1 00:00:00 1970 Return-Path: Received: from mails.dpdk.org (mails.dpdk.org [217.70.189.124]) by inbox.dpdk.org (Postfix) with ESMTP id 3529646211 for ; Thu, 13 Feb 2025 11:48:46 +0100 (CET) Received: from mails.dpdk.org (localhost [127.0.0.1]) by mails.dpdk.org (Postfix) with ESMTP id 1260B42EA9; Thu, 13 Feb 2025 11:48:46 +0100 (CET) Received: from mail-io1-f97.google.com (mail-io1-f97.google.com [209.85.166.97]) by mails.dpdk.org (Postfix) with ESMTP id 30F1240287 for ; Thu, 13 Feb 2025 11:48:45 +0100 (CET) Received: by mail-io1-f97.google.com with SMTP id ca18e2360f4ac-855309015fdso15270739f.1 for ; Thu, 13 Feb 2025 02:48:45 -0800 (PST) DKIM-Signature: v=1; a=rsa-sha256; c=relaxed/relaxed; d=iol.unh.edu; s=unh-iol; t=1739443724; x=1740048524; darn=dpdk.org; h=references:in-reply-to:cc:to:from:subject:message-id:date:from:to :cc:subject:date:message-id:reply-to; bh=A6uGzGxjZJDuz5A4PjTNckVcUJEZhnbrnQJfxWqR+t0=; b=ATrwOBiZqQuS+NWdaexea8amXnGBhGUAiygxx5i1gQiF9yKouZnB6E507Y38Zc5piK OWWEgohTw5Vr6y2LKyuCNn5IGpIx94DZ7qOu8useHpkLTKVcdIszp850Qbh8hUMc7RL8 sRq7ogY5NfkF4fsvYTxOwY9EJaNOferrGF+kc= X-Google-DKIM-Signature: v=1; a=rsa-sha256; c=relaxed/relaxed; d=1e100.net; s=20230601; t=1739443724; x=1740048524; h=references:in-reply-to:cc:to:from:subject:message-id:date :x-gm-message-state:from:to:cc:subject:date:message-id:reply-to; bh=A6uGzGxjZJDuz5A4PjTNckVcUJEZhnbrnQJfxWqR+t0=; b=d8crZU2yM/E/sb++9+OKpuXCfcn13q+BKxEoTaMYswQQe60x/ZRK8opJcHfaGcOL/1 lV+rtqFzv+tc4TEV9X3yzWn09TKr6qpKYTgCjFkPjL6lm2qkAnRtSLbieGSazIcpVRh6 t4kA2pfH87kahQI9Zo6cMkMmyvS+hYBal84V39BIBsysd+KfhH33vUPB6iGWp1Zh1Wd4 n2u+ESjmM1i6NDZQe+sEisjvlglB7ooHcZFqEkov1/VzszLvoAayElCHXyvMrTc28EDY ecbOcivR12mwGFphO/r1jpsD1eud9ZTGPjU0a3CYynfzhVcghvHj7JYQjqgK+Z8tKOXT f3/Q== X-Gm-Message-State: AOJu0Yzp3hELho7Vn5fLOskMYoAD3XBsic0d1WrI3WMzJla3fzAF6Ako B5E36X2zaNN/WznlmNQq0tQVdDb0izz4ewHY4GzU0i1YSMqC97lBrIVYauHB4Qvs3Byp21dcH9o qxogGgO0Pprqzxrbiky4oLg0wnc1wedjc2hzuPF46 X-Gm-Gg: ASbGncvPR3Gws45beiPqdo11goNL6aW+AC9mYW1pIEwYfM13QwMdAUEQfwey8uBJcjc 4yjX0ooi0fYaEv9x4l2SYyPvpwcaOMQdCKPkGxOAVym5Hz0l9zdNzQTAHlfDU2M0MLoawJF/+II CRhhegOFI/WCP8qVXfTpgl3sobUGu+IOul30To3lW0xgGuDH3jU/uEYIohlnsrqqvDpB/wJogAF hB5ekoSJ2oI7VoIXNVXoakKAIhTYzb/L6l6Wuq/B1NNomXi3/VcnbS060OjFlVA2mGFi9Vqf3p+ 5f5FKX/ddHMio4nIVb8XseVHvucfnA== X-Google-Smtp-Source: AGHT+IERzIPA7LViaZnOxALpifCJQF9pM/8iqDS5uxCl+2mJ5uhWCyj1FLR0S0CEK+m5s3OnQbQ6RL+vSvrD X-Received: by 2002:a05:6e02:1b04:b0:3d0:1db8:e824 with SMTP id e9e14a558f8ab-3d18c23967bmr19134725ab.10.1739443724486; Thu, 13 Feb 2025 02:48:44 -0800 (PST) Received: from postal.iol.unh.edu (postal.iol.unh.edu. [132.177.123.84]) by smtp-relay.gmail.com with ESMTPS id e9e14a558f8ab-3d18f9c6187sm574145ab.19.2025.02.13.02.48.44 (version=TLS1_2 cipher=ECDHE-ECDSA-AES128-GCM-SHA256 bits=128/128); Thu, 13 Feb 2025 02:48:44 -0800 (PST) X-Relaying-Domain: iol.unh.edu Date: Thu, 13 Feb 2025 02:48:44 -0800 (PST) Message-ID: <67adce0c.050a0220.3c07de.3095SMTPIN_ADDED_MISSING@mx.google.com> Received: from [172.21.0.5] (unknown [172.18.0.240]) by postal.iol.unh.edu (Postfix) with ESMTP id E8CF96052471; Thu, 13 Feb 2025 05:48:43 -0500 (EST) Subject: |SUCCESS| pw151438-151444 [PATCH] [v2,7/7] dts: remove node distinct From: dpdklab@iol.unh.edu To: Test Report Cc: dpdk-test-reports@iol.unh.edu In-Reply-To: <20250212164600.23759-8-luca.vizzarro@arm.com> References: <20250212164600.23759-8-luca.vizzarro@arm.com> Content-Type: text/plain X-BeenThere: test-report@dpdk.org X-Mailman-Version: 2.1.29 Precedence: list List-Id: automatic DPDK test reports List-Unsubscribe: , List-Archive: List-Post: List-Help: List-Subscribe: , Errors-To: test-report-bounces@dpdk.org Test-Label: iol-abi-testing Test-Status: SUCCESS http://dpdk.org/patch/151444 _Testing PASS_ Submitter: Luca Vizzarro Date: Wednesday, February 12 2025 16:46:00 DPDK git baseline: Repo:dpdk Branch: master CommitID:046cca99c3fd03bfb95d3e27a56aab40c2c8f45a 151438-151444 --> testing pass Upstream job id: Generic-DPDK-Compile-ABI#116008 Test environment and result as below: +-------------------+----------+ | Environment | abi_test | +===================+==========+ | CentOS Stream 9 | PASS | +-------------------+----------+ | Debian Bullseye | PASS | +-------------------+----------+ | CentOS Stream 10 | PASS | +-------------------+----------+ | Fedora 41 | PASS | +-------------------+----------+ | openSUSE Leap 15 | PASS | +-------------------+----------+ | RHEL9 | PASS | +-------------------+----------+ | RHEL8 | PASS | +-------------------+----------+ | Fedora 40 | PASS | +-------------------+----------+ | Fedora 41 (Clang) | PASS | +-------------------+----------+ | Fedora 40 (Clang) | PASS | +-------------------+----------+ | Ubuntu 22.04 | PASS | +-------------------+----------+ | Ubuntu 24.04 | PASS | +-------------------+----------+ | Debian 12 | PASS | +-------------------+----------+ CentOS Stream 9 Kernel: Depends on container host Compiler: gcc 11.5.0 20240719 (Red Hat 11.5.0-2) Debian Bullseye Kernel: Depends on container host Compiler: gcc (Debian 10.2.1-6) 10.2.1 20210110 CentOS Stream 10 Kernel: Depends on container host Compiler: gcc 14.2.1 20241104 (Red Hat 14.2.1-6) Fedora 41 Kernel: Depends on container host Compiler: gcc 14.2.1 20240912 (Red Hat 14.2.1-3) openSUSE Leap 15 Kernel: Depends on container host Compiler: gcc (SUSE Linux) 7.5.0 RHEL9 Kernel: Depends on container host Compiler: gcc 11.5.0 20240719 (Red Hat 11.5.0-2) RHEL8 Kernel: Depends on container host Compiler: gcc 8.5.0 20210514 (Red Hat 8.5.0-22) Fedora 40 Kernel: Depends on container host Compiler: gcc 14.2.1 20240912 (Red Hat 14.2.1-3) Fedora 41 (Clang) Kernel: Depends on container host Compiler: clang 19.1.5 (Fedora 19.1.5-1.fc41) Fedora 40 (Clang) Kernel: Depends on container host Compiler: clang 18.1.8 (Fedora 18.1.8-1.fc40) Ubuntu 22.04 Kernel: Depends on container host Compiler: gcc (Ubuntu 11.4.0-1ubuntu1~22.04) 11.4.0 Ubuntu 24.04 Kernel: Depends on container host Compiler: gcc (Ubuntu 13.3.0-6ubuntu2~24.04) 13.3.0 Debian 12 Kernel: Depends on container host Compiler: gcc (Debian 12.2.0-14) 12.2.0 To view detailed results, visit: https://lab.dpdk.org/results/dashboard/patchsets/32569/ UNH-IOL DPDK Community Lab To manage your email subscriptions, visit: https://lab.dpdk.org/results/dashboard/preferences/subscriptions/