From mboxrd@z Thu Jan 1 00:00:00 1970 Return-Path: Received: from mails.dpdk.org (mails.dpdk.org [217.70.189.124]) by inbox.dpdk.org (Postfix) with ESMTP id AE71646211 for ; Thu, 13 Feb 2025 11:53:23 +0100 (CET) Received: from mails.dpdk.org (localhost [127.0.0.1]) by mails.dpdk.org (Postfix) with ESMTP id 8F70C42EA9; Thu, 13 Feb 2025 11:53:23 +0100 (CET) Received: from mail-il1-f225.google.com (mail-il1-f225.google.com [209.85.166.225]) by mails.dpdk.org (Postfix) with ESMTP id 92A7B40287 for ; Thu, 13 Feb 2025 11:53:22 +0100 (CET) Received: by mail-il1-f225.google.com with SMTP id e9e14a558f8ab-3ce7c4115e8so6105245ab.1 for ; Thu, 13 Feb 2025 02:53:22 -0800 (PST) DKIM-Signature: v=1; a=rsa-sha256; c=relaxed/relaxed; d=iol.unh.edu; s=unh-iol; t=1739444002; x=1740048802; darn=dpdk.org; h=cc:to:from:subject:message-id:date:from:to:cc:subject:date :message-id:reply-to; bh=9Mvygmbju+cnJoUOuE+G325iFoimguNkP24J0kWPuqs=; b=cQi8+YFhaOsAcjzEa9zEVltCckpzojupwIlenkj97XdQUxeAl+jo4AOldSd2U4S9lW zDyvBSGFnOBWnKY/GfySm5YsWP8sSFnWgq2DYNlz/q+opUMKj9j9winb4S48pvMtxmWP UwVinRyu6yLgIsiSb+ICvTE8Lt7FDzPW2zP0E= X-Google-DKIM-Signature: v=1; a=rsa-sha256; c=relaxed/relaxed; d=1e100.net; s=20230601; t=1739444002; x=1740048802; h=cc:to:from:subject:message-id:date:x-gm-message-state:from:to:cc :subject:date:message-id:reply-to; bh=9Mvygmbju+cnJoUOuE+G325iFoimguNkP24J0kWPuqs=; b=sVVpjUbRZ7pW2PnnxQIfUZ930yOqSv/mjHoWISCGmvpu5eXgbNGgaZK0laAhWSWZXq Ckr1mZoR8+SsjjEr5n/QchfC1VCqkqaMbTMdUNDshbrjePYS6GVhkL4mNDN6ASHfXma1 S4H5CyDs7E17yILE3mo/cuw/zRf5HcAE1YAiBUFowCyUexPzllyhvYsSLjNPq48inkjk B6GvtRz6NpCjlAV2g14GEccibe5YlVkawFWpYlGVM4qi7rb+Y3gWpeLGUzSIEVqbxAJM srwl7w/3KUcxLzxf9sbKuV8xkzSlpRGRilu6CSjM8R/LgSFeRg/gNScphzQIZ59MeeCG e8fQ== X-Gm-Message-State: AOJu0Yz60R2tKcIi0eK7U+ZzCBerRs0/W9DwX01CTBEO+8S/ZacxZscu EiXFxOcVGTVBOWACB7Hxn+JkYXNSj/aRBb+qmVj3EDeCRWvZVd7LWrfXVdV6QBKVZYgp/DFlEGj fYlGHBKYYw/5YwoIRFPJe1XS9Hu0acGnm X-Gm-Gg: ASbGnct75tsebCw7esoUDpwxd60eOQB8bphrw/dQrsi1FvqJRN8vLveAQUc58PTWN1J iObs3SSHUA1qrpP6U3b22fiIgtihwTpbvmD2c7G4CJMmPwMi40cyxWTKfTLUNisKS2flW/EtSXx O1CF9lw1j2OWf2O4ZtupqsWeSbgUjtzaa+EL7DV6HzmJnaxmA0sA6v/GLOc6AYdC4QmnuHu/0Ic k+wZMl7rvVNOWtAo0ZziRAPyo+O6uSdrLFBLG3ORQsJgvksiLvt4rSxmXifctHlA5ps9JckinMO hvcM9C5QVqdx/tiJDkd/TdvOMcBpyQ== X-Google-Smtp-Source: AGHT+IHnUFVMBSFf5WLSzLI7TfD/VJRuZUfoAvk0pmOr7Ri3l9JNq/TtUeeviitFe2O7AF1Py5PE97EQ23xP X-Received: by 2002:a05:6e02:3f03:b0:3d0:f2ca:65aa with SMTP id e9e14a558f8ab-3d18cf12dbbmr18816125ab.4.1739444001877; Thu, 13 Feb 2025 02:53:21 -0800 (PST) Received: from postal.iol.unh.edu (postal.iol.unh.edu. [132.177.123.84]) by smtp-relay.gmail.com with ESMTPS id e9e14a558f8ab-3d18f9a90bcsm564405ab.5.2025.02.13.02.53.21 (version=TLS1_2 cipher=ECDHE-ECDSA-AES128-GCM-SHA256 bits=128/128); Thu, 13 Feb 2025 02:53:21 -0800 (PST) X-Relaying-Domain: iol.unh.edu Date: Thu, 13 Feb 2025 02:53:21 -0800 (PST) Message-ID: <67adcf21.050a0220.f6aa8.2f0bSMTPIN_ADDED_MISSING@mx.google.com> Received: from [172.21.0.7] (unknown [172.18.0.240]) by postal.iol.unh.edu (Postfix) with ESMTP id 5C1306052471; Thu, 13 Feb 2025 05:53:21 -0500 (EST) Subject: |SUCCESS| [GIT MASTER] f2eea2f37a82bb73fb01d56350708f7d70e21379 From: dpdklab@iol.unh.edu To: Test Report Cc: dpdk-test-reports@iol.unh.edu, Xueming Li , Christian Ehrhardt , Kevin Traynor , Luca Boccassi Content-Type: text/plain X-BeenThere: test-report@dpdk.org X-Mailman-Version: 2.1.29 Precedence: list List-Id: automatic DPDK test reports List-Unsubscribe: , List-Archive: List-Post: List-Help: List-Subscribe: , Errors-To: test-report-bounces@dpdk.org _Testing PASS_ Branch: tags/v24.11 f2eea2f37a82bb73fb01d56350708f7d70e21379 --> testing pass Upstream job id: Generic-DPDK-Compile-Meson#361103 Test environment and result as below: +------------------------------------+--------------------+ | Environment | dpdk_meson_compile | +====================================+====================+ | Ubuntu 20.04 ARM GCC Cross Compile | PASS | +------------------------------------+--------------------+ | Ubuntu 24.04 (ARM) | PASS | +------------------------------------+--------------------+ | Fedora 41 (ARM) | PASS | +------------------------------------+--------------------+ | Ubuntu 22.04 (ARM) | PASS | +------------------------------------+--------------------+ | Ubuntu 20.04 ARM SVE | PASS | +------------------------------------+--------------------+ | Fedora 40 (ARM Clang) | PASS | +------------------------------------+--------------------+ | Debian 12 with MUSDK | PASS | +------------------------------------+--------------------+ | RHEL9 (ARM) | PASS | +------------------------------------+--------------------+ | Fedora 40 (ARM) | PASS | +------------------------------------+--------------------+ | Debian 12 (arm) | PASS | +------------------------------------+--------------------+ | Ubuntu 20.04 (ARM) | PASS | +------------------------------------+--------------------+ | CentOS Stream 10 (ARM) | PASS | +------------------------------------+--------------------+ | Debian 11 (Buster) (ARM) | PASS | +------------------------------------+--------------------+ | CentOS Stream 9 (ARM) | PASS | +------------------------------------+--------------------+ | Fedora 41 (ARM Clang) | PASS | +------------------------------------+--------------------+ Ubuntu 20.04 ARM GCC Cross Compile Kernel: Depends on container host Compiler: aarch64-linux-gnu-gcc (Ubuntu 9.4.0-1ubuntu1~20.04.2) 9.4.0 Ubuntu 24.04 (ARM) Kernel: Depends on container host Compiler: gcc (Ubuntu 13.3.0-6ubuntu2~24.04) 13.3.0 Fedora 41 (ARM) Kernel: Depends on container host Compiler: gcc 14.2.1 20240912 (Red Hat 14.2.1-3) Ubuntu 22.04 (ARM) Kernel: Depends on container host Compiler: gcc (Ubuntu 11.4.0-1ubuntu1~22.04) 11.4.0 Ubuntu 20.04 ARM SVE Kernel: Depends on container host Compiler: gcc (Ubuntu 10.5.0-1ubuntu1~20.04) 10.5.0 Fedora 40 (ARM Clang) Kernel: Depends on container host Compiler: clang 18.1.8 (Fedora 18.1.8-1.fc40) Debian 12 with MUSDK Kernel: Depends on container host Compiler: gcc (Debian 12.2.0-14) 12.2.0 RHEL9 (ARM) Kernel: Depends on container host Compiler: gcc 11.5.0 20240719 (Red Hat 11.5.0-2) Fedora 40 (ARM) Kernel: Depends on container host Compiler: gcc 14.2.1 20240912 (Red Hat 14.2.1-3) Debian 12 (arm) Kernel: Depends on container host Compiler: gcc (Debian 12.2.0-14) 12.2.0 Ubuntu 20.04 (ARM) Kernel: Depends on container host Compiler: gcc (Ubuntu 9.4.0-1ubuntu1~20.04.2) 9.4.0 CentOS Stream 10 (ARM) Kernel: Depends on container host Compiler: gcc 14.2.1 20241104 (Red Hat 14.2.1-6) Debian 11 (Buster) (ARM) Kernel: Depends on container host Compiler: gcc (Debian 10.2.1-6) 10.2.1 20210110 CentOS Stream 9 (ARM) Kernel: Depends on container host Compiler: gcc 11.5.0 20240719 (Red Hat 11.5.0-2) Fedora 41 (ARM Clang) Kernel: Depends on container host Compiler: clang 19.1.5 (Fedora 19.1.5-1.fc41) To view detailed results, visit: https://lab.dpdk.org/results/dashboard/tarballs/32557/ UNH-IOL DPDK Community Lab To manage your email subscriptions, visit: https://lab.dpdk.org/results/dashboard/preferences/subscriptions/