From mboxrd@z Thu Jan 1 00:00:00 1970 Return-Path: Received: from mails.dpdk.org (mails.dpdk.org [217.70.189.124]) by inbox.dpdk.org (Postfix) with ESMTP id 142AE46212 for ; Thu, 13 Feb 2025 12:17:24 +0100 (CET) Received: from mails.dpdk.org (localhost [127.0.0.1]) by mails.dpdk.org (Postfix) with ESMTP id DF34A42ECC; Thu, 13 Feb 2025 12:17:23 +0100 (CET) Received: from mail-pl1-f226.google.com (mail-pl1-f226.google.com [209.85.214.226]) by mails.dpdk.org (Postfix) with ESMTP id 0949342EA9 for ; Thu, 13 Feb 2025 12:17:23 +0100 (CET) Received: by mail-pl1-f226.google.com with SMTP id d9443c01a7336-220c8f38febso12616925ad.2 for ; Thu, 13 Feb 2025 03:17:22 -0800 (PST) DKIM-Signature: v=1; a=rsa-sha256; c=relaxed/relaxed; d=iol.unh.edu; s=unh-iol; t=1739445442; x=1740050242; darn=dpdk.org; h=references:in-reply-to:cc:to:from:subject:message-id:date:from:to :cc:subject:date:message-id:reply-to; bh=KkvybmlZdzVv24CVlwI/UpppgZGgO1z2ULLYmx3buh8=; b=IWH2Ior7syhdojfg6mkumlJFkcoELDjjpWctdCOcp7xsuG/VkcUovv38FnqRV8xvrd 6z2+mQzb2H8vAMaHOGbY+ine5bnzFC08+kvEQQGDzDz4q9Bo4OUXeXShH7W/IGA9UZmY 0khdgqf3w22MHEoZ0cyj6cruWLEca9QlVHJT0= X-Google-DKIM-Signature: v=1; a=rsa-sha256; c=relaxed/relaxed; d=1e100.net; s=20230601; t=1739445442; x=1740050242; h=references:in-reply-to:cc:to:from:subject:message-id:date :x-gm-message-state:from:to:cc:subject:date:message-id:reply-to; bh=KkvybmlZdzVv24CVlwI/UpppgZGgO1z2ULLYmx3buh8=; b=WMQIe5AxsRWPw1F5Sg1pntku82d5nhU4u6an+9Wj8+srcl3g8z0Wj7ADARBREPCdvU 8G1xoHDBSg+PiVPH5hvYrXV7dli60RQ6GYxGyfs5dFTlSy1qr4kOuJwTbXTcp3gDDE9a 6Xg3jnxC+X7w84KZPdId8C641kGxch3aAUKD6oWsVX1jDJAwzdxU8TzowyYEobUTK6hG nIMXF7J8fqNtEEkfkvv3Iynr6FMUdE6mGrwA3GSMFMg4fV3hJxVHSTmCxh+9/MaeEg8Z aIUxET7HSu7kV3RgrLIX2+ehivCp2YQfTg16IxN1DkoHPEAQ6HOJfM9k+qwpUKlMZRTu 3l3w== X-Gm-Message-State: AOJu0Yz/ADAgaYlguSHPUkmGsqwcejTZ4jE4polDgOdtWSIO7YdEKbK4 UUvXjkb//bWGic3DsxmcmqzEugL6yraBs4oRP2A4aJxCMkraSTxSxNSOaywDdK9QFveDAADBac3 RUthrbgEImUhksgk/bWLHvoLqSbT3jmIu16Sq7/LjJRgT3LcWAANwgAYV X-Gm-Gg: ASbGnctaee9VbsQK+kBDXYRxCSA49KHs6mFiJeRyH47waT6eGXOj7goo3LkAVo5hxm3 W8wp1ERQd8QM8TsnlmHMvEi2bpVMGsXJul3TSWP9+aXd13dJUI4Ku+8otGp0EMmDyr7vcFqlbuI 9O3fEQrV1Lc6LuwclcHdYea5HFl1w5BwQFfQvaQiE7/rQiGhboHHWbOP9DZ432OCJxWKrwb5m8G yyOefaNYw6x2U2byaPw6/wotWxBTCTHHhZNi73OwkCvI/HESDcyL5Caxf7VT9Zpza8J3hOCdQac E+j5f/d16w23zhmCGxt3rY7d0ils/2tOPUKUtYH7+w== X-Google-Smtp-Source: AGHT+IHcugPCOPhcV1KOpK6HnQhmF9aCFDTr99CIZSbbny7619UNVShBKerUMAeG29qSzMqfL6+65QbISTlf X-Received: by 2002:a17:902:d4c3:b0:216:4a06:e87a with SMTP id d9443c01a7336-220bdfee733mr108413735ad.40.1739445442095; Thu, 13 Feb 2025 03:17:22 -0800 (PST) Received: from postal.iol.unh.edu (postal.iol.unh.edu. [2606:4100:3880:1234::84]) by smtp-relay.gmail.com with ESMTPS id d9443c01a7336-220d53f7ceesm553155ad.71.2025.02.13.03.17.21 (version=TLS1_2 cipher=ECDHE-ECDSA-AES128-GCM-SHA256 bits=128/128); Thu, 13 Feb 2025 03:17:22 -0800 (PST) X-Relaying-Domain: iol.unh.edu Date: Thu, 13 Feb 2025 03:17:22 -0800 (PST) Message-ID: <67add4c2.170a0220.1493d4.2e11SMTPIN_ADDED_MISSING@mx.google.com> Received: from [172.21.0.5] (unknown [172.18.0.240]) by postal.iol.unh.edu (Postfix) with ESMTP id 33A696052471; Thu, 13 Feb 2025 06:17:21 -0500 (EST) Subject: |SUCCESS| pw151445-151446 [PATCH] [v2,2/2] net/intel: add Tx time qu From: dpdklab@iol.unh.edu To: Test Report Cc: dpdk-test-reports@iol.unh.edu In-Reply-To: <20250212214711.1046777-3-soumyadeep.hore@intel.com> References: <20250212214711.1046777-3-soumyadeep.hore@intel.com> Content-Type: text/plain X-BeenThere: test-report@dpdk.org X-Mailman-Version: 2.1.29 Precedence: list List-Id: automatic DPDK test reports List-Unsubscribe: , List-Archive: List-Post: List-Help: List-Subscribe: , Errors-To: test-report-bounces@dpdk.org Test-Label: iol-unit-arm64-testing Test-Status: SUCCESS http://dpdk.org/patch/151446 _Testing PASS_ Submitter: Soumyadeep Hore Date: Wednesday, February 12 2025 21:47:11 DPDK git baseline: Repo:dpdk Branch: master CommitID:c2b6f3e7212dc32603304a6bb41b0e8f081761a5 151445-151446 --> testing pass Upstream job id: Generic-Unit-Test-DPDK#314566 Test environment and result as below: +-----------------------------+----------------+--------------+---------------------------+------------------------------+ | Environment | dpdk_unit_test | lpm_autotest | cryptodev_sw_zuc_autotest | cryptodev_sw_snow3g_autotest | +=============================+================+==============+===========================+==============================+ | 32-bit Ubuntu 22.04.4 (ARM) | PASS | SKIPPED | SKIPPED | SKIPPED | +-----------------------------+----------------+--------------+---------------------------+------------------------------+ | CentOS Stream 10 (ARM) | PASS | SKIPPED | SKIPPED | SKIPPED | +-----------------------------+----------------+--------------+---------------------------+------------------------------+ | CentOS Stream 9 (ARM) | PASS | SKIPPED | SKIPPED | SKIPPED | +-----------------------------+----------------+--------------+---------------------------+------------------------------+ | Debian 12 (arm) | PASS | SKIPPED | PASS | PASS | +-----------------------------+----------------+--------------+---------------------------+------------------------------+ | Debian 11 (Buster) (ARM) | PASS | SKIPPED | SKIPPED | SKIPPED | +-----------------------------+----------------+--------------+---------------------------+------------------------------+ | Fedora 40 (ARM) | PASS | SKIPPED | SKIPPED | SKIPPED | +-----------------------------+----------------+--------------+---------------------------+------------------------------+ | Fedora 40 (ARM Clang) | PASS | SKIPPED | SKIPPED | SKIPPED | +-----------------------------+----------------+--------------+---------------------------+------------------------------+ | Fedora 41 (ARM Clang) | PASS | SKIPPED | SKIPPED | SKIPPED | +-----------------------------+----------------+--------------+---------------------------+------------------------------+ | Fedora 41 (ARM) | PASS | SKIPPED | SKIPPED | SKIPPED | +-----------------------------+----------------+--------------+---------------------------+------------------------------+ | RHEL9 (ARM) | PASS | SKIPPED | SKIPPED | SKIPPED | +-----------------------------+----------------+--------------+---------------------------+------------------------------+ | Ubuntu 20.04 (ARM) | PASS | SKIPPED | SKIPPED | SKIPPED | +-----------------------------+----------------+--------------+---------------------------+------------------------------+ | Ubuntu 22.04 (ARM) | PASS | SKIPPED | SKIPPED | SKIPPED | +-----------------------------+----------------+--------------+---------------------------+------------------------------+ | Ubuntu 24.04 (ARM) | PASS | SKIPPED | SKIPPED | SKIPPED | +-----------------------------+----------------+--------------+---------------------------+------------------------------+ | Ubuntu 20.04 ARM SVE | SKIPPED | PASS | SKIPPED | SKIPPED | +-----------------------------+----------------+--------------+---------------------------+------------------------------+ 32-bit Ubuntu 22.04.4 (ARM) Kernel: 5.15.83+ aarch64 Compiler: gcc (Ubuntu 11.4.0-1ubuntu1~22.04) 11.4.0 CentOS Stream 10 (ARM) Kernel: Depends on container host Compiler: gcc 14.2.1 20241104 (Red Hat 14.2.1-6) CentOS Stream 9 (ARM) Kernel: Depends on container host Compiler: gcc 11.5.0 20240719 (Red Hat 11.5.0-2) Debian 12 (arm) Kernel: Depends on container host Compiler: gcc (Debian 12.2.0-14) 12.2.0 Debian 11 (Buster) (ARM) Kernel: Depends on container host Compiler: gcc (Debian 10.2.1-6) 10.2.1 20210110 Fedora 40 (ARM) Kernel: Depends on container host Compiler: gcc 14.2.1 20240912 (Red Hat 14.2.1-3) Fedora 40 (ARM Clang) Kernel: Depends on container host Compiler: clang 18.1.8 (Fedora 18.1.8-1.fc40) Fedora 41 (ARM Clang) Kernel: Depends on container host Compiler: clang 19.1.5 (Fedora 19.1.5-1.fc41) Fedora 41 (ARM) Kernel: Depends on container host Compiler: gcc 14.2.1 20240912 (Red Hat 14.2.1-3) RHEL9 (ARM) Kernel: Depends on container host Compiler: gcc 11.5.0 20240719 (Red Hat 11.5.0-2) Ubuntu 20.04 (ARM) Kernel: Depends on container host Compiler: gcc (Ubuntu 9.4.0-1ubuntu1~20.04.2) 9.4.0 Ubuntu 22.04 (ARM) Kernel: Depends on container host Compiler: gcc (Ubuntu 11.4.0-1ubuntu1~22.04) 11.4.0 Ubuntu 24.04 (ARM) Kernel: Depends on container host Compiler: gcc (Ubuntu 13.3.0-6ubuntu2~24.04) 13.3.0 Ubuntu 20.04 ARM SVE Kernel: Depends on container host Compiler: gcc (Ubuntu 10.5.0-1ubuntu1~20.04) 10.5.0 To view detailed results, visit: https://lab.dpdk.org/results/dashboard/patchsets/32570/ UNH-IOL DPDK Community Lab To manage your email subscriptions, visit: https://lab.dpdk.org/results/dashboard/preferences/subscriptions/