From mboxrd@z Thu Jan 1 00:00:00 1970 Return-Path: Received: from mails.dpdk.org (mails.dpdk.org [217.70.189.124]) by inbox.dpdk.org (Postfix) with ESMTP id 8C80646214 for ; Thu, 13 Feb 2025 12:21:17 +0100 (CET) Received: from mails.dpdk.org (localhost [127.0.0.1]) by mails.dpdk.org (Postfix) with ESMTP id 7D5AB42EA9; Thu, 13 Feb 2025 12:21:17 +0100 (CET) Received: from mail-io1-f98.google.com (mail-io1-f98.google.com [209.85.166.98]) by mails.dpdk.org (Postfix) with ESMTP id A749240287 for ; Thu, 13 Feb 2025 12:21:15 +0100 (CET) Received: by mail-io1-f98.google.com with SMTP id ca18e2360f4ac-85532c7220cso60149339f.1 for ; Thu, 13 Feb 2025 03:21:15 -0800 (PST) DKIM-Signature: v=1; a=rsa-sha256; c=relaxed/relaxed; d=iol.unh.edu; s=unh-iol; t=1739445675; x=1740050475; darn=dpdk.org; h=references:in-reply-to:cc:to:from:subject:message-id:date:from:to :cc:subject:date:message-id:reply-to; bh=1TIWil+5t1PyGfcSRaOGkD/6VhN+QIe5yQuYbQGVflI=; b=MqrrOgKQHSHkuqrWkS8yJKQE72sxCMlbPYhYDb0MBqJdYe8xTkaad4qZ3GPhp3CiLQ 4gJY3AIxo2wGx/yN1Rbqem52I/LmVLynOnB/tYAc4ReoGNzYxtJG3DnElvr3qNiIivKa l8wo07u6TlQSbwxf59pJv72K/Hp4YcgGgWiAk= X-Google-DKIM-Signature: v=1; a=rsa-sha256; c=relaxed/relaxed; d=1e100.net; s=20230601; t=1739445675; x=1740050475; h=references:in-reply-to:cc:to:from:subject:message-id:date :x-gm-message-state:from:to:cc:subject:date:message-id:reply-to; bh=1TIWil+5t1PyGfcSRaOGkD/6VhN+QIe5yQuYbQGVflI=; b=CbPUZEqyeurvunHHXlWjqz4kbwWoCzfMZc3Tw55qKXK+690jIYzT+HptKf2E12Hd6H oChD/7NadvpI+PBCSeVRWfas5GRx8nRApK4zfrGxPhidht/jxoixfab0CVm2E/SWNazi X3/eekBsa82Q+I4r4vEYNKLvPirQmy/qo/+QMhy4O/vOjOiKzpz1bDJK1XiO0k1FzUrh WS8I1uZ1Vnd3BSqiXWjv0vKBnUvc7XCgfscqT2/xqpLE26tN0j1R+6CMa81CgM4+Dy0E qiq546tl9wikOEo2giqXWv/eRp60zqsyvIp3MQkMofKxfUOTKQfhwMESEV4iSzcP78Fw mvYA== X-Gm-Message-State: AOJu0YxDEMh0Lunhz3pjElYcu/03D4eC3phgMkUltnqlb08uIbGFPCky BqBbdgjLm10Iv8i16du1M37klbkkoo4CFhnAcEh6l9BCG6YOEpyCV/i8+ZMtLzUSF8NpBcAPXf4 hp1KpUTKcNYvoDIsmeWTgDQmfbTNTmQYNmqzLJY1O X-Gm-Gg: ASbGnct4Z2z5XpBYkLnUWZmvornAm2Ri9SGp6Ac3C+/iBmwkUa7HkJhL0I0HAmeN4zP P0K1WydxlDRISY8T0XcUFoyxB71BzOyO1nDgZGl+RJmJumdGs8NK+vBqzs8prmWCYWKT4J9qGqm bIJ43SFa2RJH0tuXEt6ZuS1EDdxMTWlDSpmCuD9oc7xFKoIu7FeXjwYXqTtrR2ZJKNIHd19DGkG bB51QoYW4Tnw5yHbuhhzWKslphP5NfrsDDj0twGIBYeU1hkVRgNGi1fV/AmYBqxg+QI1FnKrN5F W9KAL4KOdHZFrSn/UXIlxCQrdw1Sew== X-Google-Smtp-Source: AGHT+IHSz1c1/x5ZHq370nc9ubXDarEsCYQhGE0gUNzsipjcca+E+H0+YVfWNqxQLWXc2jEE/8fPKgMn4CDs X-Received: by 2002:a05:6602:6b09:b0:84f:2915:daef with SMTP id ca18e2360f4ac-85555dd1d7emr603511239f.12.1739445674955; Thu, 13 Feb 2025 03:21:14 -0800 (PST) Received: from postal.iol.unh.edu (postal.iol.unh.edu. [132.177.123.84]) by smtp-relay.gmail.com with ESMTPS id ca18e2360f4ac-85566e5975asm4493739f.14.2025.02.13.03.21.14 (version=TLS1_2 cipher=ECDHE-ECDSA-AES128-GCM-SHA256 bits=128/128); Thu, 13 Feb 2025 03:21:14 -0800 (PST) X-Relaying-Domain: iol.unh.edu Date: Thu, 13 Feb 2025 03:21:14 -0800 (PST) Message-ID: <67add5aa.050a0220.3026fe.261aSMTPIN_ADDED_MISSING@mx.google.com> Received: from [172.21.0.6] (unknown [172.18.0.240]) by postal.iol.unh.edu (Postfix) with ESMTP id 29B9E6052471; Thu, 13 Feb 2025 06:21:14 -0500 (EST) Subject: |SUCCESS| pw151438-151444 [PATCH] [v2,7/7] dts: remove node distinct From: dpdklab@iol.unh.edu To: Test Report Cc: dpdk-test-reports@iol.unh.edu In-Reply-To: <20250212164600.23759-8-luca.vizzarro@arm.com> References: <20250212164600.23759-8-luca.vizzarro@arm.com> Content-Type: text/plain X-BeenThere: test-report@dpdk.org X-Mailman-Version: 2.1.29 Precedence: list List-Id: automatic DPDK test reports List-Unsubscribe: , List-Archive: List-Post: List-Help: List-Subscribe: , Errors-To: test-report-bounces@dpdk.org Test-Label: iol-unit-amd64-testing Test-Status: SUCCESS http://dpdk.org/patch/151444 _Testing PASS_ Submitter: Luca Vizzarro Date: Wednesday, February 12 2025 16:46:00 DPDK git baseline: Repo:dpdk Branch: master CommitID:046cca99c3fd03bfb95d3e27a56aab40c2c8f45a 151438-151444 --> testing pass Upstream job id: Generic-Unit-Test-DPDK#314593 Test environment and result as below: +---------------------+----------------+ | Environment | dpdk_unit_test | +=====================+================+ | CentOS Stream 9 | PASS | +---------------------+----------------+ | Debian Bullseye | PASS | +---------------------+----------------+ | Debian 12 | PASS | +---------------------+----------------+ | Fedora 40 (Clang) | PASS | +---------------------+----------------+ | CentOS Stream 10 | PASS | +---------------------+----------------+ | Fedora 40 | PASS | +---------------------+----------------+ | Fedora 41 | PASS | +---------------------+----------------+ | Fedora 41 (Clang) | PASS | +---------------------+----------------+ | RHEL8 | PASS | +---------------------+----------------+ | RHEL9 | PASS | +---------------------+----------------+ | Ubuntu 20.04 | PASS | +---------------------+----------------+ | Ubuntu 22.04 | PASS | +---------------------+----------------+ | Ubuntu 24.04 | PASS | +---------------------+----------------+ | Windows Server 2022 | PASS | +---------------------+----------------+ CentOS Stream 9 Kernel: Depends on container host Compiler: gcc 11.5.0 20240719 (Red Hat 11.5.0-2) Debian Bullseye Kernel: Depends on container host Compiler: gcc (Debian 10.2.1-6) 10.2.1 20210110 Debian 12 Kernel: Depends on container host Compiler: gcc (Debian 12.2.0-14) 12.2.0 Fedora 40 (Clang) Kernel: Depends on container host Compiler: clang 18.1.8 (Fedora 18.1.8-1.fc40) CentOS Stream 10 Kernel: Depends on container host Compiler: gcc 14.2.1 20241104 (Red Hat 14.2.1-6) Fedora 40 Kernel: Depends on container host Compiler: gcc 14.2.1 20240912 (Red Hat 14.2.1-3) Fedora 41 Kernel: Depends on container host Compiler: gcc 14.2.1 20240912 (Red Hat 14.2.1-3) Fedora 41 (Clang) Kernel: Depends on container host Compiler: clang 19.1.5 (Fedora 19.1.5-1.fc41) RHEL8 Kernel: Depends on container host Compiler: gcc 8.5.0 20210514 (Red Hat 8.5.0-22) RHEL9 Kernel: Depends on container host Compiler: gcc 11.5.0 20240719 (Red Hat 11.5.0-2) Ubuntu 20.04 Kernel: Depends on container host Compiler: gcc (Ubuntu 9.4.0-1ubuntu1~20.04.2) 9.4.0 Ubuntu 22.04 Kernel: Depends on container host Compiler: gcc (Ubuntu 11.4.0-1ubuntu1~22.04) 11.4.0 Ubuntu 24.04 Kernel: Depends on container host Compiler: gcc (Ubuntu 13.3.0-6ubuntu2~24.04) 13.3.0 Windows Server 2022 Kernel: 10.0.20348.2031 Compiler: clang 15.0.7, gcc 14.1.0 (MinGW), and MSVC VS 19.39.33521 To view detailed results, visit: https://lab.dpdk.org/results/dashboard/patchsets/32569/ UNH-IOL DPDK Community Lab To manage your email subscriptions, visit: https://lab.dpdk.org/results/dashboard/preferences/subscriptions/