From mboxrd@z Thu Jan 1 00:00:00 1970 Return-Path: Received: from mails.dpdk.org (mails.dpdk.org [217.70.189.124]) by inbox.dpdk.org (Postfix) with ESMTP id 37D5D46214 for ; Thu, 13 Feb 2025 12:22:48 +0100 (CET) Received: from mails.dpdk.org (localhost [127.0.0.1]) by mails.dpdk.org (Postfix) with ESMTP id 3191942EA9; Thu, 13 Feb 2025 12:22:48 +0100 (CET) Received: from mail-qv1-f99.google.com (mail-qv1-f99.google.com [209.85.219.99]) by mails.dpdk.org (Postfix) with ESMTP id DE42440287 for ; Thu, 13 Feb 2025 12:22:46 +0100 (CET) Received: by mail-qv1-f99.google.com with SMTP id 6a1803df08f44-6e44f9db46bso8498796d6.1 for ; Thu, 13 Feb 2025 03:22:46 -0800 (PST) DKIM-Signature: v=1; a=rsa-sha256; c=relaxed/relaxed; d=iol.unh.edu; s=unh-iol; t=1739445766; x=1740050566; darn=dpdk.org; h=references:in-reply-to:cc:to:from:subject:message-id:date:from:to :cc:subject:date:message-id:reply-to; bh=YguKcAoEho2wMTFDF24oaBV9fZ3l0zW3g6g9mQH0+2M=; b=Ut3SC1jGdXh5CatKlOXmVbKr8wyCftkqNDmlKUTakoqLb+moNO+AyD3zhlDABcBKgh NKE9AjyA80mqB3c+yZ5bvGgk0isC4HKEzUgUv7HZAJjoJtAeLt+0gpyQogzqtZrNAU/C gBEGBI0mvU5gKaK93Q897hL28IQKtJHMYj8AI= X-Google-DKIM-Signature: v=1; a=rsa-sha256; c=relaxed/relaxed; d=1e100.net; s=20230601; t=1739445766; x=1740050566; h=references:in-reply-to:cc:to:from:subject:message-id:date :x-gm-message-state:from:to:cc:subject:date:message-id:reply-to; bh=YguKcAoEho2wMTFDF24oaBV9fZ3l0zW3g6g9mQH0+2M=; b=Tr1Cr6Qt4vbzvklIQ0dLzaYQpcy6XCQHLMiDTwYs6yD80JSxoiamZ14rPHB75ggETW zDYwLCDdJO7Sh3nOa1wUHBqC33Ne/pDyQRaaj2eCIPrRZMPLi2Xf2VqheZuftA78AP6s 0ydc77QI6MPx5JCbkVcL/zFLSX7yR6Zps2/Qke42ULzgWyvNRN2HBzRh9aU7Ulm2FVZm Y/MSx0fDveYVzecKaGO8zrwx//z6n0OwLL1gsY8KZSIsRjUJNwqS1gI5aCE1sc2/IuBd SdbXCNHvphxvRvJysGBl2A2lVieT4LKkXMIbGrBOHNwnNTI0/6gKEDRLWks0sn7t9ruo zihg== X-Gm-Message-State: AOJu0Yy3QRhnEWBveWcOwzJz5YUscFmykfctV42B7IhqgzUvlCKqCJqf UIYzY/4OcraSntA2iI2yjXK8Vl0JmUKVV1h7V9XVcJq4LriyA6D8GAXdS0F+VTPVAMtCt5mNq+z 47wkIUnN30N4t6qNyJAYDUN5tdSjEiWaeaR8TQyqtyUNn7B1/3SHssQWi X-Gm-Gg: ASbGncsK+jyhvm6mk9NWJ2iVR9zswpbpu3/TCuAIXf8hXWn0CIwxjbuEWwuTAuYg0yT lkwejWWMHzsYkOyAvqM6kj4aQioiBN11WRSxmSuhB4gwYmpt87LUyyNj+j27JktEht8h/RolIFN wfDQdIrc2whAByAB3gF5t07680PsQ2HJxrFf3Ayt+bYQVh9+g8Hi030OsVWwripPZlLvxBI7app Z0vef8N+/JylGfpHU7CD31g9roPlCorm/JgbY3e0zFAiYPWoMcdz2Uv+6037EFm+5SC0Ci4CpCh HFzoPQmRXjxEK5pmeM1SF8dR8RB2P0SAfphvwAXpSg== X-Google-Smtp-Source: AGHT+IG7IvyiYBW6sxXCtdu5Gcg2PKD+RAMvQh2MVpTnwyiBhw5fv011JRXPSNdSW/gZYtwji9w93YMwf/Qx X-Received: by 2002:a05:6214:248e:b0:6e1:9126:4d15 with SMTP id 6a1803df08f44-6e46ed7f8d7mr84574116d6.11.1739445766295; Thu, 13 Feb 2025 03:22:46 -0800 (PST) Received: from postal.iol.unh.edu (postal.iol.unh.edu. [2606:4100:3880:1234::84]) by smtp-relay.gmail.com with ESMTPS id 6a1803df08f44-6e65d783f79sm508306d6.53.2025.02.13.03.22.46 (version=TLS1_2 cipher=ECDHE-ECDSA-AES128-GCM-SHA256 bits=128/128); Thu, 13 Feb 2025 03:22:46 -0800 (PST) X-Relaying-Domain: iol.unh.edu Date: Thu, 13 Feb 2025 03:22:46 -0800 (PST) Message-ID: <67add606.0c0a0220.15c6ae.2c7cSMTPIN_ADDED_MISSING@mx.google.com> Received: from [172.21.0.5] (unknown [172.18.0.240]) by postal.iol.unh.edu (Postfix) with ESMTP id 8B5B36052471; Thu, 13 Feb 2025 06:22:45 -0500 (EST) Subject: |SUCCESS| pw151438-151444 [PATCH] [v2,7/7] dts: remove node distinct From: dpdklab@iol.unh.edu To: Test Report Cc: dpdk-test-reports@iol.unh.edu In-Reply-To: <20250212164600.23759-8-luca.vizzarro@arm.com> References: <20250212164600.23759-8-luca.vizzarro@arm.com> Content-Type: text/plain X-BeenThere: test-report@dpdk.org X-Mailman-Version: 2.1.29 Precedence: list List-Id: automatic DPDK test reports List-Unsubscribe: , List-Archive: List-Post: List-Help: List-Subscribe: , Errors-To: test-report-bounces@dpdk.org Test-Label: iol-abi-testing Test-Status: SUCCESS http://dpdk.org/patch/151444 _Testing PASS_ Submitter: Luca Vizzarro Date: Wednesday, February 12 2025 16:46:00 DPDK git baseline: Repo:dpdk Branch: master CommitID:046cca99c3fd03bfb95d3e27a56aab40c2c8f45a 151438-151444 --> testing pass Upstream job id: Generic-DPDK-Compile-ABI#116021 Test environment and result as below: +-------------------+----------+ | Environment | abi_test | +===================+==========+ | CentOS Stream 9 | PASS | +-------------------+----------+ | Debian Bullseye | PASS | +-------------------+----------+ | CentOS Stream 10 | PASS | +-------------------+----------+ | Debian 12 | PASS | +-------------------+----------+ | openSUSE Leap 15 | PASS | +-------------------+----------+ | Fedora 40 | PASS | +-------------------+----------+ | Fedora 40 (Clang) | PASS | +-------------------+----------+ | Fedora 41 (Clang) | PASS | +-------------------+----------+ | Fedora 41 | PASS | +-------------------+----------+ | Ubuntu 22.04 | PASS | +-------------------+----------+ | RHEL8 | PASS | +-------------------+----------+ | RHEL9 | PASS | +-------------------+----------+ | Ubuntu 24.04 | PASS | +-------------------+----------+ CentOS Stream 9 Kernel: Depends on container host Compiler: gcc 11.5.0 20240719 (Red Hat 11.5.0-2) Debian Bullseye Kernel: Depends on container host Compiler: gcc (Debian 10.2.1-6) 10.2.1 20210110 CentOS Stream 10 Kernel: Depends on container host Compiler: gcc 14.2.1 20241104 (Red Hat 14.2.1-6) Debian 12 Kernel: Depends on container host Compiler: gcc (Debian 12.2.0-14) 12.2.0 openSUSE Leap 15 Kernel: Depends on container host Compiler: gcc (SUSE Linux) 7.5.0 Fedora 40 Kernel: Depends on container host Compiler: gcc 14.2.1 20240912 (Red Hat 14.2.1-3) Fedora 40 (Clang) Kernel: Depends on container host Compiler: clang 18.1.8 (Fedora 18.1.8-1.fc40) Fedora 41 (Clang) Kernel: Depends on container host Compiler: clang 19.1.5 (Fedora 19.1.5-1.fc41) Fedora 41 Kernel: Depends on container host Compiler: gcc 14.2.1 20240912 (Red Hat 14.2.1-3) Ubuntu 22.04 Kernel: Depends on container host Compiler: gcc (Ubuntu 11.4.0-1ubuntu1~22.04) 11.4.0 RHEL8 Kernel: Depends on container host Compiler: gcc 8.5.0 20210514 (Red Hat 8.5.0-22) RHEL9 Kernel: Depends on container host Compiler: gcc 11.5.0 20240719 (Red Hat 11.5.0-2) Ubuntu 24.04 Kernel: Depends on container host Compiler: gcc (Ubuntu 13.3.0-6ubuntu2~24.04) 13.3.0 To view detailed results, visit: https://lab.dpdk.org/results/dashboard/patchsets/32569/ UNH-IOL DPDK Community Lab To manage your email subscriptions, visit: https://lab.dpdk.org/results/dashboard/preferences/subscriptions/