From mboxrd@z Thu Jan 1 00:00:00 1970 Return-Path: Received: from mails.dpdk.org (mails.dpdk.org [217.70.189.124]) by inbox.dpdk.org (Postfix) with ESMTP id 7300D46214 for ; Thu, 13 Feb 2025 12:58:16 +0100 (CET) Received: from mails.dpdk.org (localhost [127.0.0.1]) by mails.dpdk.org (Postfix) with ESMTP id 4B7E442ECF; Thu, 13 Feb 2025 12:58:16 +0100 (CET) Received: from mail-pl1-f226.google.com (mail-pl1-f226.google.com [209.85.214.226]) by mails.dpdk.org (Postfix) with ESMTP id 3DC4A42EA9 for ; Thu, 13 Feb 2025 12:58:15 +0100 (CET) Received: by mail-pl1-f226.google.com with SMTP id d9443c01a7336-220d601886fso7557385ad.1 for ; Thu, 13 Feb 2025 03:58:15 -0800 (PST) DKIM-Signature: v=1; a=rsa-sha256; c=relaxed/relaxed; d=iol.unh.edu; s=unh-iol; t=1739447894; x=1740052694; darn=dpdk.org; h=references:in-reply-to:cc:to:from:subject:message-id:date:from:to :cc:subject:date:message-id:reply-to; bh=KgV2XdJyYZTUDq5ySGSzYQS6QrJotrOqJrCLXqNYyNw=; b=CVqV38nLCb8xH+xroTemqQepHD7hlUNdg5VB3kNHRCeXpeBIGsfytPY70yGQ7KSkvE mSb8uRWm7+CvaM08x/MmAukVwAvWIDBM1U9vfecXknSXtN4QO/3rHDALa2Wi2hA6OQD9 iC9E9cxbkSfMB65CYBZZstwu501I8k2qqkKcY= X-Google-DKIM-Signature: v=1; a=rsa-sha256; c=relaxed/relaxed; d=1e100.net; s=20230601; t=1739447894; x=1740052694; h=references:in-reply-to:cc:to:from:subject:message-id:date :x-gm-message-state:from:to:cc:subject:date:message-id:reply-to; bh=KgV2XdJyYZTUDq5ySGSzYQS6QrJotrOqJrCLXqNYyNw=; b=n0emGOYfqyVW6uhH7UyIAKWcX66HtjWnNhfkiG66kr8M4oR3hczPS0CfJuox2R3M9l EF5DW2P6XsGCloWjzXB0d28gopWaxkA2b1Uav4PfWrEAYWbxbqUbkPcwEaHchLx5b8gK AmYS5ofaVVQTVnXwpUZ4v3CHw2jKlCwLMd+3fRnX8PS1v5OWYphlYiHkLXOfv36OZq7L eRORvts4qGarbiBzaiqFj4McmI1GbA1x4/TiIZe5dnef4fHH6qQwIk/J10nCXVeW0oi3 Phs7YgUB/F9juM3HQvFQ3zFO9QJN9L2vfaRCcpBtkqgDGnfgqXzPUfhI6rSiVd5q9jY/ u1QA== X-Gm-Message-State: AOJu0YwLY8sjLTAKJ+Hjq0ngo7A81/fmdE01cG4bIdgjBSUri/o0a6TT MgUdWaytXbbdsW91WxVHk6gzkXwGZh6XLYjCYpea8g09+N0nKP6uW5/ZUAkXReFtCy4Z1wTPhtd GMwWD//5FXiMH+k26gh/u8VxJh8DSdxtibh6wWOoq+jLeVKUzUL+9IkPd X-Gm-Gg: ASbGncu0HX7RNWlOjUzUWdmnyWvCznrRX37VPDh+AoOnIB+yND7V0IVbzAg6hL7kfrs A9Qsa9kbxWZnd+Eri6hZcBnx4eQd0E8YwMiYqGvMUqoLnBw/1+OwF58UbgHPcR+lYpF2WX84v2l IbWcAOUPFWcG+orIx+8V6I9wm8GxJtPnrREeJiCjmJE05aaTy8XkLcN2fynbBoJ81zS5KIUoHWi wTj8YT3PhoffwGn97RF9ERBq57HCuqqTJJG32417y+6/VwUAkH8pFtn4agVwheLygxGIMwMeeBZ B42DrHmMIUBfdKXA+KNhs7ePv+gWBe7E50ldZYOUAg== X-Google-Smtp-Source: AGHT+IHViD6G3r9Up9uBSTv1owhJ2lZDS80SpzDph0jl1LlUa3OWF00pv2STrz1Ycw6lWaqJ8tD3hYbnwJCs X-Received: by 2002:a05:6a21:10d:b0:1e0:da90:5f1f with SMTP id adf61e73a8af0-1ee6b2fe460mr4850831637.16.1739447894228; Thu, 13 Feb 2025 03:58:14 -0800 (PST) Received: from postal.iol.unh.edu (postal.iol.unh.edu. [2606:4100:3880:1234::84]) by smtp-relay.gmail.com with ESMTPS id 41be03b00d2f7-adb570b38e0sm62280a12.1.2025.02.13.03.58.14 (version=TLS1_2 cipher=ECDHE-ECDSA-AES128-GCM-SHA256 bits=128/128); Thu, 13 Feb 2025 03:58:14 -0800 (PST) X-Relaying-Domain: iol.unh.edu Date: Thu, 13 Feb 2025 03:58:14 -0800 (PST) Message-ID: <67adde56.630a0220.19a5d.372bSMTPIN_ADDED_MISSING@mx.google.com> Received: from [172.21.0.6] (unknown [172.18.0.240]) by postal.iol.unh.edu (Postfix) with ESMTP id CFB826052471; Thu, 13 Feb 2025 06:58:12 -0500 (EST) Subject: |SUCCESS| pw151438-151444 [PATCH] [v2,7/7] dts: remove node distinct From: dpdklab@iol.unh.edu To: Test Report Cc: dpdk-test-reports@iol.unh.edu In-Reply-To: <20250212164600.23759-8-luca.vizzarro@arm.com> References: <20250212164600.23759-8-luca.vizzarro@arm.com> Content-Type: text/plain X-BeenThere: test-report@dpdk.org X-Mailman-Version: 2.1.29 Precedence: list List-Id: automatic DPDK test reports List-Unsubscribe: , List-Archive: List-Post: List-Help: List-Subscribe: , Errors-To: test-report-bounces@dpdk.org Test-Label: iol-unit-amd64-testing Test-Status: SUCCESS http://dpdk.org/patch/151444 _Testing PASS_ Submitter: Luca Vizzarro Date: Wednesday, February 12 2025 16:46:00 DPDK git baseline: Repo:dpdk Branch: master CommitID:046cca99c3fd03bfb95d3e27a56aab40c2c8f45a 151438-151444 --> testing pass Upstream job id: Generic-Unit-Test-DPDK#314601 Test environment and result as below: +---------------------+----------------+ | Environment | dpdk_unit_test | +=====================+================+ | CentOS Stream 9 | PASS | +---------------------+----------------+ | Fedora 40 | PASS | +---------------------+----------------+ | Debian 12 | PASS | +---------------------+----------------+ | Debian Bullseye | PASS | +---------------------+----------------+ | CentOS Stream 10 | PASS | +---------------------+----------------+ | Fedora 40 (Clang) | PASS | +---------------------+----------------+ | RHEL9 | PASS | +---------------------+----------------+ | Fedora 41 (Clang) | PASS | +---------------------+----------------+ | RHEL8 | PASS | +---------------------+----------------+ | Fedora 41 | PASS | +---------------------+----------------+ | Ubuntu 20.04 | PASS | +---------------------+----------------+ | Ubuntu 22.04 | PASS | +---------------------+----------------+ | Ubuntu 24.04 | PASS | +---------------------+----------------+ | Windows Server 2022 | PASS | +---------------------+----------------+ CentOS Stream 9 Kernel: Depends on container host Compiler: gcc 11.5.0 20240719 (Red Hat 11.5.0-2) Fedora 40 Kernel: Depends on container host Compiler: gcc 14.2.1 20240912 (Red Hat 14.2.1-3) Debian 12 Kernel: Depends on container host Compiler: gcc (Debian 12.2.0-14) 12.2.0 Debian Bullseye Kernel: Depends on container host Compiler: gcc (Debian 10.2.1-6) 10.2.1 20210110 CentOS Stream 10 Kernel: Depends on container host Compiler: gcc 14.2.1 20241104 (Red Hat 14.2.1-6) Fedora 40 (Clang) Kernel: Depends on container host Compiler: clang 18.1.8 (Fedora 18.1.8-1.fc40) RHEL9 Kernel: Depends on container host Compiler: gcc 11.5.0 20240719 (Red Hat 11.5.0-2) Fedora 41 (Clang) Kernel: Depends on container host Compiler: clang 19.1.5 (Fedora 19.1.5-1.fc41) RHEL8 Kernel: Depends on container host Compiler: gcc 8.5.0 20210514 (Red Hat 8.5.0-22) Fedora 41 Kernel: Depends on container host Compiler: gcc 14.2.1 20240912 (Red Hat 14.2.1-3) Ubuntu 20.04 Kernel: Depends on container host Compiler: gcc (Ubuntu 9.4.0-1ubuntu1~20.04.2) 9.4.0 Ubuntu 22.04 Kernel: Depends on container host Compiler: gcc (Ubuntu 11.4.0-1ubuntu1~22.04) 11.4.0 Ubuntu 24.04 Kernel: Depends on container host Compiler: gcc (Ubuntu 13.3.0-6ubuntu2~24.04) 13.3.0 Windows Server 2022 Kernel: 10.0.20348.2031 Compiler: clang 15.0.7, gcc 14.1.0 (MinGW), and MSVC VS 19.39.33521 To view detailed results, visit: https://lab.dpdk.org/results/dashboard/patchsets/32569/ UNH-IOL DPDK Community Lab To manage your email subscriptions, visit: https://lab.dpdk.org/results/dashboard/preferences/subscriptions/