From mboxrd@z Thu Jan 1 00:00:00 1970 Return-Path: Received: from mails.dpdk.org (mails.dpdk.org [217.70.189.124]) by inbox.dpdk.org (Postfix) with ESMTP id 16BC246216 for ; Thu, 13 Feb 2025 13:30:25 +0100 (CET) Received: from mails.dpdk.org (localhost [127.0.0.1]) by mails.dpdk.org (Postfix) with ESMTP id D5DE542EA9; Thu, 13 Feb 2025 13:30:24 +0100 (CET) Received: from mail-il1-f226.google.com (mail-il1-f226.google.com [209.85.166.226]) by mails.dpdk.org (Postfix) with ESMTP id 3E0D640287 for ; Thu, 13 Feb 2025 13:30:23 +0100 (CET) Received: by mail-il1-f226.google.com with SMTP id e9e14a558f8ab-3cfc8772469so2468415ab.3 for ; Thu, 13 Feb 2025 04:30:23 -0800 (PST) DKIM-Signature: v=1; a=rsa-sha256; c=relaxed/relaxed; d=iol.unh.edu; s=unh-iol; t=1739449822; x=1740054622; darn=dpdk.org; h=references:in-reply-to:cc:to:from:subject:message-id:date:from:to :cc:subject:date:message-id:reply-to; bh=DHYjwv1N+kxW1yegQMmRjd4tga9wKdEzgtlIC1ZIGwU=; b=BOtjPR1SASsnu58L3qgEtZTPNBI/Rnn34Z00/0t3M5b8Kb+LSFmYwe9cNZX97tDg9/ MTwymSQBXA1KQ0z9EkYgFC8MOswQBIgMQzQ0jkfmBa+MGCpjMSqeHl+gyoUFP75sMOEr rRisyDb5v7wH5vsm0ZL4s6kedGAPj46boga3Y= X-Google-DKIM-Signature: v=1; a=rsa-sha256; c=relaxed/relaxed; d=1e100.net; s=20230601; t=1739449822; x=1740054622; h=references:in-reply-to:cc:to:from:subject:message-id:date :x-gm-message-state:from:to:cc:subject:date:message-id:reply-to; bh=DHYjwv1N+kxW1yegQMmRjd4tga9wKdEzgtlIC1ZIGwU=; b=sVIoPJ+X6ZDorkWWD9BB26DT/K9S1FDWgGsSxJm7TWF0xtM35KLUZXlum9vRsp7y/7 kfwffhBgIY6AM/G663l5fdLXpEg1qhF9jc5MbuBxIW4fz5or2buoC8klbAwGLn/6nF+v 8MTzawkzogUdzY9y9iJq/aacAPxcnIPnkdhybrl0Z9TPPABNwdsGCHfyffj0UFPTBUdn WhIl0CHhQ6H7FPBNuGxZw7G/Dk07UEcsRnuNwiKiPIXDj3zdKD5get+kFknYGh5aKF/J KlYCCxvvCAyVJ2Ik8TRbtOTnFClI52HAyKuXyd2ReCZfMfCNH9WvrcVPjqNKoas9HIhd CH9g== X-Gm-Message-State: AOJu0Yxsb1NIBzgdUH5kqRBBXIfy6hzenK2ke2O02TFVHA9pxunmtDgF KOr+VrFH5WIB0lGa38/FVAc8RFWYFS9E/+bAXMZ2LqI9QkdoZl9a7cIF3APb2ODOdxuT6T5NErw wPIikZVQXKDDHrtKdOfqvA+Jun6ch4B3QhUnx7Mkg8w5RKPKKO+XpI4N2 X-Gm-Gg: ASbGncvg9k6uAJTpzWwkkkA47kFg8avwzj6qnTXiUZHsPCUbJwM8PydQc6xK+S9jZVv HMqFor5xwokKQqkAlPvDmo7go4cmOQn9bGE6JQ4z2DHn2KpmfCFaqWRFPGnkG86mcAPdzKu/xXw ueXTbYSrBbh2pnjsCexeP5n1mmUbpDI3k3SQtsUtLiWCome2OhmgzsRMJyuKtsDB8PG/T3IOzvl P4D/ii/ljLFPE8+vqilLdcNKpkpjpYI5XJ7hgo0V9wuT64/Bf1ePf9ift1orEucIazVfOqyrEPt 5fcN/4t3ySUr7ih61VWqYaUbni8AXnT1T5vg+IFrAQ== X-Google-Smtp-Source: AGHT+IFYC+TAgORfy0ms+ii02CckeUOKnJ8u+dBLpGWV3HjZjG2fqdvfad62FC7iZsL6DcVp40Bb1UieeKGP X-Received: by 2002:a05:6e02:4807:b0:3d0:258e:4841 with SMTP id e9e14a558f8ab-3d17c0123admr52090535ab.21.1739449822539; Thu, 13 Feb 2025 04:30:22 -0800 (PST) Received: from postal.iol.unh.edu (postal.iol.unh.edu. [2606:4100:3880:1234::84]) by smtp-relay.gmail.com with ESMTPS id e9e14a558f8ab-3d18f9c74d5sm666695ab.28.2025.02.13.04.30.22 (version=TLS1_2 cipher=ECDHE-ECDSA-AES128-GCM-SHA256 bits=128/128); Thu, 13 Feb 2025 04:30:22 -0800 (PST) X-Relaying-Domain: iol.unh.edu Date: Thu, 13 Feb 2025 04:30:22 -0800 (PST) Message-ID: <67ade5de.050a0220.1bda2b.3c4fSMTPIN_ADDED_MISSING@mx.google.com> Received: from [172.21.0.7] (unknown [172.18.0.240]) by postal.iol.unh.edu (Postfix) with ESMTP id EAE4C6052471; Thu, 13 Feb 2025 07:30:21 -0500 (EST) Subject: |SUCCESS| pw151445-151446 [PATCH] [v2,2/2] net/intel: add Tx time qu From: dpdklab@iol.unh.edu To: Test Report Cc: dpdk-test-reports@iol.unh.edu In-Reply-To: <20250212214711.1046777-3-soumyadeep.hore@intel.com> References: <20250212214711.1046777-3-soumyadeep.hore@intel.com> Content-Type: text/plain X-BeenThere: test-report@dpdk.org X-Mailman-Version: 2.1.29 Precedence: list List-Id: automatic DPDK test reports List-Unsubscribe: , List-Archive: List-Post: List-Help: List-Subscribe: , Errors-To: test-report-bounces@dpdk.org Test-Label: iol-compile-amd64-testing Test-Status: SUCCESS http://dpdk.org/patch/151446 _Testing PASS_ Submitter: Soumyadeep Hore Date: Wednesday, February 12 2025 21:47:11 DPDK git baseline: Repo:dpdk Branch: master CommitID:c2b6f3e7212dc32603304a6bb41b0e8f081761a5 151445-151446 --> testing pass Upstream job id: Generic-DPDK-Compile-Meson#361163 Test environment and result as below: +---------------------+--------------------+-------------------+-------------------+------------------+----------------------+ | Environment | dpdk_meson_compile | dpdk_msvc_compile | dpdk_compile_spdk | dpdk_compile_ovs | dpdk_mingw64_compile | +=====================+====================+===================+===================+==================+======================+ | FreeBSD 13.4 | PASS | SKIPPED | SKIPPED | SKIPPED | SKIPPED | +---------------------+--------------------+-------------------+-------------------+------------------+----------------------+ | FreeBSD 14.2 | PASS | SKIPPED | SKIPPED | SKIPPED | SKIPPED | +---------------------+--------------------+-------------------+-------------------+------------------+----------------------+ | CentOS Stream 10 | PASS | SKIPPED | SKIPPED | SKIPPED | SKIPPED | +---------------------+--------------------+-------------------+-------------------+------------------+----------------------+ | Debian Bullseye | PASS | SKIPPED | PASS | SKIPPED | SKIPPED | +---------------------+--------------------+-------------------+-------------------+------------------+----------------------+ | Debian 12 | PASS | SKIPPED | PASS | SKIPPED | SKIPPED | +---------------------+--------------------+-------------------+-------------------+------------------+----------------------+ | Fedora 40 (Clang) | PASS | SKIPPED | PASS | SKIPPED | SKIPPED | +---------------------+--------------------+-------------------+-------------------+------------------+----------------------+ | Fedora 40 | PASS | SKIPPED | PASS | SKIPPED | SKIPPED | +---------------------+--------------------+-------------------+-------------------+------------------+----------------------+ | Fedora 41 (Clang) | PASS | SKIPPED | PASS | PASS | SKIPPED | +---------------------+--------------------+-------------------+-------------------+------------------+----------------------+ | Fedora 41 | PASS | SKIPPED | PASS | PASS | SKIPPED | +---------------------+--------------------+-------------------+-------------------+------------------+----------------------+ | openSUSE Leap 15 | PASS | SKIPPED | SKIPPED | SKIPPED | SKIPPED | +---------------------+--------------------+-------------------+-------------------+------------------+----------------------+ | RHEL8 | PASS | SKIPPED | SKIPPED | SKIPPED | SKIPPED | +---------------------+--------------------+-------------------+-------------------+------------------+----------------------+ | RHEL9 | PASS | SKIPPED | SKIPPED | SKIPPED | SKIPPED | +---------------------+--------------------+-------------------+-------------------+------------------+----------------------+ | Ubuntu 20.04 | PASS | SKIPPED | SKIPPED | SKIPPED | SKIPPED | +---------------------+--------------------+-------------------+-------------------+------------------+----------------------+ | Ubuntu 22.04 | PASS | SKIPPED | PASS | SKIPPED | SKIPPED | +---------------------+--------------------+-------------------+-------------------+------------------+----------------------+ | Ubuntu 24.04 | PASS | SKIPPED | PASS | PASS | SKIPPED | +---------------------+--------------------+-------------------+-------------------+------------------+----------------------+ | Alpine | PASS | SKIPPED | SKIPPED | SKIPPED | SKIPPED | +---------------------+--------------------+-------------------+-------------------+------------------+----------------------+ | CentOS Stream 9 | PASS | SKIPPED | PASS | SKIPPED | SKIPPED | +---------------------+--------------------+-------------------+-------------------+------------------+----------------------+ | Windows Server 2022 | SKIPPED | PASS | SKIPPED | SKIPPED | PASS | +---------------------+--------------------+-------------------+-------------------+------------------+----------------------+ FreeBSD 13.4 Kernel: 13.4-RELEASE-p1 Compiler: clang 18.1.6 FreeBSD 14.2 Kernel: 14.2-RELEASE Compiler: clang 18.1.6 CentOS Stream 10 Kernel: Depends on container host Compiler: gcc 14.2.1 20241104 (Red Hat 14.2.1-6) Debian Bullseye Kernel: Depends on container host Compiler: gcc (Debian 10.2.1-6) 10.2.1 20210110 Debian 12 Kernel: Depends on container host Compiler: gcc (Debian 12.2.0-14) 12.2.0 Fedora 40 (Clang) Kernel: Depends on container host Compiler: clang 18.1.8 (Fedora 18.1.8-1.fc40) Fedora 40 Kernel: Depends on container host Compiler: gcc 14.2.1 20240912 (Red Hat 14.2.1-3) Fedora 41 (Clang) Kernel: Depends on container host Compiler: clang 19.1.5 (Fedora 19.1.5-1.fc41) Fedora 41 Kernel: Depends on container host Compiler: gcc 14.2.1 20240912 (Red Hat 14.2.1-3) openSUSE Leap 15 Kernel: Depends on container host Compiler: gcc (SUSE Linux) 7.5.0 RHEL8 Kernel: Depends on container host Compiler: gcc 8.5.0 20210514 (Red Hat 8.5.0-22) RHEL9 Kernel: Depends on container host Compiler: gcc 11.5.0 20240719 (Red Hat 11.5.0-2) Ubuntu 20.04 Kernel: Depends on container host Compiler: gcc (Ubuntu 9.4.0-1ubuntu1~20.04.2) 9.4.0 Ubuntu 22.04 Kernel: Depends on container host Compiler: gcc (Ubuntu 11.4.0-1ubuntu1~22.04) 11.4.0 Ubuntu 24.04 Kernel: Depends on container host Compiler: gcc (Ubuntu 13.3.0-6ubuntu2~24.04) 13.3.0 Alpine Kernel: Depends on container host Compiler: gcc (Alpine 14.2.0) 14.2.0 CentOS Stream 9 Kernel: Depends on container host Compiler: gcc 11.5.0 20240719 (Red Hat 11.5.0-2) Windows Server 2022 Kernel: 10.0.20348.2031 Compiler: clang 15.0.7, gcc 14.1.0 (MinGW), and MSVC VS 19.39.33521 To view detailed results, visit: https://lab.dpdk.org/results/dashboard/patchsets/32570/ UNH-IOL DPDK Community Lab To manage your email subscriptions, visit: https://lab.dpdk.org/results/dashboard/preferences/subscriptions/