From mboxrd@z Thu Jan 1 00:00:00 1970 Return-Path: Received: from mails.dpdk.org (mails.dpdk.org [217.70.189.124]) by inbox.dpdk.org (Postfix) with ESMTP id A933546218 for ; Thu, 13 Feb 2025 13:37:01 +0100 (CET) Received: from mails.dpdk.org (localhost [127.0.0.1]) by mails.dpdk.org (Postfix) with ESMTP id 8705C42EA9; Thu, 13 Feb 2025 13:37:01 +0100 (CET) Received: from mail-vs1-f99.google.com (mail-vs1-f99.google.com [209.85.217.99]) by mails.dpdk.org (Postfix) with ESMTP id 6063640287 for ; Thu, 13 Feb 2025 13:37:00 +0100 (CET) Received: by mail-vs1-f99.google.com with SMTP id ada2fe7eead31-4ba9680271fso514737137.1 for ; Thu, 13 Feb 2025 04:37:00 -0800 (PST) DKIM-Signature: v=1; a=rsa-sha256; c=relaxed/relaxed; d=iol.unh.edu; s=unh-iol; t=1739450219; x=1740055019; darn=dpdk.org; h=cc:to:from:subject:message-id:date:from:to:cc:subject:date :message-id:reply-to; bh=sWyPOZbftKalqV/40basAEem9NhBHk9nqGO8ap20N7M=; b=ZF0yUZg+xn+Lit/WTl8Y5kSwJMRYoXoGOqqQXyEgcvyuynB4NYxrx3KSr8QV8e6YGR NDE41L/gwrNim3uZnGtqJJxvqLwQ5Z1F+DhuUQjQh624Ra66Pu+J+nGwI8lG5FJcd8L/ DDvu5twyA61r/HHrj6Aem1gMrlI5zuddXxuLs= X-Google-DKIM-Signature: v=1; a=rsa-sha256; c=relaxed/relaxed; d=1e100.net; s=20230601; t=1739450219; x=1740055019; h=cc:to:from:subject:message-id:date:x-gm-message-state:from:to:cc :subject:date:message-id:reply-to; bh=sWyPOZbftKalqV/40basAEem9NhBHk9nqGO8ap20N7M=; b=jGc23EtsRxwkjtIhLdH97AikMxexAooK0r3Mq019zCUkpacWlQVxzAVbKk/dYV8ToI un6MUTZc4+u5SQxXLKXkFy9YR8Gwkn3Yv6g/P0z8rfGM2TJ8mlcAM6xLFYMYS6ZLciyr JmUpYEC9vUUllQR267GWhztYeTkCVkBbbABlpUDbryjqm+ArAs572YpG6ZbMsCwrj8gO J0LGUONLSXYsydYX3Gs1o80qOIVkEHiCJSIZG3a3gNOVmhZ5rX2Mz68GYsnRByzTSH3q Ij7INTYsNT0KLnxqC1OEF8TY3MW20zgnFdHm9LmdsDPhiB20+T0eZ3p5Tv7dhxAEciaC h6SA== X-Gm-Message-State: AOJu0YwxFbL2CumCmfmXaqb7+WB7Dn4nksTfIRgCNWGuD+iSkKNWZbdr hHzjGflq2ORBWGvCkM23hz+nrY+nuEUH4dU90mG5CG078WAbCwzVjzYbIypm65PohB2mR6WQWJB HDn3cSZfdJEYoW2n0XtJ4IBom7iMmyptKpP9ukTe+KTlexdYA X-Gm-Gg: ASbGncv0ZKNRNIGlHLUpT7eks/WNfSAUnZQBOAR7QS/+YdflfA7GG946dYTI9uc3UAb nQap3owokialpkUhidmMi71WyqLxCR1Uh91T3lFHw94/bantM92u6m9abaupvwxNc30jA90CU+U 547hBuVl+JgGxhamjacVgE1wxJQ8Se1IsQeDF1G01uCxP0kTVpKxzMdhz8PtqWIg8sg2Q3oPreL R/mN99ia0ayqONcfwUPYo2G9tZA7hTSwsfQMXm8AK8Gm0aIzXuBkqe3krzD+4X/eBugIRDtMViN ONP8cv3YzyzjsgK189cC2HbEZ5OSGIBn79c0wC3dsg== X-Google-Smtp-Source: AGHT+IHPu39yLrG7K5utiWupGZFy5ZM/Fr7NyuIi3hcGhKmr3yA4HnW417vo1c/6KYHBN9f3330v6fy5xbOy X-Received: by 2002:a05:6102:3f54:b0:4b3:fee3:2820 with SMTP id ada2fe7eead31-4bc054a7473mr1487498137.9.1739450219689; Thu, 13 Feb 2025 04:36:59 -0800 (PST) Received: from postal.iol.unh.edu (postal.iol.unh.edu. [2606:4100:3880:1234::84]) by smtp-relay.gmail.com with ESMTPS id ada2fe7eead31-4bc0798b091sm52026137.3.2025.02.13.04.36.59 (version=TLS1_2 cipher=ECDHE-ECDSA-AES128-GCM-SHA256 bits=128/128); Thu, 13 Feb 2025 04:36:59 -0800 (PST) X-Relaying-Domain: iol.unh.edu Date: Thu, 13 Feb 2025 04:36:59 -0800 (PST) Message-ID: <67ade76b.050a0220.1d10bc.2a78SMTPIN_ADDED_MISSING@mx.google.com> Received: from [172.21.0.8] (unknown [172.18.0.240]) by postal.iol.unh.edu (Postfix) with ESMTP id 205916052471; Thu, 13 Feb 2025 07:36:59 -0500 (EST) Subject: |SUCCESS| [GIT MASTER] c66daa12e76d7b4912cfb7109a761856a7a873ab From: dpdklab@iol.unh.edu To: Test Report Cc: dpdk-test-reports@iol.unh.edu, Xueming Li , Christian Ehrhardt , Kevin Traynor , Luca Boccassi Content-Type: text/plain X-BeenThere: test-report@dpdk.org X-Mailman-Version: 2.1.29 Precedence: list List-Id: automatic DPDK test reports List-Unsubscribe: , List-Archive: List-Post: List-Help: List-Subscribe: , Errors-To: test-report-bounces@dpdk.org _Testing PASS_ Branch: tags/v23.11 c66daa12e76d7b4912cfb7109a761856a7a873ab --> testing pass Upstream job id: ACVP-FIPS-testing#8896 Test environment and result as below: +--------------------+----------------------+----------------------+ | Environment | compressdev_zlib_pmd | dpdk_fips_validation | +====================+======================+======================+ | Ubuntu 22.04 (ARM) | PASS | SKIPPED | +--------------------+----------------------+----------------------+ | Ubuntu 22.04 | PASS | SKIPPED | +--------------------+----------------------+----------------------+ | Ubuntu 20.04 | SKIPPED | PASS | +--------------------+----------------------+----------------------+ Ubuntu 22.04 (ARM) Kernel: 5.15.0-97-generic Compiler: gcc gcc (Ubuntu 11.4.0-1ubuntu1~22.04) 11.4.0 Ubuntu 22.04 Kernel: 5.15.0-100-generic Compiler: gcc gcc (Ubuntu 11.4.0-1ubuntu1~22.04) 11.4.0 Ubuntu 20.04 Kernel: Depends on container host Compiler: gcc (Ubuntu 9.4.0-1ubuntu1~20.04.2) 9.4.0 To view detailed results, visit: https://lab.dpdk.org/results/dashboard/tarballs/32558/ UNH-IOL DPDK Community Lab To manage your email subscriptions, visit: https://lab.dpdk.org/results/dashboard/preferences/subscriptions/