From: dpdklab@iol.unh.edu
To: Test Report <test-report@dpdk.org>
Cc: dpdk-test-reports@iol.unh.edu
Subject: |SUCCESS| pw151438-151444 [PATCH] [v2,7/7] dts: remove node distinct
Date: Thu, 13 Feb 2025 04:42:27 -0800 (PST) [thread overview]
Message-ID: <67ade8b3.050a0220.1afa2a.3319SMTPIN_ADDED_MISSING@mx.google.com> (raw)
In-Reply-To: <20250212164600.23759-8-luca.vizzarro@arm.com>
Test-Label: iol-unit-arm64-testing
Test-Status: SUCCESS
http://dpdk.org/patch/151444
_Testing PASS_
Submitter: Luca Vizzarro <luca.vizzarro@arm.com>
Date: Wednesday, February 12 2025 16:46:00
DPDK git baseline: Repo:dpdk
Branch: master
CommitID:046cca99c3fd03bfb95d3e27a56aab40c2c8f45a
151438-151444 --> testing pass
Upstream job id: Generic-Unit-Test-DPDK#314622
Test environment and result as below:
+-----------------------------+----------------+--------------+---------------------------+------------------------------+
| Environment | dpdk_unit_test | lpm_autotest | cryptodev_sw_zuc_autotest | cryptodev_sw_snow3g_autotest |
+=============================+================+==============+===========================+==============================+
| CentOS Stream 9 (ARM) | PASS | SKIPPED | SKIPPED | SKIPPED |
+-----------------------------+----------------+--------------+---------------------------+------------------------------+
| CentOS Stream 10 (ARM) | PASS | SKIPPED | SKIPPED | SKIPPED |
+-----------------------------+----------------+--------------+---------------------------+------------------------------+
| Debian 12 (arm) | PASS | SKIPPED | PASS | PASS |
+-----------------------------+----------------+--------------+---------------------------+------------------------------+
| Debian 11 (Buster) (ARM) | PASS | SKIPPED | SKIPPED | SKIPPED |
+-----------------------------+----------------+--------------+---------------------------+------------------------------+
| Fedora 40 (ARM) | PASS | SKIPPED | SKIPPED | SKIPPED |
+-----------------------------+----------------+--------------+---------------------------+------------------------------+
| Fedora 40 (ARM Clang) | PASS | SKIPPED | SKIPPED | SKIPPED |
+-----------------------------+----------------+--------------+---------------------------+------------------------------+
| 32-bit Ubuntu 22.04.4 (ARM) | PASS | SKIPPED | SKIPPED | SKIPPED |
+-----------------------------+----------------+--------------+---------------------------+------------------------------+
| Fedora 41 (ARM) | PASS | SKIPPED | SKIPPED | SKIPPED |
+-----------------------------+----------------+--------------+---------------------------+------------------------------+
| Fedora 41 (ARM Clang) | PASS | SKIPPED | SKIPPED | SKIPPED |
+-----------------------------+----------------+--------------+---------------------------+------------------------------+
| Ubuntu 22.04 (ARM) | PASS | SKIPPED | SKIPPED | SKIPPED |
+-----------------------------+----------------+--------------+---------------------------+------------------------------+
| RHEL9 (ARM) | PASS | SKIPPED | SKIPPED | SKIPPED |
+-----------------------------+----------------+--------------+---------------------------+------------------------------+
| Ubuntu 20.04 (ARM) | PASS | SKIPPED | SKIPPED | SKIPPED |
+-----------------------------+----------------+--------------+---------------------------+------------------------------+
| Ubuntu 24.04 (ARM) | PASS | SKIPPED | SKIPPED | SKIPPED |
+-----------------------------+----------------+--------------+---------------------------+------------------------------+
| Ubuntu 20.04 ARM SVE | SKIPPED | PASS | SKIPPED | SKIPPED |
+-----------------------------+----------------+--------------+---------------------------+------------------------------+
CentOS Stream 9 (ARM)
Kernel: Depends on container host
Compiler: gcc 11.5.0 20240719 (Red Hat 11.5.0-2)
CentOS Stream 10 (ARM)
Kernel: Depends on container host
Compiler: gcc 14.2.1 20241104 (Red Hat 14.2.1-6)
Debian 12 (arm)
Kernel: Depends on container host
Compiler: gcc (Debian 12.2.0-14) 12.2.0
Debian 11 (Buster) (ARM)
Kernel: Depends on container host
Compiler: gcc (Debian 10.2.1-6) 10.2.1 20210110
Fedora 40 (ARM)
Kernel: Depends on container host
Compiler: gcc 14.2.1 20240912 (Red Hat 14.2.1-3)
Fedora 40 (ARM Clang)
Kernel: Depends on container host
Compiler: clang 18.1.8 (Fedora 18.1.8-1.fc40)
32-bit Ubuntu 22.04.4 (ARM)
Kernel: 5.15.83+ aarch64
Compiler: gcc (Ubuntu 11.4.0-1ubuntu1~22.04) 11.4.0
Fedora 41 (ARM)
Kernel: Depends on container host
Compiler: gcc 14.2.1 20240912 (Red Hat 14.2.1-3)
Fedora 41 (ARM Clang)
Kernel: Depends on container host
Compiler: clang 19.1.5 (Fedora 19.1.5-1.fc41)
Ubuntu 22.04 (ARM)
Kernel: Depends on container host
Compiler: gcc (Ubuntu 11.4.0-1ubuntu1~22.04) 11.4.0
RHEL9 (ARM)
Kernel: Depends on container host
Compiler: gcc 11.5.0 20240719 (Red Hat 11.5.0-2)
Ubuntu 20.04 (ARM)
Kernel: Depends on container host
Compiler: gcc (Ubuntu 9.4.0-1ubuntu1~20.04.2) 9.4.0
Ubuntu 24.04 (ARM)
Kernel: Depends on container host
Compiler: gcc (Ubuntu 13.3.0-6ubuntu2~24.04) 13.3.0
Ubuntu 20.04 ARM SVE
Kernel: Depends on container host
Compiler: gcc (Ubuntu 10.5.0-1ubuntu1~20.04) 10.5.0
To view detailed results, visit:
https://lab.dpdk.org/results/dashboard/patchsets/32569/
UNH-IOL DPDK Community Lab
To manage your email subscriptions, visit:
https://lab.dpdk.org/results/dashboard/preferences/subscriptions/
next prev parent reply other threads:[~2025-02-13 12:42 UTC|newest]
Thread overview: 34+ messages / expand[flat|nested] mbox.gz Atom feed top
[not found] <20250212164600.23759-8-luca.vizzarro@arm.com>
2025-02-12 16:13 ` |SUCCESS| pw151438-151444 [PATCH v2 7/7] dts: remove node distinction qemudev
2025-02-12 16:18 ` qemudev
2025-02-12 16:48 ` |SUCCESS| pw151444 " checkpatch
2025-02-12 18:07 ` 0-day Robot
2025-02-13 7:44 ` |SUCCESS| pw151438-151444 [PATCH] [v2,7/7] dts: remove node distinct dpdklab
2025-02-13 7:55 ` dpdklab
2025-02-13 7:56 ` dpdklab
2025-02-13 8:19 ` dpdklab
2025-02-13 8:21 ` dpdklab
2025-02-13 8:22 ` dpdklab
2025-02-13 8:26 ` dpdklab
2025-02-13 8:33 ` |PENDING| " dpdklab
2025-02-13 8:58 ` |SUCCESS| " dpdklab
2025-02-13 9:00 ` dpdklab
2025-02-13 9:06 ` dpdklab
2025-02-13 9:09 ` |PENDING| " dpdklab
2025-02-13 9:28 ` |SUCCESS| " dpdklab
2025-02-13 9:38 ` |PENDING| " dpdklab
2025-02-13 9:45 ` |SUCCESS| " dpdklab
2025-02-13 9:49 ` |PENDING| " dpdklab
2025-02-13 10:03 ` |SUCCESS| " dpdklab
2025-02-13 10:26 ` dpdklab
2025-02-13 10:34 ` |PENDING| " dpdklab
2025-02-13 10:48 ` |SUCCESS| " dpdklab
2025-02-13 10:49 ` |PENDING| " dpdklab
2025-02-13 11:21 ` |SUCCESS| " dpdklab
2025-02-13 11:22 ` dpdklab
2025-02-13 11:58 ` dpdklab
2025-02-13 12:37 ` dpdklab
2025-02-13 12:42 ` dpdklab [this message]
2025-02-13 12:42 ` dpdklab
2025-02-13 13:06 ` dpdklab
2025-02-13 13:19 ` dpdklab
2025-02-13 14:33 ` dpdklab
Reply instructions:
You may reply publicly to this message via plain-text email
using any one of the following methods:
* Save the following mbox file, import it into your mail client,
and reply-to-all from there: mbox
Avoid top-posting and favor interleaved quoting:
https://en.wikipedia.org/wiki/Posting_style#Interleaved_style
* Reply using the --to, --cc, and --in-reply-to
switches of git-send-email(1):
git send-email \
--in-reply-to=67ade8b3.050a0220.1afa2a.3319SMTPIN_ADDED_MISSING@mx.google.com \
--to=dpdklab@iol.unh.edu \
--cc=dpdk-test-reports@iol.unh.edu \
--cc=test-report@dpdk.org \
/path/to/YOUR_REPLY
https://kernel.org/pub/software/scm/git/docs/git-send-email.html
* If your mail client supports setting the In-Reply-To header
via mailto: links, try the mailto: link
Be sure your reply has a Subject: header at the top and a blank line
before the message body.
This is a public inbox, see mirroring instructions
for how to clone and mirror all data and code used for this inbox;
as well as URLs for NNTP newsgroup(s).