From mboxrd@z Thu Jan 1 00:00:00 1970 Return-Path: Received: from mails.dpdk.org (mails.dpdk.org [217.70.189.124]) by inbox.dpdk.org (Postfix) with ESMTP id 5247346218 for ; Thu, 13 Feb 2025 13:42:30 +0100 (CET) Received: from mails.dpdk.org (localhost [127.0.0.1]) by mails.dpdk.org (Postfix) with ESMTP id 4C58842EA9; Thu, 13 Feb 2025 13:42:30 +0100 (CET) Received: from mail-qv1-f98.google.com (mail-qv1-f98.google.com [209.85.219.98]) by mails.dpdk.org (Postfix) with ESMTP id 6A2D440287 for ; Thu, 13 Feb 2025 13:42:28 +0100 (CET) Received: by mail-qv1-f98.google.com with SMTP id 6a1803df08f44-6e451fdcae2so8239146d6.1 for ; Thu, 13 Feb 2025 04:42:28 -0800 (PST) DKIM-Signature: v=1; a=rsa-sha256; c=relaxed/relaxed; d=iol.unh.edu; s=unh-iol; t=1739450548; x=1740055348; darn=dpdk.org; h=references:in-reply-to:cc:to:from:subject:message-id:date:from:to :cc:subject:date:message-id:reply-to; bh=mFSXdJKL9RBhQ0ItuU+AcaO4FA0b815EVXDunl9iUwA=; b=RWfhHO1R0u9oR0AtRiEo0B9MDF/GCWqF2g+Cnme2LQNsCs2F9qTXputaxdrUKza6lK J9MO7Z1hI8qCFFMnI2kEwv2eN123M+rp83ocBSMpacrNk1VD18QSQpKHaJXQ56SU+09P Z11RDcH7ByYuyKYhFbVHn8VtXI657C8206qeo= X-Google-DKIM-Signature: v=1; a=rsa-sha256; c=relaxed/relaxed; d=1e100.net; s=20230601; t=1739450548; x=1740055348; h=references:in-reply-to:cc:to:from:subject:message-id:date :x-gm-message-state:from:to:cc:subject:date:message-id:reply-to; bh=mFSXdJKL9RBhQ0ItuU+AcaO4FA0b815EVXDunl9iUwA=; b=VyqSPZNwgbDhFFESAoZdxDflzsTjZyB+IFolL7SNyPifFm6dj+9D8OuEn/yDdQQCiz cK/9Ijp/HRwMSX9GDeGAWbtC1K8YJihX9gLf+AkCwJEMBXmf8RM9cgMVMwSlq+f0w3cV ZUz0fogpNDF0bQvOt+IUBNWPB9zQGclZhu4cXzfLzcH0TzSzZkGB1JdqbB1YUC1WWYMg oTS6Iap9jSLyRkVRph7Fi1ysdzduIadYV+e7EmsHKO/dCrvCkNZHuZOESAPwaHjnr+Sv yxKeO3JBRr1tIAUqzSQXOxV4okjqxZkczqVvA9hrh2p0pvpotL4L4XpbLv9Gxyctmg5J eP/A== X-Gm-Message-State: AOJu0YzjRRy0vM2AMaUa3fI6PPYT4k+L66olgy+LSWoBGEETWxvco2rA 05hPtusY+RZjuZFcRvxSHtqM+yXANvI3gq0wDVUL9x8XYzyX/vsq8BcpbKgaCzB69ldR7rqtyXJ YC/7f+JTKOIORdKSP3I+frYyzuQLqbZn5NFomne6XSjsTo0F8nxR6nyhm X-Gm-Gg: ASbGncv+OZhTPfcw3Ai3L6aXJjVW/cdwz/HnNV/zL/89//M6BnGtKXxnLyKmR3G0fcg x+edhK8JtrBUW4zKfPUnKeMUm03Wxn6n2HXNcOoW7vMXPMzh5JRTmnt3r162vkJ7w8nOKMZwq82 zSFyx33llRvd9bmUj8eiHpaEfiaL4m3+H+Ov1Du/gOv3sBMa7sGLv0U5+wzYhpe78GLwIpyblPG DXtknLno8iXs2ID+rNlE/lvySPbeE82er6L+ZYbOtjbdPcw2K42JEFvM7miwtvu0XqJJo3CE8fE lobHZAGAxvtrpq99Q0oKQs4YNMB+uANXLltjhg+nag== X-Google-Smtp-Source: AGHT+IH6bDXZdaZkSbdD53A7lpkrkj+D00j2+NkTJwSB+Jc2PwWsKWBzjt9hu+0JAOI+GcEWbVfsvJW0Za82 X-Received: by 2002:ad4:5c6e:0:b0:6d8:a7e1:e270 with SMTP id 6a1803df08f44-6e46ede44f2mr118508256d6.40.1739450547795; Thu, 13 Feb 2025 04:42:27 -0800 (PST) Received: from postal.iol.unh.edu (postal.iol.unh.edu. [2606:4100:3880:1234::84]) by smtp-relay.gmail.com with ESMTPS id 6a1803df08f44-6e65d783cb0sm585876d6.46.2025.02.13.04.42.27 (version=TLS1_2 cipher=ECDHE-ECDSA-AES128-GCM-SHA256 bits=128/128); Thu, 13 Feb 2025 04:42:27 -0800 (PST) X-Relaying-Domain: iol.unh.edu Date: Thu, 13 Feb 2025 04:42:27 -0800 (PST) Message-ID: <67ade8b3.050a0220.1afa2a.3319SMTPIN_ADDED_MISSING@mx.google.com> Received: from [172.21.0.6] (unknown [172.18.0.240]) by postal.iol.unh.edu (Postfix) with ESMTP id 746646052471; Thu, 13 Feb 2025 07:42:27 -0500 (EST) Subject: |SUCCESS| pw151438-151444 [PATCH] [v2,7/7] dts: remove node distinct From: dpdklab@iol.unh.edu To: Test Report Cc: dpdk-test-reports@iol.unh.edu In-Reply-To: <20250212164600.23759-8-luca.vizzarro@arm.com> References: <20250212164600.23759-8-luca.vizzarro@arm.com> Content-Type: text/plain X-BeenThere: test-report@dpdk.org X-Mailman-Version: 2.1.29 Precedence: list List-Id: automatic DPDK test reports List-Unsubscribe: , List-Archive: List-Post: List-Help: List-Subscribe: , Errors-To: test-report-bounces@dpdk.org Test-Label: iol-unit-arm64-testing Test-Status: SUCCESS http://dpdk.org/patch/151444 _Testing PASS_ Submitter: Luca Vizzarro Date: Wednesday, February 12 2025 16:46:00 DPDK git baseline: Repo:dpdk Branch: master CommitID:046cca99c3fd03bfb95d3e27a56aab40c2c8f45a 151438-151444 --> testing pass Upstream job id: Generic-Unit-Test-DPDK#314622 Test environment and result as below: +-----------------------------+----------------+--------------+---------------------------+------------------------------+ | Environment | dpdk_unit_test | lpm_autotest | cryptodev_sw_zuc_autotest | cryptodev_sw_snow3g_autotest | +=============================+================+==============+===========================+==============================+ | CentOS Stream 9 (ARM) | PASS | SKIPPED | SKIPPED | SKIPPED | +-----------------------------+----------------+--------------+---------------------------+------------------------------+ | CentOS Stream 10 (ARM) | PASS | SKIPPED | SKIPPED | SKIPPED | +-----------------------------+----------------+--------------+---------------------------+------------------------------+ | Debian 12 (arm) | PASS | SKIPPED | PASS | PASS | +-----------------------------+----------------+--------------+---------------------------+------------------------------+ | Debian 11 (Buster) (ARM) | PASS | SKIPPED | SKIPPED | SKIPPED | +-----------------------------+----------------+--------------+---------------------------+------------------------------+ | Fedora 40 (ARM) | PASS | SKIPPED | SKIPPED | SKIPPED | +-----------------------------+----------------+--------------+---------------------------+------------------------------+ | Fedora 40 (ARM Clang) | PASS | SKIPPED | SKIPPED | SKIPPED | +-----------------------------+----------------+--------------+---------------------------+------------------------------+ | 32-bit Ubuntu 22.04.4 (ARM) | PASS | SKIPPED | SKIPPED | SKIPPED | +-----------------------------+----------------+--------------+---------------------------+------------------------------+ | Fedora 41 (ARM) | PASS | SKIPPED | SKIPPED | SKIPPED | +-----------------------------+----------------+--------------+---------------------------+------------------------------+ | Fedora 41 (ARM Clang) | PASS | SKIPPED | SKIPPED | SKIPPED | +-----------------------------+----------------+--------------+---------------------------+------------------------------+ | Ubuntu 22.04 (ARM) | PASS | SKIPPED | SKIPPED | SKIPPED | +-----------------------------+----------------+--------------+---------------------------+------------------------------+ | RHEL9 (ARM) | PASS | SKIPPED | SKIPPED | SKIPPED | +-----------------------------+----------------+--------------+---------------------------+------------------------------+ | Ubuntu 20.04 (ARM) | PASS | SKIPPED | SKIPPED | SKIPPED | +-----------------------------+----------------+--------------+---------------------------+------------------------------+ | Ubuntu 24.04 (ARM) | PASS | SKIPPED | SKIPPED | SKIPPED | +-----------------------------+----------------+--------------+---------------------------+------------------------------+ | Ubuntu 20.04 ARM SVE | SKIPPED | PASS | SKIPPED | SKIPPED | +-----------------------------+----------------+--------------+---------------------------+------------------------------+ CentOS Stream 9 (ARM) Kernel: Depends on container host Compiler: gcc 11.5.0 20240719 (Red Hat 11.5.0-2) CentOS Stream 10 (ARM) Kernel: Depends on container host Compiler: gcc 14.2.1 20241104 (Red Hat 14.2.1-6) Debian 12 (arm) Kernel: Depends on container host Compiler: gcc (Debian 12.2.0-14) 12.2.0 Debian 11 (Buster) (ARM) Kernel: Depends on container host Compiler: gcc (Debian 10.2.1-6) 10.2.1 20210110 Fedora 40 (ARM) Kernel: Depends on container host Compiler: gcc 14.2.1 20240912 (Red Hat 14.2.1-3) Fedora 40 (ARM Clang) Kernel: Depends on container host Compiler: clang 18.1.8 (Fedora 18.1.8-1.fc40) 32-bit Ubuntu 22.04.4 (ARM) Kernel: 5.15.83+ aarch64 Compiler: gcc (Ubuntu 11.4.0-1ubuntu1~22.04) 11.4.0 Fedora 41 (ARM) Kernel: Depends on container host Compiler: gcc 14.2.1 20240912 (Red Hat 14.2.1-3) Fedora 41 (ARM Clang) Kernel: Depends on container host Compiler: clang 19.1.5 (Fedora 19.1.5-1.fc41) Ubuntu 22.04 (ARM) Kernel: Depends on container host Compiler: gcc (Ubuntu 11.4.0-1ubuntu1~22.04) 11.4.0 RHEL9 (ARM) Kernel: Depends on container host Compiler: gcc 11.5.0 20240719 (Red Hat 11.5.0-2) Ubuntu 20.04 (ARM) Kernel: Depends on container host Compiler: gcc (Ubuntu 9.4.0-1ubuntu1~20.04.2) 9.4.0 Ubuntu 24.04 (ARM) Kernel: Depends on container host Compiler: gcc (Ubuntu 13.3.0-6ubuntu2~24.04) 13.3.0 Ubuntu 20.04 ARM SVE Kernel: Depends on container host Compiler: gcc (Ubuntu 10.5.0-1ubuntu1~20.04) 10.5.0 To view detailed results, visit: https://lab.dpdk.org/results/dashboard/patchsets/32569/ UNH-IOL DPDK Community Lab To manage your email subscriptions, visit: https://lab.dpdk.org/results/dashboard/preferences/subscriptions/