From mboxrd@z Thu Jan 1 00:00:00 1970 Return-Path: Received: from mails.dpdk.org (mails.dpdk.org [217.70.189.124]) by inbox.dpdk.org (Postfix) with ESMTP id 0BF5B46219 for ; Thu, 13 Feb 2025 14:06:52 +0100 (CET) Received: from mails.dpdk.org (localhost [127.0.0.1]) by mails.dpdk.org (Postfix) with ESMTP id DD87242EA9; Thu, 13 Feb 2025 14:06:51 +0100 (CET) Received: from mail-il1-f227.google.com (mail-il1-f227.google.com [209.85.166.227]) by mails.dpdk.org (Postfix) with ESMTP id 54D4440287 for ; Thu, 13 Feb 2025 14:06:50 +0100 (CET) Received: by mail-il1-f227.google.com with SMTP id e9e14a558f8ab-3d18bf1c8faso2027735ab.1 for ; Thu, 13 Feb 2025 05:06:50 -0800 (PST) DKIM-Signature: v=1; a=rsa-sha256; c=relaxed/relaxed; d=iol.unh.edu; s=unh-iol; t=1739452009; x=1740056809; darn=dpdk.org; h=references:in-reply-to:cc:to:from:subject:message-id:date:from:to :cc:subject:date:message-id:reply-to; bh=Yv7QAklbX1E28Xx3y4hrBLqu5bYdzHC622ViDs+YNOM=; b=KAUZBmR9mLN+zL3zisWjoZ6Jd/Q8/wIt0XNI4K7KiQvDKDv8hh/3z3avXIsPqAx5AD ighpaIAuBZUnHo6jxkZxlZg8R6d9n9z0X2vLN8VFVHi0Czk0ePMOZC9xgRYwyAo9vAVq e14tsU/XjeJ2rvwEELrL3BMa0We4wg5Y2ce9M= X-Google-DKIM-Signature: v=1; a=rsa-sha256; c=relaxed/relaxed; d=1e100.net; s=20230601; t=1739452009; x=1740056809; h=references:in-reply-to:cc:to:from:subject:message-id:date :x-gm-message-state:from:to:cc:subject:date:message-id:reply-to; bh=Yv7QAklbX1E28Xx3y4hrBLqu5bYdzHC622ViDs+YNOM=; b=vUd3wv3k7l04NbUw42E9ZM9MxTioxqlxDcvTteTosIcHvgYG7hmYk8XLfz1lH5b9Lc 1FRWqzASEi2ac10EeiKK1yn4iQH5LlCcyR8ZTa3DkDgo0NcH45hUcDe4I1qxrOAa6ulk NyqmB0YtPOMdHe9x4w2xE14KWoYv0PMlh0r+vViqKyetDb+5iFn5GNmByNM+7kXGvO+s fJEtuJPmjn4zhK0Xa7rZiaEGpbjPHPdP7XJZzShpGsjs4s4+UN3MNqwyLgs36RCuTBoC ZlW+miLlc+WU6mh75vh7yputjK6mbMa4f4aXv55fsAV4aWwJnJ+dANmNHQejDl5c21qe 49mw== X-Gm-Message-State: AOJu0YwqLid2VvZ35Rdq4kJtADMVGrYUgY+X7TclP91bZmsBJDt6HKcs bu6YqBPI3mfWYAu9GFSLmJFRYd1r1wnm251KxYxuYn6ARZcPS1WSMCgFtFnRBKo5LpSu7LK0XZI 3zf6tPtSol+vWKSD19G6p98gUxKeS6P1A5hoxe+alszPurgT36hHF5tns X-Gm-Gg: ASbGnct0JPBgUJo0XVpjLrfjvCXSigkTFI1cbaR9bvhgmPk3UWcbpv3l82S9k9VhsR2 Ce6ehSTgYs3lR1lLX5cZ0221fVVSSS+gedz5L4ByOG1S/uaOtQ6iUHBDGAtKpwqUYJ2Gpx9mLCF NtLtIl8vTPcG46ESsC+DoOuF/b/0e/bxmfckT7YCgRLCQcVpPsH37RypeTTGb/vmUQVFHwv0nvA 7Qs5ETAIJisG1ScGoJbatRNaKqMm3V2prZxSjdVwLpawOuMLi3auIu6KQLR+sULTgzXcf26BOQ0 dFSvvMzIIFjlk62vWejS5+10ouVsF2fQiACyw2EP+Q== X-Google-Smtp-Source: AGHT+IHUHtlBR5ZdYlh2Lg52l2uoLN8zR8P3QTrivmctLL2U3ZfNrtYyaQ/4RL+0sQcQkeptpMIP/7um6h19 X-Received: by 2002:a05:6e02:1c8e:b0:3a7:87f2:b010 with SMTP id e9e14a558f8ab-3d17bdff408mr71253055ab.5.1739452009603; Thu, 13 Feb 2025 05:06:49 -0800 (PST) Received: from postal.iol.unh.edu (postal.iol.unh.edu. [2606:4100:3880:1234::84]) by smtp-relay.gmail.com with ESMTPS id 8926c6da1cb9f-4ed28313553sm75131173.72.2025.02.13.05.06.49 (version=TLS1_2 cipher=ECDHE-ECDSA-AES128-GCM-SHA256 bits=128/128); Thu, 13 Feb 2025 05:06:49 -0800 (PST) X-Relaying-Domain: iol.unh.edu Date: Thu, 13 Feb 2025 05:06:49 -0800 (PST) Message-ID: <67adee69.050a0220.86bb1.422cSMTPIN_ADDED_MISSING@mx.google.com> Received: from [172.21.0.5] (unknown [172.18.0.240]) by postal.iol.unh.edu (Postfix) with ESMTP id 149296052471; Thu, 13 Feb 2025 08:06:49 -0500 (EST) Subject: |SUCCESS| pw151438-151444 [PATCH] [v2,7/7] dts: remove node distinct From: dpdklab@iol.unh.edu To: Test Report Cc: dpdk-test-reports@iol.unh.edu In-Reply-To: <20250212164600.23759-8-luca.vizzarro@arm.com> References: <20250212164600.23759-8-luca.vizzarro@arm.com> Content-Type: text/plain X-BeenThere: test-report@dpdk.org X-Mailman-Version: 2.1.29 Precedence: list List-Id: automatic DPDK test reports List-Unsubscribe: , List-Archive: List-Post: List-Help: List-Subscribe: , Errors-To: test-report-bounces@dpdk.org Test-Label: iol-compile-arm64-testing Test-Status: SUCCESS http://dpdk.org/patch/151444 _Testing PASS_ Submitter: Luca Vizzarro Date: Wednesday, February 12 2025 16:46:00 DPDK git baseline: Repo:dpdk Branch: master CommitID:046cca99c3fd03bfb95d3e27a56aab40c2c8f45a 151438-151444 --> testing pass Upstream job id: Generic-DPDK-Compile-Meson#361209 Test environment and result as below: +----------------------------------------+--------------------+ | Environment | dpdk_meson_compile | +========================================+====================+ | RHEL9 (ARM) | PASS | +----------------------------------------+--------------------+ | Debian 12 with MUSDK | PASS | +----------------------------------------+--------------------+ | Ubuntu 20.04 ARM SVE | PASS | +----------------------------------------+--------------------+ | Ubuntu 20.04 ARM GCC Cross Compile | PASS | +----------------------------------------+--------------------+ | Fedora 41 (ARM) | PASS | +----------------------------------------+--------------------+ | Fedora 41 (ARM Clang) | PASS | +----------------------------------------+--------------------+ | Ubuntu 20.04 (ARM) | PASS | +----------------------------------------+--------------------+ | Fedora 40 (ARM Clang) | PASS | +----------------------------------------+--------------------+ | CentOS Stream 9 (ARM) | PASS | +----------------------------------------+--------------------+ | Ubuntu 24.04 (ARM) | PASS | +----------------------------------------+--------------------+ | Ubuntu 22.04 (ARM) | PASS | +----------------------------------------+--------------------+ | CentOS Stream 10 (ARM) | PASS | +----------------------------------------+--------------------+ | Debian 12 (arm) | PASS | +----------------------------------------+--------------------+ | Debian 11 (Buster) (ARM) | PASS | +----------------------------------------+--------------------+ | Ubuntu 20.04 ARM Clang Cross Compile | PASS | +----------------------------------------+--------------------+ | Ubuntu 20.04 aarch32 GCC Cross Compile | PASS | +----------------------------------------+--------------------+ | Fedora 40 (ARM) | PASS | +----------------------------------------+--------------------+ RHEL9 (ARM) Kernel: Depends on container host Compiler: gcc 11.5.0 20240719 (Red Hat 11.5.0-2) Debian 12 with MUSDK Kernel: Depends on container host Compiler: gcc (Debian 12.2.0-14) 12.2.0 Ubuntu 20.04 ARM SVE Kernel: Depends on container host Compiler: gcc (Ubuntu 10.5.0-1ubuntu1~20.04) 10.5.0 Ubuntu 20.04 ARM GCC Cross Compile Kernel: Depends on container host Compiler: aarch64-linux-gnu-gcc (Ubuntu 9.4.0-1ubuntu1~20.04.2) 9.4.0 Fedora 41 (ARM) Kernel: Depends on container host Compiler: gcc 14.2.1 20240912 (Red Hat 14.2.1-3) Fedora 41 (ARM Clang) Kernel: Depends on container host Compiler: clang 19.1.5 (Fedora 19.1.5-1.fc41) Ubuntu 20.04 (ARM) Kernel: Depends on container host Compiler: gcc (Ubuntu 9.4.0-1ubuntu1~20.04.2) 9.4.0 Fedora 40 (ARM Clang) Kernel: Depends on container host Compiler: clang 18.1.8 (Fedora 18.1.8-1.fc40) CentOS Stream 9 (ARM) Kernel: Depends on container host Compiler: gcc 11.5.0 20240719 (Red Hat 11.5.0-2) Ubuntu 24.04 (ARM) Kernel: Depends on container host Compiler: gcc (Ubuntu 13.3.0-6ubuntu2~24.04) 13.3.0 Ubuntu 22.04 (ARM) Kernel: Depends on container host Compiler: gcc (Ubuntu 11.4.0-1ubuntu1~22.04) 11.4.0 CentOS Stream 10 (ARM) Kernel: Depends on container host Compiler: gcc 14.2.1 20241104 (Red Hat 14.2.1-6) Debian 12 (arm) Kernel: Depends on container host Compiler: gcc (Debian 12.2.0-14) 12.2.0 Debian 11 (Buster) (ARM) Kernel: Depends on container host Compiler: gcc (Debian 10.2.1-6) 10.2.1 20210110 Ubuntu 20.04 ARM Clang Cross Compile Kernel: Depends on container host Compiler: clang 10.0.0-4ubuntu1 Ubuntu 20.04 aarch32 GCC Cross Compile Kernel: Depends on container host Compiler: gcc 9.4.0 Fedora 40 (ARM) Kernel: Depends on container host Compiler: gcc 14.2.1 20240912 (Red Hat 14.2.1-3) To view detailed results, visit: https://lab.dpdk.org/results/dashboard/patchsets/32569/ UNH-IOL DPDK Community Lab To manage your email subscriptions, visit: https://lab.dpdk.org/results/dashboard/preferences/subscriptions/