From mboxrd@z Thu Jan 1 00:00:00 1970 Return-Path: Received: from mails.dpdk.org (mails.dpdk.org [217.70.189.124]) by inbox.dpdk.org (Postfix) with ESMTP id 1D1F746219 for ; Thu, 13 Feb 2025 14:20:00 +0100 (CET) Received: from mails.dpdk.org (localhost [127.0.0.1]) by mails.dpdk.org (Postfix) with ESMTP id F30AB42EA9; Thu, 13 Feb 2025 14:19:59 +0100 (CET) Received: from mail-io1-f100.google.com (mail-io1-f100.google.com [209.85.166.100]) by mails.dpdk.org (Postfix) with ESMTP id D6D0040287 for ; Thu, 13 Feb 2025 14:19:58 +0100 (CET) Received: by mail-io1-f100.google.com with SMTP id ca18e2360f4ac-8553108e7a2so65983439f.2 for ; Thu, 13 Feb 2025 05:19:58 -0800 (PST) DKIM-Signature: v=1; a=rsa-sha256; c=relaxed/relaxed; d=iol.unh.edu; s=unh-iol; t=1739452798; x=1740057598; darn=dpdk.org; h=references:in-reply-to:cc:to:from:subject:message-id:date:from:to :cc:subject:date:message-id:reply-to; bh=slEKEYeVaFr2tYPxqhU+CttwKeBb8fRIugAY2n+bkAE=; b=A66l6xdS0G5yJ8evU9n9PgxohTcI5WUWrEa/3IdpfiEPjngQjEae9hp2qRC210XNIM ms2/9pETXud+L7pdNkKYJjB6xYlzf8TcZcg/7T6XbDXEiwTWoA25MgfruYAsxMHc+lSG SH2aEBVGXUiFjjUIsLfr7NDGyr690b3tN20QU= X-Google-DKIM-Signature: v=1; a=rsa-sha256; c=relaxed/relaxed; d=1e100.net; s=20230601; t=1739452798; x=1740057598; h=references:in-reply-to:cc:to:from:subject:message-id:date :x-gm-message-state:from:to:cc:subject:date:message-id:reply-to; bh=slEKEYeVaFr2tYPxqhU+CttwKeBb8fRIugAY2n+bkAE=; b=Ku0qqiuhIhWhWd4uGs1ruPCNH4qPJn2MIW0NgkpMWdZKMgF8NZbizRSU1gXsyA67ZM 3TVYUvhuml6co/p7GixhyLl2YKfPtUgApqpA806QkVDpfQQnueZUHWKamQAzdRazWUlj JuOHTyrHSN6wHxi/2fJT1oli4VdE0MAXeWWSzLjAs6bhlfcx4GA9aS/cBEuihWIR4aOA rhYZy6+nQdlrzbK7icTTbSZ3oA4xWn0MveiIHUZPRQu46ZPnrqxEVWMrTXWxJ0UBDWaS 9t24YuTjCum68sr8faBX9xOTou7HK0F3Hu+8FTC8uBgZDbMBESgiqNVnEl9BNUNS0Hz6 kY0g== X-Gm-Message-State: AOJu0YxGO8DYR2NJ14TeAqijwxUtNIuzLVZuzGIQLhmww22bRDQRDFTE bBdSSPEUjTPBjyUfqCmQBF+psBH0m9D4d3oWVK159MpuLwBj1qn2qaMCtI2emrSSYP+fLj30BkO QFonPfhfWQepW3vsCrY5GgbGn4JYei7fMecrrEr2S X-Gm-Gg: ASbGncsZ+uvyidNwyhy+JOfk2kWz4rg2NNTK1p/hp3GUreq9zCHOQIzeGwh7YjPlCe7 qiPb66tUtwSxGYmbL8QnISsZbGdN76k2klIgzbdGYuRNAgPcq4HuzcNzFY3vhRh4D2guFQOhuBl Gx7ExQDsHLeL/DIwBy6YZgrO0CN40Abcma40SascS+rWIbhHj7Fqqv4c+rrogzPkCNggPrOjKMp ymhsTx8Gs60/iIZOrDUnbA9vgcrkvuYemzke9M3TmfUCFfIGWbx3/JBUkKm5DiRPks1VvuSYsb5 6ZjH01tSfFGDrDHK/bhgR6rR+XDwzw== X-Google-Smtp-Source: AGHT+IE0abMEoab6NkMVqHTYnOePM+7N2SBPj4+oIsbZCF3Z+pAcySx3VshybDD06kYHI7wlj1Lj5WL2i81X X-Received: by 2002:a05:6602:2cc1:b0:843:e9c0:8290 with SMTP id ca18e2360f4ac-85555cc6079mr684897139f.6.1739452798149; Thu, 13 Feb 2025 05:19:58 -0800 (PST) Received: from postal.iol.unh.edu (postal.iol.unh.edu. [132.177.123.84]) by smtp-relay.gmail.com with ESMTPS id ca18e2360f4ac-85566e0f5f9sm5067539f.1.2025.02.13.05.19.58 (version=TLS1_2 cipher=ECDHE-ECDSA-AES128-GCM-SHA256 bits=128/128); Thu, 13 Feb 2025 05:19:58 -0800 (PST) X-Relaying-Domain: iol.unh.edu Date: Thu, 13 Feb 2025 05:19:58 -0800 (PST) Message-ID: <67adf17e.5e0a0220.31da4d.2b9fSMTPIN_ADDED_MISSING@mx.google.com> Received: from [172.21.0.5] (unknown [172.18.0.240]) by postal.iol.unh.edu (Postfix) with ESMTP id 9DB166052471; Thu, 13 Feb 2025 08:19:57 -0500 (EST) Subject: |SUCCESS| pw151438-151444 [PATCH] [v2,7/7] dts: remove node distinct From: dpdklab@iol.unh.edu To: Test Report Cc: dpdk-test-reports@iol.unh.edu In-Reply-To: <20250212164600.23759-8-luca.vizzarro@arm.com> References: <20250212164600.23759-8-luca.vizzarro@arm.com> Content-Type: text/plain X-BeenThere: test-report@dpdk.org X-Mailman-Version: 2.1.29 Precedence: list List-Id: automatic DPDK test reports List-Unsubscribe: , List-Archive: List-Post: List-Help: List-Subscribe: , Errors-To: test-report-bounces@dpdk.org Test-Label: iol-compile-amd64-testing Test-Status: SUCCESS http://dpdk.org/patch/151444 _Testing PASS_ Submitter: Luca Vizzarro Date: Wednesday, February 12 2025 16:46:00 DPDK git baseline: Repo:dpdk Branch: master CommitID:046cca99c3fd03bfb95d3e27a56aab40c2c8f45a 151438-151444 --> testing pass Upstream job id: Generic-DPDK-Compile-Meson#361224 Test environment and result as below: +---------------------+-------------------+--------------------+-------------------+------------------+-------------------------+ | Environment | dpdk_msvc_compile | dpdk_meson_compile | dpdk_compile_spdk | dpdk_compile_ovs | dpdk_llvm_clang_compile | +=====================+===================+====================+===================+==================+=========================+ | Windows Server 2022 | PASS | SKIPPED | SKIPPED | SKIPPED | PASS | +---------------------+-------------------+--------------------+-------------------+------------------+-------------------------+ | FreeBSD 13.4 | SKIPPED | PASS | SKIPPED | SKIPPED | SKIPPED | +---------------------+-------------------+--------------------+-------------------+------------------+-------------------------+ | FreeBSD 14.2 | SKIPPED | PASS | SKIPPED | SKIPPED | SKIPPED | +---------------------+-------------------+--------------------+-------------------+------------------+-------------------------+ | CentOS Stream 9 | SKIPPED | PASS | PASS | SKIPPED | SKIPPED | +---------------------+-------------------+--------------------+-------------------+------------------+-------------------------+ | CentOS Stream 10 | SKIPPED | PASS | SKIPPED | SKIPPED | SKIPPED | +---------------------+-------------------+--------------------+-------------------+------------------+-------------------------+ | Debian Bullseye | SKIPPED | PASS | PASS | SKIPPED | SKIPPED | +---------------------+-------------------+--------------------+-------------------+------------------+-------------------------+ | Debian 12 | SKIPPED | PASS | PASS | SKIPPED | SKIPPED | +---------------------+-------------------+--------------------+-------------------+------------------+-------------------------+ | Fedora 40 (Clang) | SKIPPED | PASS | PASS | SKIPPED | SKIPPED | +---------------------+-------------------+--------------------+-------------------+------------------+-------------------------+ | Fedora 41 (Clang) | SKIPPED | PASS | PASS | PASS | SKIPPED | +---------------------+-------------------+--------------------+-------------------+------------------+-------------------------+ | Fedora 41 | SKIPPED | PASS | PASS | PASS | SKIPPED | +---------------------+-------------------+--------------------+-------------------+------------------+-------------------------+ | openSUSE Leap 15 | SKIPPED | PASS | SKIPPED | SKIPPED | SKIPPED | +---------------------+-------------------+--------------------+-------------------+------------------+-------------------------+ | RHEL8 | SKIPPED | PASS | SKIPPED | SKIPPED | SKIPPED | +---------------------+-------------------+--------------------+-------------------+------------------+-------------------------+ | RHEL9 | SKIPPED | PASS | SKIPPED | SKIPPED | SKIPPED | +---------------------+-------------------+--------------------+-------------------+------------------+-------------------------+ | Ubuntu 20.04 | SKIPPED | PASS | SKIPPED | SKIPPED | SKIPPED | +---------------------+-------------------+--------------------+-------------------+------------------+-------------------------+ | Ubuntu 24.04 | SKIPPED | PASS | PASS | PASS | SKIPPED | +---------------------+-------------------+--------------------+-------------------+------------------+-------------------------+ | Alpine | SKIPPED | PASS | SKIPPED | SKIPPED | SKIPPED | +---------------------+-------------------+--------------------+-------------------+------------------+-------------------------+ | Ubuntu 22.04 | SKIPPED | PASS | PASS | SKIPPED | SKIPPED | +---------------------+-------------------+--------------------+-------------------+------------------+-------------------------+ | Fedora 40 | SKIPPED | PASS | PASS | SKIPPED | SKIPPED | +---------------------+-------------------+--------------------+-------------------+------------------+-------------------------+ Windows Server 2022 Kernel: 10.0.20348.2031 Compiler: clang 15.0.7, gcc 14.1.0 (MinGW), and MSVC VS 19.39.33521 FreeBSD 13.4 Kernel: 13.4-RELEASE-p1 Compiler: clang 18.1.6 FreeBSD 14.2 Kernel: 14.2-RELEASE Compiler: clang 18.1.6 CentOS Stream 9 Kernel: Depends on container host Compiler: gcc 11.5.0 20240719 (Red Hat 11.5.0-2) CentOS Stream 10 Kernel: Depends on container host Compiler: gcc 14.2.1 20241104 (Red Hat 14.2.1-6) Debian Bullseye Kernel: Depends on container host Compiler: gcc (Debian 10.2.1-6) 10.2.1 20210110 Debian 12 Kernel: Depends on container host Compiler: gcc (Debian 12.2.0-14) 12.2.0 Fedora 40 (Clang) Kernel: Depends on container host Compiler: clang 18.1.8 (Fedora 18.1.8-1.fc40) Fedora 41 (Clang) Kernel: Depends on container host Compiler: clang 19.1.5 (Fedora 19.1.5-1.fc41) Fedora 41 Kernel: Depends on container host Compiler: gcc 14.2.1 20240912 (Red Hat 14.2.1-3) openSUSE Leap 15 Kernel: Depends on container host Compiler: gcc (SUSE Linux) 7.5.0 RHEL8 Kernel: Depends on container host Compiler: gcc 8.5.0 20210514 (Red Hat 8.5.0-22) RHEL9 Kernel: Depends on container host Compiler: gcc 11.5.0 20240719 (Red Hat 11.5.0-2) Ubuntu 20.04 Kernel: Depends on container host Compiler: gcc (Ubuntu 9.4.0-1ubuntu1~20.04.2) 9.4.0 Ubuntu 24.04 Kernel: Depends on container host Compiler: gcc (Ubuntu 13.3.0-6ubuntu2~24.04) 13.3.0 Alpine Kernel: Depends on container host Compiler: gcc (Alpine 14.2.0) 14.2.0 Ubuntu 22.04 Kernel: Depends on container host Compiler: gcc (Ubuntu 11.4.0-1ubuntu1~22.04) 11.4.0 Fedora 40 Kernel: Depends on container host Compiler: gcc 14.2.1 20240912 (Red Hat 14.2.1-3) To view detailed results, visit: https://lab.dpdk.org/results/dashboard/patchsets/32569/ UNH-IOL DPDK Community Lab To manage your email subscriptions, visit: https://lab.dpdk.org/results/dashboard/preferences/subscriptions/