From mboxrd@z Thu Jan 1 00:00:00 1970 Return-Path: Received: from mails.dpdk.org (mails.dpdk.org [217.70.189.124]) by inbox.dpdk.org (Postfix) with ESMTP id 5851946219 for ; Thu, 13 Feb 2025 14:57:07 +0100 (CET) Received: from mails.dpdk.org (localhost [127.0.0.1]) by mails.dpdk.org (Postfix) with ESMTP id 3FCA842EA9; Thu, 13 Feb 2025 14:57:07 +0100 (CET) Received: from mail-io1-f97.google.com (mail-io1-f97.google.com [209.85.166.97]) by mails.dpdk.org (Postfix) with ESMTP id CDAAF40287 for ; Thu, 13 Feb 2025 14:57:05 +0100 (CET) Received: by mail-io1-f97.google.com with SMTP id ca18e2360f4ac-8553108e7a9so21300239f.1 for ; Thu, 13 Feb 2025 05:57:05 -0800 (PST) DKIM-Signature: v=1; a=rsa-sha256; c=relaxed/relaxed; d=iol.unh.edu; s=unh-iol; t=1739455025; x=1740059825; darn=dpdk.org; h=references:in-reply-to:cc:to:from:subject:message-id:date:from:to :cc:subject:date:message-id:reply-to; bh=0Klsmu4AuABCIigXPOIqoDDj+3JTVhm9RwODmwlY1C0=; b=hFENcOyZ7Zl3cPs6SPN4zqmp0o8a1XnMisqeXK1tCG/TzQa/MbASgnB7regGEA/468 vn4s5KngH9urTapaD791p7IgHyCRQfMn0yPmHBBsuDSgCiMx9IbklRaJPQo707lzgKOp E9Y24tQhUfLRljr+odMp3XUSaKOTFpuzvqemQ= X-Google-DKIM-Signature: v=1; a=rsa-sha256; c=relaxed/relaxed; d=1e100.net; s=20230601; t=1739455025; x=1740059825; h=references:in-reply-to:cc:to:from:subject:message-id:date :x-gm-message-state:from:to:cc:subject:date:message-id:reply-to; bh=0Klsmu4AuABCIigXPOIqoDDj+3JTVhm9RwODmwlY1C0=; b=vaoNH3OE9XVrzELfz+KAc1GwlOAcD0RJGgtr1MdgI6hYOU7nf+0mztWq1YcA060lvl NwqkNS4S2mDaYJLwxZ/mevJXv0pH9hDbwKEavQVj+mspYozifWR5bgO0mxfF8S92V1uy OiwjAxyPn+WclvUZ9eFgOQhfMzs1i0gOGDHTQGJnLx2Vr/KBUgUtSkxJiKJHiHwEV/2S MJRxiJFPlD4F4wVQnpkO3ePF8pYkGxPU0vxUh6CEUbGYkLdyP9DKkNpEO07tqQLjic3q 0VuZDT/74weEP3TIkdONNfsTmFAtr0nmM8ymX/h1gqwtxP7vbF7hvS/y3ri+NdgQBe+A 2w/Q== X-Gm-Message-State: AOJu0YxP0k/trnpodbZSFLF2Z37kgPa4S94C+3yfqAtWrZT2taGqw9/l nTRFH4P2SJR0F9gqcimmCaHBaBFHe4bYt1w8k88Ham3WsLkMeflXZX/dw0vXX6pizN43DCuy810 kWdtpNK4DjslU0WF+4unCxgiJILSAK/kOHNvt1Yz0 X-Gm-Gg: ASbGncsd36DopURW7Fkk4EBFRY1i8hY6DYl0GeEYeq1tXREfHyPRKKgYtltKzEdVHHU U/8WZxIextdAFMJ31qo1l5hFcRaMy0NFSvgP6E+IPT4DtApM1SSJyoNB/FpbdAcmcs3kGCO/zt2 FfJN1nWKNL2/26TMUmYsTvqAZEAAFMFTWSznc81OZnsXU5gYd4X/usW3huMbc/dnot1MQ1WpnA9 baLcObe88dL6TVTKq+srCgQuYyq2vzh/2nuzgPyGazsJt5vyFEsEE9SqsZPfL/Vc+EOX5Q/LGyS 90ykMC/ePyxsQ3h3q/AxXuzLuNkMXw== X-Google-Smtp-Source: AGHT+IFR+8Vn4wPDkaR+LmjC9bhyuSdzCt8weABROSxASobf6MnVVNa+mvuZIFTYvxrDv3M7/Bs+qeroth7e X-Received: by 2002:a05:6602:2dd1:b0:855:2f41:f849 with SMTP id ca18e2360f4ac-85563b39edcmr266239539f.11.1739455025130; Thu, 13 Feb 2025 05:57:05 -0800 (PST) Received: from postal.iol.unh.edu (postal.iol.unh.edu. [132.177.123.84]) by smtp-relay.gmail.com with ESMTPS id 8926c6da1cb9f-4ed281a8125sm77412173.40.2025.02.13.05.57.05 (version=TLS1_2 cipher=ECDHE-ECDSA-AES128-GCM-SHA256 bits=128/128); Thu, 13 Feb 2025 05:57:05 -0800 (PST) X-Relaying-Domain: iol.unh.edu Date: Thu, 13 Feb 2025 05:57:05 -0800 (PST) Message-ID: <67adfa31.050a0220.101dba.428eSMTPIN_ADDED_MISSING@mx.google.com> Received: from [172.21.0.5] (unknown [172.18.0.240]) by postal.iol.unh.edu (Postfix) with ESMTP id 948586052471; Thu, 13 Feb 2025 08:57:04 -0500 (EST) Subject: |SUCCESS| pw151448-151458 [PATCH] [v1,16/16] net/zxdh: provide meter From: dpdklab@iol.unh.edu To: Test Report Cc: dpdk-test-reports@iol.unh.edu In-Reply-To: <20250213064134.88166-17-wang.junlong1@zte.com.cn> References: <20250213064134.88166-17-wang.junlong1@zte.com.cn> Content-Type: text/plain X-BeenThere: test-report@dpdk.org X-Mailman-Version: 2.1.29 Precedence: list List-Id: automatic DPDK test reports List-Unsubscribe: , List-Archive: List-Post: List-Help: List-Subscribe: , Errors-To: test-report-bounces@dpdk.org Test-Label: iol-unit-amd64-testing Test-Status: SUCCESS http://dpdk.org/patch/151458 _Testing PASS_ Submitter: Junlong Wang Date: Thursday, February 13 2025 06:41:32 DPDK git baseline: Repo:dpdk Branch: master CommitID:88e17c88943145bb956b5bf6059a8043dbd33a99 151448-151458 --> testing pass Upstream job id: Generic-Unit-Test-DPDK#314647 Test environment and result as below: +---------------------+----------------+ | Environment | dpdk_unit_test | +=====================+================+ | CentOS Stream 10 | PASS | +---------------------+----------------+ | Debian Bullseye | PASS | +---------------------+----------------+ | CentOS Stream 9 | PASS | +---------------------+----------------+ | Fedora 40 (Clang) | PASS | +---------------------+----------------+ | Fedora 41 | PASS | +---------------------+----------------+ | Debian 12 | PASS | +---------------------+----------------+ | Fedora 40 | PASS | +---------------------+----------------+ | Fedora 41 (Clang) | PASS | +---------------------+----------------+ | RHEL8 | PASS | +---------------------+----------------+ | Ubuntu 20.04 | PASS | +---------------------+----------------+ | RHEL9 | PASS | +---------------------+----------------+ | Ubuntu 24.04 | PASS | +---------------------+----------------+ | Ubuntu 22.04 | PASS | +---------------------+----------------+ | Windows Server 2022 | PASS | +---------------------+----------------+ CentOS Stream 10 Kernel: Depends on container host Compiler: gcc 14.2.1 20241104 (Red Hat 14.2.1-6) Debian Bullseye Kernel: Depends on container host Compiler: gcc (Debian 10.2.1-6) 10.2.1 20210110 CentOS Stream 9 Kernel: Depends on container host Compiler: gcc 11.5.0 20240719 (Red Hat 11.5.0-2) Fedora 40 (Clang) Kernel: Depends on container host Compiler: clang 18.1.8 (Fedora 18.1.8-1.fc40) Fedora 41 Kernel: Depends on container host Compiler: gcc 14.2.1 20240912 (Red Hat 14.2.1-3) Debian 12 Kernel: Depends on container host Compiler: gcc (Debian 12.2.0-14) 12.2.0 Fedora 40 Kernel: Depends on container host Compiler: gcc 14.2.1 20240912 (Red Hat 14.2.1-3) Fedora 41 (Clang) Kernel: Depends on container host Compiler: clang 19.1.5 (Fedora 19.1.5-1.fc41) RHEL8 Kernel: Depends on container host Compiler: gcc 8.5.0 20210514 (Red Hat 8.5.0-22) Ubuntu 20.04 Kernel: Depends on container host Compiler: gcc (Ubuntu 9.4.0-1ubuntu1~20.04.2) 9.4.0 RHEL9 Kernel: Depends on container host Compiler: gcc 11.5.0 20240719 (Red Hat 11.5.0-2) Ubuntu 24.04 Kernel: Depends on container host Compiler: gcc (Ubuntu 13.3.0-6ubuntu2~24.04) 13.3.0 Ubuntu 22.04 Kernel: Depends on container host Compiler: gcc (Ubuntu 11.4.0-1ubuntu1~22.04) 11.4.0 Windows Server 2022 Kernel: 10.0.20348.2031 Compiler: clang 15.0.7, gcc 14.1.0 (MinGW), and MSVC VS 19.39.33521 To view detailed results, visit: https://lab.dpdk.org/results/dashboard/patchsets/32571/ UNH-IOL DPDK Community Lab To manage your email subscriptions, visit: https://lab.dpdk.org/results/dashboard/preferences/subscriptions/