From mboxrd@z Thu Jan 1 00:00:00 1970 Return-Path: Received: from mails.dpdk.org (mails.dpdk.org [217.70.189.124]) by inbox.dpdk.org (Postfix) with ESMTP id 761DA46219 for ; Thu, 13 Feb 2025 14:57:43 +0100 (CET) Received: from mails.dpdk.org (localhost [127.0.0.1]) by mails.dpdk.org (Postfix) with ESMTP id 6F73142EA9; Thu, 13 Feb 2025 14:57:43 +0100 (CET) Received: from mail-pl1-f225.google.com (mail-pl1-f225.google.com [209.85.214.225]) by mails.dpdk.org (Postfix) with ESMTP id 270EA40287 for ; Thu, 13 Feb 2025 14:57:42 +0100 (CET) Received: by mail-pl1-f225.google.com with SMTP id d9443c01a7336-21f5660c2fdso17004105ad.2 for ; Thu, 13 Feb 2025 05:57:42 -0800 (PST) DKIM-Signature: v=1; a=rsa-sha256; c=relaxed/relaxed; d=iol.unh.edu; s=unh-iol; t=1739455061; x=1740059861; darn=dpdk.org; h=references:in-reply-to:cc:to:from:subject:message-id:date:from:to :cc:subject:date:message-id:reply-to; bh=LE3pd6X4mhKINFY4kmK4ypFpUtbBJJdZSdNNWHPgTN4=; b=TkE/iWNdk4Lmrb7Hz5dyKoggMMRSg/Xrwr1GaK9gsdlPCm+4m978T721eZ2CH9CNQ3 pthhBn5zjaP/PjpMDZS8nKuAgAsXSkd5osdObWtALUFpCta0XSGLGzZVt8OA1LLZWdaG F4RnHC4fyLsu61D3xUyliyRp/P7+jlX9Ggu6c= X-Google-DKIM-Signature: v=1; a=rsa-sha256; c=relaxed/relaxed; d=1e100.net; s=20230601; t=1739455061; x=1740059861; h=references:in-reply-to:cc:to:from:subject:message-id:date :x-gm-message-state:from:to:cc:subject:date:message-id:reply-to; bh=LE3pd6X4mhKINFY4kmK4ypFpUtbBJJdZSdNNWHPgTN4=; b=e+nEA+zHmZgzbG+O9hq8U92FOdDkZv7VRQuvqtoZckHBPMsLkKprvfIBygDZ1p5qE5 xwiWSgDPkthCqhs+m4/LBdzhRkUetIN892DimT/6yLljwPcCYICqWfSXioNh58lTqUM5 T+/InKByAfhRQaYGeD/TfkHy3p8cFQckMdgFXJideoUvZH6VQrms1FZehiPjzfbxETmb JHddsLRwephvPHJLrGnmvHhqlrjqCmGYhCQL4FQe/DNARoijZQSqcnrAl+vEovGSoNBn wwtBKLrJPEwp+9SdDEFlfddm5iCAOCDzMfPEIuZnPDgXaY33Tt+xdqJxj1/Xobr6vM4x 2DOw== X-Gm-Message-State: AOJu0YzEPUUBsFYhxSixW/gm140g2uv56tIoMTCXIhTrAu+YI2PurQkW IZzliyZAQ35NmN3DRb+DI7BgAn4itSQV5UB6oKwkYacH7biJDSdTyvsAD3nBA1El8THCJH/5wDo mLhmFH3DVvVbkHr7X5jHguQ6A5+gRIT9EPFmTfvTv X-Gm-Gg: ASbGncsCJtEyXKwFl4ZdfPAxr1dEj88Cgmc0AXg4Sx85zRyaPlEzOKOXJoV4TdvOmxe cO3xz8QMai27sv6f+4CVtq1ppZ8jZP4hygubHkxEUJH0tBGrayJ3cvZ8E+FWpjQ3yTaPTAoaG3p ZV/Nhpp7lfOdaISW9g+jdLOUNb433LNQ9hNx4L4kVoGTYfinB0h1dzy1vLC7o96Ulk+8g/y/CqI LhUmHaSwDi8lEz2WKnvt0Y0BKm8WP0dguZwXxkt1/Kv2ay0JXQZxxS9lJ/IdjBNHFQfJcL1xPzV 66RkQ2X27GjuMrn4RrwWsUZxv9s01A== X-Google-Smtp-Source: AGHT+IGLxD55g1J1cYy1qLYbjr3r4mpswhcLRfDr7Q6BmZQHf9VdJQN/hoB9bv2O1NNkG/8YlR8/biXH0XxS X-Received: by 2002:a17:902:d508:b0:215:e685:fa25 with SMTP id d9443c01a7336-220d1eddf52mr49430465ad.20.1739455061085; Thu, 13 Feb 2025 05:57:41 -0800 (PST) Received: from postal.iol.unh.edu (postal.iol.unh.edu. [132.177.123.84]) by smtp-relay.gmail.com with ESMTPS id d9443c01a7336-220d52028cesm695115ad.11.2025.02.13.05.57.40 (version=TLS1_2 cipher=ECDHE-ECDSA-AES128-GCM-SHA256 bits=128/128); Thu, 13 Feb 2025 05:57:41 -0800 (PST) X-Relaying-Domain: iol.unh.edu Date: Thu, 13 Feb 2025 05:57:41 -0800 (PST) Message-ID: <67adfa55.170a0220.63271.3b85SMTPIN_ADDED_MISSING@mx.google.com> Received: from [172.21.0.5] (unknown [172.18.0.240]) by postal.iol.unh.edu (Postfix) with ESMTP id 3B28F6052471; Thu, 13 Feb 2025 08:57:40 -0500 (EST) Subject: |SUCCESS| pw151465 [PATCH] ci: build with MSVC in GHA From: dpdklab@iol.unh.edu To: Test Report Cc: dpdk-test-reports@iol.unh.edu In-Reply-To: <20250213075010.2670431-1-david.marchand@redhat.com> References: <20250213075010.2670431-1-david.marchand@redhat.com> Content-Type: text/plain X-BeenThere: test-report@dpdk.org X-Mailman-Version: 2.1.29 Precedence: list List-Id: automatic DPDK test reports List-Unsubscribe: , List-Archive: List-Post: List-Help: List-Subscribe: , Errors-To: test-report-bounces@dpdk.org Test-Label: iol-abi-testing Test-Status: SUCCESS http://dpdk.org/patch/151465 _Testing PASS_ Submitter: David Marchand Date: Thursday, February 13 2025 07:50:10 DPDK git baseline: Repo:dpdk Branch: master CommitID:e5176f23ae8b31437c3e5eb875c81f95bf3a9942 151465 --> testing pass Upstream job id: Generic-DPDK-Compile-ABI#116047 Test environment and result as below: +-------------------+----------+ | Environment | abi_test | +===================+==========+ | CentOS Stream 9 | PASS | +-------------------+----------+ | Debian Bullseye | PASS | +-------------------+----------+ | Debian 12 | PASS | +-------------------+----------+ | CentOS Stream 10 | PASS | +-------------------+----------+ | Fedora 40 | PASS | +-------------------+----------+ | Fedora 41 | PASS | +-------------------+----------+ | Fedora 41 (Clang) | PASS | +-------------------+----------+ | Fedora 40 (Clang) | PASS | +-------------------+----------+ | RHEL8 | PASS | +-------------------+----------+ | openSUSE Leap 15 | PASS | +-------------------+----------+ | Ubuntu 24.04 | PASS | +-------------------+----------+ | RHEL9 | PASS | +-------------------+----------+ | Ubuntu 22.04 | PASS | +-------------------+----------+ CentOS Stream 9 Kernel: Depends on container host Compiler: gcc 11.5.0 20240719 (Red Hat 11.5.0-2) Debian Bullseye Kernel: Depends on container host Compiler: gcc (Debian 10.2.1-6) 10.2.1 20210110 Debian 12 Kernel: Depends on container host Compiler: gcc (Debian 12.2.0-14) 12.2.0 CentOS Stream 10 Kernel: Depends on container host Compiler: gcc 14.2.1 20241104 (Red Hat 14.2.1-6) Fedora 40 Kernel: Depends on container host Compiler: gcc 14.2.1 20240912 (Red Hat 14.2.1-3) Fedora 41 Kernel: Depends on container host Compiler: gcc 14.2.1 20240912 (Red Hat 14.2.1-3) Fedora 41 (Clang) Kernel: Depends on container host Compiler: clang 19.1.5 (Fedora 19.1.5-1.fc41) Fedora 40 (Clang) Kernel: Depends on container host Compiler: clang 18.1.8 (Fedora 18.1.8-1.fc40) RHEL8 Kernel: Depends on container host Compiler: gcc 8.5.0 20210514 (Red Hat 8.5.0-22) openSUSE Leap 15 Kernel: Depends on container host Compiler: gcc (SUSE Linux) 7.5.0 Ubuntu 24.04 Kernel: Depends on container host Compiler: gcc (Ubuntu 13.3.0-6ubuntu2~24.04) 13.3.0 RHEL9 Kernel: Depends on container host Compiler: gcc 11.5.0 20240719 (Red Hat 11.5.0-2) Ubuntu 22.04 Kernel: Depends on container host Compiler: gcc (Ubuntu 11.4.0-1ubuntu1~22.04) 11.4.0 To view detailed results, visit: https://lab.dpdk.org/results/dashboard/patchsets/32574/ UNH-IOL DPDK Community Lab To manage your email subscriptions, visit: https://lab.dpdk.org/results/dashboard/preferences/subscriptions/