From mboxrd@z Thu Jan 1 00:00:00 1970 Return-Path: Received: from mails.dpdk.org (mails.dpdk.org [217.70.189.124]) by inbox.dpdk.org (Postfix) with ESMTP id CF86046219 for ; Thu, 13 Feb 2025 15:33:46 +0100 (CET) Received: from mails.dpdk.org (localhost [127.0.0.1]) by mails.dpdk.org (Postfix) with ESMTP id C6BA3402A3; Thu, 13 Feb 2025 15:33:46 +0100 (CET) Received: from mail-qt1-f228.google.com (mail-qt1-f228.google.com [209.85.160.228]) by mails.dpdk.org (Postfix) with ESMTP id 5588D40264 for ; Thu, 13 Feb 2025 15:33:45 +0100 (CET) Received: by mail-qt1-f228.google.com with SMTP id d75a77b69052e-471a01060f3so3980181cf.0 for ; Thu, 13 Feb 2025 06:33:45 -0800 (PST) DKIM-Signature: v=1; a=rsa-sha256; c=relaxed/relaxed; d=iol.unh.edu; s=unh-iol; t=1739457224; x=1740062024; darn=dpdk.org; h=references:in-reply-to:cc:to:from:subject:message-id:date:from:to :cc:subject:date:message-id:reply-to; bh=khu2cULAMJXJFjDLek5fhY5wbltluRepuSkNltHDR+Y=; b=jhrQMB1UAlGhexsFhcVDXM6a4+AcgnTHyfYvaHmhTok9mutIH3HV9UINzBYnfSx/2w V1G0mgQMvdabhSnjZQPLjqFut59uaZ3xKc8UVYX9ZkGzadqkFHcmJ2N8rZ/JBD9hPxFT qA/CMCcjCSNFhvQU5oHemJxx7z8D6q3DEQ19M= X-Google-DKIM-Signature: v=1; a=rsa-sha256; c=relaxed/relaxed; d=1e100.net; s=20230601; t=1739457224; x=1740062024; h=references:in-reply-to:cc:to:from:subject:message-id:date :x-gm-message-state:from:to:cc:subject:date:message-id:reply-to; bh=khu2cULAMJXJFjDLek5fhY5wbltluRepuSkNltHDR+Y=; b=FAtSxGAPAKlXbxKSrBs1CGw3bkymUMiCURx4+3XtC9EHS5xU/XnMTRCuGctgmkq1jJ Kkr/op/iVIiadrAKRwac2FDysKtDhYFzZtzL90GFnkusPmTVzAW812dLQjpX4tCw2HGl oZlOP4q4s1viwqohOGE7fay3bRgU+GWYGNYE0oaeufR+ZIrElhKJq5CwUwwKcinUBX/y OnS4E+3CgvgAqMTsCogwg6xljPbtuERqGfGKDJTPrnQwt2OCEHUkWaxh8gEzeHNehko9 3ICsX3rmW3vDzZTNgjeiHVLgCOrlVc5XcGwlaaPQhTE0mgIdc/IIWkoDOikBrkL0HCzS OH/A== X-Gm-Message-State: AOJu0YyWJKboLlOsEgc2y0nfU7p8A8XmwOZWVOk2Cf+71glqv3VRQZRs xxH3UG5BqSrILvhZBC9BkNLfzn6b7TdJDxaGwrjcHwyyNprS3X8ujcsHckKRsA2JD0JXA21aDTN lxLi0LBQShzX+ngyx4bvs9w+IQq3waSg2QSdKrVycdhIEgYsf1aCcBNn/ X-Gm-Gg: ASbGncsUi6ZKeff6eEzflf/7LwxMn5OeHCDZhd/zdZ3y03yBAdYT2j7AoxBMq3xNC7p gfZ/ml+uUaswSXnV4/Xsph+/Dsh/bBv5qT03pe8ggKN2SRk0FbH20VPmuLL/UNScHqiLRUyBCmb ajWXSR60KYDTXkqkoPz06/Ho3WHVnhL+5yBOWeX4NqamLPgaQhemuwJPpHly/aYdS20rFCtWGte /iKeSf9KCZIO/8ENO/DeVvzwJ5gt5/M4sNsosukUan4YydY3txaKH+Yn40jN3ifPIgwkbdf/JrU YuU7rYt1FOZ/7B7rC2xvmy6A/h2AmKn+Qd8fgSQ+Tw== X-Google-Smtp-Source: AGHT+IHvKQovJG/oMdbqSv36N/R5Tn7oFLoUvJ45HnP31pmKMbkBF3t8y5Y8VxSFwVXxsbU4jvUwoeO0Kmk8 X-Received: by 2002:ac8:7d8a:0:b0:471:9721:db91 with SMTP id d75a77b69052e-471afefea9emr90348271cf.51.1739457224685; Thu, 13 Feb 2025 06:33:44 -0800 (PST) Received: from postal.iol.unh.edu (postal.iol.unh.edu. [2606:4100:3880:1234::84]) by smtp-relay.gmail.com with ESMTPS id d75a77b69052e-471c2a12d3csm549811cf.8.2025.02.13.06.33.44 (version=TLS1_2 cipher=ECDHE-ECDSA-AES128-GCM-SHA256 bits=128/128); Thu, 13 Feb 2025 06:33:44 -0800 (PST) X-Relaying-Domain: iol.unh.edu Date: Thu, 13 Feb 2025 06:33:44 -0800 (PST) Message-ID: <67ae02c8.c80a0220.287aaf.300aSMTPIN_ADDED_MISSING@mx.google.com> Received: from [172.21.0.7] (unknown [172.18.0.240]) by postal.iol.unh.edu (Postfix) with ESMTP id 37A916052471; Thu, 13 Feb 2025 09:33:44 -0500 (EST) Subject: |SUCCESS| pw151438-151444 [PATCH] [v2,7/7] dts: remove node distinct From: dpdklab@iol.unh.edu To: Test Report Cc: dpdk-test-reports@iol.unh.edu In-Reply-To: <20250212164600.23759-8-luca.vizzarro@arm.com> References: <20250212164600.23759-8-luca.vizzarro@arm.com> Content-Type: text/plain X-BeenThere: test-report@dpdk.org X-Mailman-Version: 2.1.29 Precedence: list List-Id: automatic DPDK test reports List-Unsubscribe: , List-Archive: List-Post: List-Help: List-Subscribe: , Errors-To: test-report-bounces@dpdk.org Test-Label: iol-compile-amd64-testing Test-Status: SUCCESS http://dpdk.org/patch/151444 _Testing PASS_ Submitter: Luca Vizzarro Date: Wednesday, February 12 2025 16:46:00 DPDK git baseline: Repo:dpdk Branch: master CommitID:046cca99c3fd03bfb95d3e27a56aab40c2c8f45a 151438-151444 --> testing pass Upstream job id: Windows-Compile-DPDK-Native#26659 Test environment and result as below: +---------------------+-------------------+--------------------+-------------------+------------------+-------------------------+----------------------+ | Environment | dpdk_msvc_compile | dpdk_meson_compile | dpdk_compile_spdk | dpdk_compile_ovs | dpdk_llvm_clang_compile | dpdk_mingw64_compile | +=====================+===================+====================+===================+==================+=========================+======================+ | Windows Server 2022 | PASS | SKIPPED | SKIPPED | SKIPPED | PASS | PASS | +---------------------+-------------------+--------------------+-------------------+------------------+-------------------------+----------------------+ | FreeBSD 13.4 | SKIPPED | PASS | SKIPPED | SKIPPED | SKIPPED | SKIPPED | +---------------------+-------------------+--------------------+-------------------+------------------+-------------------------+----------------------+ | FreeBSD 14.2 | SKIPPED | PASS | SKIPPED | SKIPPED | SKIPPED | SKIPPED | +---------------------+-------------------+--------------------+-------------------+------------------+-------------------------+----------------------+ | CentOS Stream 9 | SKIPPED | PASS | PASS | SKIPPED | SKIPPED | SKIPPED | +---------------------+-------------------+--------------------+-------------------+------------------+-------------------------+----------------------+ | CentOS Stream 10 | SKIPPED | PASS | SKIPPED | SKIPPED | SKIPPED | SKIPPED | +---------------------+-------------------+--------------------+-------------------+------------------+-------------------------+----------------------+ | Debian Bullseye | SKIPPED | PASS | PASS | SKIPPED | SKIPPED | SKIPPED | +---------------------+-------------------+--------------------+-------------------+------------------+-------------------------+----------------------+ | Debian 12 | SKIPPED | PASS | PASS | SKIPPED | SKIPPED | SKIPPED | +---------------------+-------------------+--------------------+-------------------+------------------+-------------------------+----------------------+ | Fedora 40 (Clang) | SKIPPED | PASS | PASS | SKIPPED | SKIPPED | SKIPPED | +---------------------+-------------------+--------------------+-------------------+------------------+-------------------------+----------------------+ | Fedora 41 (Clang) | SKIPPED | PASS | PASS | PASS | SKIPPED | SKIPPED | +---------------------+-------------------+--------------------+-------------------+------------------+-------------------------+----------------------+ | Fedora 41 | SKIPPED | PASS | PASS | PASS | SKIPPED | SKIPPED | +---------------------+-------------------+--------------------+-------------------+------------------+-------------------------+----------------------+ | openSUSE Leap 15 | SKIPPED | PASS | SKIPPED | SKIPPED | SKIPPED | SKIPPED | +---------------------+-------------------+--------------------+-------------------+------------------+-------------------------+----------------------+ | RHEL8 | SKIPPED | PASS | SKIPPED | SKIPPED | SKIPPED | SKIPPED | +---------------------+-------------------+--------------------+-------------------+------------------+-------------------------+----------------------+ | RHEL9 | SKIPPED | PASS | SKIPPED | SKIPPED | SKIPPED | SKIPPED | +---------------------+-------------------+--------------------+-------------------+------------------+-------------------------+----------------------+ | Ubuntu 20.04 | SKIPPED | PASS | SKIPPED | SKIPPED | SKIPPED | SKIPPED | +---------------------+-------------------+--------------------+-------------------+------------------+-------------------------+----------------------+ | Ubuntu 24.04 | SKIPPED | PASS | PASS | PASS | SKIPPED | SKIPPED | +---------------------+-------------------+--------------------+-------------------+------------------+-------------------------+----------------------+ | Alpine | SKIPPED | PASS | SKIPPED | SKIPPED | SKIPPED | SKIPPED | +---------------------+-------------------+--------------------+-------------------+------------------+-------------------------+----------------------+ | Ubuntu 22.04 | SKIPPED | PASS | PASS | SKIPPED | SKIPPED | SKIPPED | +---------------------+-------------------+--------------------+-------------------+------------------+-------------------------+----------------------+ | Fedora 40 | SKIPPED | PASS | PASS | SKIPPED | SKIPPED | SKIPPED | +---------------------+-------------------+--------------------+-------------------+------------------+-------------------------+----------------------+ Windows Server 2022 Kernel: 10.0.20348.2031 Compiler: clang 15.0.7, gcc 14.1.0 (MinGW), and MSVC VS 19.39.33521 FreeBSD 13.4 Kernel: 13.4-RELEASE-p1 Compiler: clang 18.1.6 FreeBSD 14.2 Kernel: 14.2-RELEASE Compiler: clang 18.1.6 CentOS Stream 9 Kernel: Depends on container host Compiler: gcc 11.5.0 20240719 (Red Hat 11.5.0-2) CentOS Stream 10 Kernel: Depends on container host Compiler: gcc 14.2.1 20241104 (Red Hat 14.2.1-6) Debian Bullseye Kernel: Depends on container host Compiler: gcc (Debian 10.2.1-6) 10.2.1 20210110 Debian 12 Kernel: Depends on container host Compiler: gcc (Debian 12.2.0-14) 12.2.0 Fedora 40 (Clang) Kernel: Depends on container host Compiler: clang 18.1.8 (Fedora 18.1.8-1.fc40) Fedora 41 (Clang) Kernel: Depends on container host Compiler: clang 19.1.5 (Fedora 19.1.5-1.fc41) Fedora 41 Kernel: Depends on container host Compiler: gcc 14.2.1 20240912 (Red Hat 14.2.1-3) openSUSE Leap 15 Kernel: Depends on container host Compiler: gcc (SUSE Linux) 7.5.0 RHEL8 Kernel: Depends on container host Compiler: gcc 8.5.0 20210514 (Red Hat 8.5.0-22) RHEL9 Kernel: Depends on container host Compiler: gcc 11.5.0 20240719 (Red Hat 11.5.0-2) Ubuntu 20.04 Kernel: Depends on container host Compiler: gcc (Ubuntu 9.4.0-1ubuntu1~20.04.2) 9.4.0 Ubuntu 24.04 Kernel: Depends on container host Compiler: gcc (Ubuntu 13.3.0-6ubuntu2~24.04) 13.3.0 Alpine Kernel: Depends on container host Compiler: gcc (Alpine 14.2.0) 14.2.0 Ubuntu 22.04 Kernel: Depends on container host Compiler: gcc (Ubuntu 11.4.0-1ubuntu1~22.04) 11.4.0 Fedora 40 Kernel: Depends on container host Compiler: gcc 14.2.1 20240912 (Red Hat 14.2.1-3) To view detailed results, visit: https://lab.dpdk.org/results/dashboard/patchsets/32569/ UNH-IOL DPDK Community Lab To manage your email subscriptions, visit: https://lab.dpdk.org/results/dashboard/preferences/subscriptions/