From mboxrd@z Thu Jan 1 00:00:00 1970 Return-Path: Received: from mails.dpdk.org (mails.dpdk.org [217.70.189.124]) by inbox.dpdk.org (Postfix) with ESMTP id A592D46219 for ; Thu, 13 Feb 2025 15:53:18 +0100 (CET) Received: from mails.dpdk.org (localhost [127.0.0.1]) by mails.dpdk.org (Postfix) with ESMTP id 777F5402A3; Thu, 13 Feb 2025 15:53:18 +0100 (CET) Received: from mail-pl1-f226.google.com (mail-pl1-f226.google.com [209.85.214.226]) by mails.dpdk.org (Postfix) with ESMTP id A201C40264 for ; Thu, 13 Feb 2025 15:53:17 +0100 (CET) Received: by mail-pl1-f226.google.com with SMTP id d9443c01a7336-220d132f16dso13554775ad.0 for ; Thu, 13 Feb 2025 06:53:17 -0800 (PST) DKIM-Signature: v=1; a=rsa-sha256; c=relaxed/relaxed; d=iol.unh.edu; s=unh-iol; t=1739458397; x=1740063197; darn=dpdk.org; h=references:in-reply-to:cc:to:from:subject:message-id:date:from:to :cc:subject:date:message-id:reply-to; bh=N1EVbrtejuW3AwoMKwXASA8uULNG72xn2TIgGfzcZHk=; b=OdpzxXQ3PZTkwKHmTKrGRvR32/b0mP5YsksSnEjDiFVXDO4JQ7meBJNcJ0IvURwTV3 69XWVYO6YemHhJN4OZPZUmlItPiSlOp+8VPejBfY9PrQuD+MkzbzoaolqltwFOM/VvVU fJXzUqjFMzMa3eNpi+FTUqBXhjptg9ZGeEuW8= X-Google-DKIM-Signature: v=1; a=rsa-sha256; c=relaxed/relaxed; d=1e100.net; s=20230601; t=1739458397; x=1740063197; h=references:in-reply-to:cc:to:from:subject:message-id:date :x-gm-message-state:from:to:cc:subject:date:message-id:reply-to; bh=N1EVbrtejuW3AwoMKwXASA8uULNG72xn2TIgGfzcZHk=; b=gsSbVpZF+wYcVdxxjhbt3h4uLVhXVHltKE+/GQBXJi2hneAwqxG5m7aIkwrZOeDyIv o0iZoZM83TqL5Yg4jfGK40oVttm4gDPs9jatpDakmFK6Z1tpXW3rgBGIZP1dzyZEbspa L7IEgGglYAld1a6URPmWehQQNb5HSTn8D282Zw3X3KA9uWona1R2xTG/NW0EgbuS+A+n XEXhmU8mNw8RPjLg55ekZjgkOTQQrP4fT5oYTgxFZ3+jYyf13t9SvkFM6rB9u6CoaYen x7hLtaSSnpd0uTOE6OEcqrQ3h7E8YfeP8dHCSJe8VdyTIfri+ozULpMRNH+vStzcxlvD +/eg== X-Gm-Message-State: AOJu0YzWbTz/YHbxk9up/cGeEu5Dj8pU8LaDxIkduv85tUX2fuCXaRND rqzYJhtrhoP6JM5QAvoslFuazE4UAcQKPX4r/fSx3dz/fBd00Hz7/TPnvQyX8+DFYvgwZjc61Kx G3EbNA7eocqj+kRUNl279AI9DnFSHsV0893Xfv1w4 X-Gm-Gg: ASbGncuQs6J1KnSShnSvPQLi+JqNGfxj5LH+Mk4b4gaVWhVTLLqjukrAJkVwO4Twg7/ +cuvXeFGeEusIpyOEMuzHRelHFQT4ru1KY+1DTKBd4AiFJ94K+u0vgwsPd9bPGLhQX6mhxln0Ij aNpjIFm50ZcCrxpU8xZRmDaIpkqEdMUEC+Oki/eZQwK6QRceXSjET6OEP/hotXJLdeaRGKTDhiE Fkl+LbmqHVGYFaO7vnmtzysk1xyZhTzd20uHR1Iqz6gVgp/TEY8CP/jiVVjNhLZTGaaEzFqOOyn 0tbmrNqyqaOc/3RjddhjVRECZ2xFRQ== X-Google-Smtp-Source: AGHT+IFuqwj7e2KSVpxMT+Qxg43L++d0HUSW+V+10T3Ks6bfZ+RvsuSALJHxLzUe1yNjEsMmR39Yy5ZTCEvP X-Received: by 2002:a05:6a21:490:b0:1e1:aef4:9ce8 with SMTP id adf61e73a8af0-1ee5c8285b5mr12838043637.28.1739458396752; Thu, 13 Feb 2025 06:53:16 -0800 (PST) Received: from postal.iol.unh.edu (postal.iol.unh.edu. [132.177.123.84]) by smtp-relay.gmail.com with ESMTPS id d2e1a72fcca58-7324256e7f5sm96055b3a.10.2025.02.13.06.53.16 (version=TLS1_2 cipher=ECDHE-ECDSA-AES128-GCM-SHA256 bits=128/128); Thu, 13 Feb 2025 06:53:16 -0800 (PST) X-Relaying-Domain: iol.unh.edu Date: Thu, 13 Feb 2025 06:53:16 -0800 (PST) Message-ID: <67ae075c.050a0220.3752d9.56e7SMTPIN_ADDED_MISSING@mx.google.com> Received: from [172.21.0.5] (unknown [172.18.0.240]) by postal.iol.unh.edu (Postfix) with ESMTP id CCD6E6052471; Thu, 13 Feb 2025 09:53:15 -0500 (EST) Subject: |SUCCESS| pw151448-151458 [PATCH] [v1,16/16] net/zxdh: provide meter From: dpdklab@iol.unh.edu To: Test Report Cc: dpdk-test-reports@iol.unh.edu In-Reply-To: <20250213064134.88166-17-wang.junlong1@zte.com.cn> References: <20250213064134.88166-17-wang.junlong1@zte.com.cn> Content-Type: text/plain X-BeenThere: test-report@dpdk.org X-Mailman-Version: 2.1.29 Precedence: list List-Id: automatic DPDK test reports List-Unsubscribe: , List-Archive: List-Post: List-Help: List-Subscribe: , Errors-To: test-report-bounces@dpdk.org Test-Label: iol-compile-amd64-testing Test-Status: SUCCESS http://dpdk.org/patch/151458 _Testing PASS_ Submitter: Junlong Wang Date: Thursday, February 13 2025 06:41:32 DPDK git baseline: Repo:dpdk Branch: master CommitID:88e17c88943145bb956b5bf6059a8043dbd33a99 151448-151458 --> testing pass Upstream job id: Generic-DPDK-Compile-Meson#361251 Test environment and result as below: +---------------------+-------------------+--------------------+-------------------+------------------+ | Environment | dpdk_msvc_compile | dpdk_meson_compile | dpdk_compile_spdk | dpdk_compile_ovs | +=====================+===================+====================+===================+==================+ | Windows Server 2022 | PASS | SKIPPED | SKIPPED | SKIPPED | +---------------------+-------------------+--------------------+-------------------+------------------+ | FreeBSD 14.2 | SKIPPED | PASS | SKIPPED | SKIPPED | +---------------------+-------------------+--------------------+-------------------+------------------+ | CentOS Stream 9 | SKIPPED | PASS | PASS | SKIPPED | +---------------------+-------------------+--------------------+-------------------+------------------+ | CentOS Stream 10 | SKIPPED | PASS | SKIPPED | SKIPPED | +---------------------+-------------------+--------------------+-------------------+------------------+ | Debian Bullseye | SKIPPED | PASS | PASS | SKIPPED | +---------------------+-------------------+--------------------+-------------------+------------------+ | Debian 12 | SKIPPED | PASS | PASS | SKIPPED | +---------------------+-------------------+--------------------+-------------------+------------------+ | Fedora 40 (Clang) | SKIPPED | PASS | PASS | SKIPPED | +---------------------+-------------------+--------------------+-------------------+------------------+ | Fedora 40 | SKIPPED | PASS | PASS | SKIPPED | +---------------------+-------------------+--------------------+-------------------+------------------+ | Fedora 41 (Clang) | SKIPPED | PASS | PASS | PASS | +---------------------+-------------------+--------------------+-------------------+------------------+ | Fedora 41 | SKIPPED | PASS | PASS | PASS | +---------------------+-------------------+--------------------+-------------------+------------------+ | openSUSE Leap 15 | SKIPPED | PASS | SKIPPED | SKIPPED | +---------------------+-------------------+--------------------+-------------------+------------------+ | RHEL8 | SKIPPED | PASS | SKIPPED | SKIPPED | +---------------------+-------------------+--------------------+-------------------+------------------+ | RHEL9 | SKIPPED | PASS | SKIPPED | SKIPPED | +---------------------+-------------------+--------------------+-------------------+------------------+ | Ubuntu 20.04 | SKIPPED | PASS | SKIPPED | SKIPPED | +---------------------+-------------------+--------------------+-------------------+------------------+ | Ubuntu 22.04 | SKIPPED | PASS | PASS | SKIPPED | +---------------------+-------------------+--------------------+-------------------+------------------+ | Ubuntu 24.04 | SKIPPED | PASS | PASS | PASS | +---------------------+-------------------+--------------------+-------------------+------------------+ | Alpine | SKIPPED | PASS | SKIPPED | SKIPPED | +---------------------+-------------------+--------------------+-------------------+------------------+ Windows Server 2022 Kernel: 10.0.20348.2031 Compiler: clang 15.0.7, gcc 14.1.0 (MinGW), and MSVC VS 19.39.33521 FreeBSD 14.2 Kernel: 14.2-RELEASE Compiler: clang 18.1.6 CentOS Stream 9 Kernel: Depends on container host Compiler: gcc 11.5.0 20240719 (Red Hat 11.5.0-2) CentOS Stream 10 Kernel: Depends on container host Compiler: gcc 14.2.1 20241104 (Red Hat 14.2.1-6) Debian Bullseye Kernel: Depends on container host Compiler: gcc (Debian 10.2.1-6) 10.2.1 20210110 Debian 12 Kernel: Depends on container host Compiler: gcc (Debian 12.2.0-14) 12.2.0 Fedora 40 (Clang) Kernel: Depends on container host Compiler: clang 18.1.8 (Fedora 18.1.8-1.fc40) Fedora 40 Kernel: Depends on container host Compiler: gcc 14.2.1 20240912 (Red Hat 14.2.1-3) Fedora 41 (Clang) Kernel: Depends on container host Compiler: clang 19.1.5 (Fedora 19.1.5-1.fc41) Fedora 41 Kernel: Depends on container host Compiler: gcc 14.2.1 20240912 (Red Hat 14.2.1-3) openSUSE Leap 15 Kernel: Depends on container host Compiler: gcc (SUSE Linux) 7.5.0 RHEL8 Kernel: Depends on container host Compiler: gcc 8.5.0 20210514 (Red Hat 8.5.0-22) RHEL9 Kernel: Depends on container host Compiler: gcc 11.5.0 20240719 (Red Hat 11.5.0-2) Ubuntu 20.04 Kernel: Depends on container host Compiler: gcc (Ubuntu 9.4.0-1ubuntu1~20.04.2) 9.4.0 Ubuntu 22.04 Kernel: Depends on container host Compiler: gcc (Ubuntu 11.4.0-1ubuntu1~22.04) 11.4.0 Ubuntu 24.04 Kernel: Depends on container host Compiler: gcc (Ubuntu 13.3.0-6ubuntu2~24.04) 13.3.0 Alpine Kernel: Depends on container host Compiler: gcc (Alpine 14.2.0) 14.2.0 To view detailed results, visit: https://lab.dpdk.org/results/dashboard/patchsets/32571/ UNH-IOL DPDK Community Lab To manage your email subscriptions, visit: https://lab.dpdk.org/results/dashboard/preferences/subscriptions/