From mboxrd@z Thu Jan 1 00:00:00 1970 Return-Path: Received: from mails.dpdk.org (mails.dpdk.org [217.70.189.124]) by inbox.dpdk.org (Postfix) with ESMTP id 07B8046219 for ; Thu, 13 Feb 2025 15:56:52 +0100 (CET) Received: from mails.dpdk.org (localhost [127.0.0.1]) by mails.dpdk.org (Postfix) with ESMTP id D3BCF402A3; Thu, 13 Feb 2025 15:56:52 +0100 (CET) Received: from mail-il1-f225.google.com (mail-il1-f225.google.com [209.85.166.225]) by mails.dpdk.org (Postfix) with ESMTP id 37B5740264 for ; Thu, 13 Feb 2025 15:56:52 +0100 (CET) Received: by mail-il1-f225.google.com with SMTP id e9e14a558f8ab-3cf82bd380bso7181615ab.0 for ; Thu, 13 Feb 2025 06:56:52 -0800 (PST) DKIM-Signature: v=1; a=rsa-sha256; c=relaxed/relaxed; d=iol.unh.edu; s=unh-iol; t=1739458611; x=1740063411; darn=dpdk.org; h=references:in-reply-to:cc:to:from:subject:message-id:date:from:to :cc:subject:date:message-id:reply-to; bh=3al0FmGUxuoEGK7vK5fvn9DLAGVYW8D5KVwr8tmnGs8=; b=F5+kjWwPNnpKnfPOCvn7gJd3IG5PnfXKhQPbGpC//JVptreQmdLNddBrCtvJgqFTU0 jfutUGeuGAGff1M1qAVAEqZ7NF807pVO9OSTM+jGEr6Z2+j7Nbz8MFImF43B6tSojbA/ Q14DtxmM9ooMlJtDiUDd+LRnMFaCtMojPAP4U= X-Google-DKIM-Signature: v=1; a=rsa-sha256; c=relaxed/relaxed; d=1e100.net; s=20230601; t=1739458611; x=1740063411; h=references:in-reply-to:cc:to:from:subject:message-id:date :x-gm-message-state:from:to:cc:subject:date:message-id:reply-to; bh=3al0FmGUxuoEGK7vK5fvn9DLAGVYW8D5KVwr8tmnGs8=; b=DFHNe9GXeIGIM7DJE8CDxncSU45MKDVfaJ44N8xVeaMsg1HbD2eCZwLeDHZWtILZpt g08gfunKG2zjEonHrTV+8AKBHQEGoWbEGNPoLvBmjOcAYkKnqrQzmvD0tWNo2++jV6Bj 4druNZYKwSmNwlFB/MoKCKJk0IY2xQ7vNWSrPHlliQRfBVQW5iF164cb6YVSoHifI8Mz RE7XCJ+xT9/keLv++e6l3guxbzXfpzuDTSBq5fGj1/rBnv0XDOX517KhjlwdvIRScy6X g+UZnjVs8+edgO4g/PxFT1+w90vDHg1aB2Wdt5IZmnn1IWv2dJce7m3dEO/xH1b+Fv7v eosw== X-Gm-Message-State: AOJu0Yya20UwNUiArk2Zz1Mce5nzINizAbhLoJN3bgRULQ45ajCvzA4p NX+tBiv9+BBO/Pvff6fUvn3KMwa8OaxgPi/vJjGyqSge499jmIPx0OoAr3n6z2QpF3/OSwhBkp4 +V0xE1j42pBzp0c707mHM+/4NVLYQboq4F/UW+JhuRUpPJFHbBZEE++k6 X-Gm-Gg: ASbGncuRo/MDYf4hmgJEjIlJCJ/VGFjqpxMFaVCL9Ylu22iiBxvOoKmuKQ2XJycTJ8f chHxa8ppibzIaMniGxan4IUJWCPsLypKgGUF3XSuB35BbC40kGj0BKGz1kW4sWTmR7uvqY8R6R3 gmb+xZuEabhir7vC//Y5LLJBfi3wL/dpqRPTsey6JyPLirhpvQFhcUz5FUMJWBqqSmYT/ndtTO1 Jct1vxX8mgtq4GDU5Q2NhOnerbmds4cOHHzrBEXvHAmS6HyNuTLAuUhqwO5kJHiOUvYTXb5Gobs caY1se+TzAcA81/3a1rqLwi/mYnfJdZaER0tXNd9ow== X-Google-Smtp-Source: AGHT+IFawJq4OdNEWbHzYw25qLGERvL5dkvs+27NKvpBZvzxgkA3S+uQgpGgMwucu+7Qy94QdoMruXdiu3Oy X-Received: by 2002:a05:6e02:194d:b0:3d1:963b:9f06 with SMTP id e9e14a558f8ab-3d1963ba037mr5454975ab.3.1739458611483; Thu, 13 Feb 2025 06:56:51 -0800 (PST) Received: from postal.iol.unh.edu (postal.iol.unh.edu. [2606:4100:3880:1234::84]) by smtp-relay.gmail.com with ESMTPS id e9e14a558f8ab-3d18f9a963esm745805ab.9.2025.02.13.06.56.51 (version=TLS1_2 cipher=ECDHE-ECDSA-AES128-GCM-SHA256 bits=128/128); Thu, 13 Feb 2025 06:56:51 -0800 (PST) X-Relaying-Domain: iol.unh.edu Date: Thu, 13 Feb 2025 06:56:51 -0800 (PST) Message-ID: <67ae0833.050a0220.3348ea.4025SMTPIN_ADDED_MISSING@mx.google.com> Received: from [172.21.0.6] (unknown [172.18.0.240]) by postal.iol.unh.edu (Postfix) with ESMTP id EB8166052471; Thu, 13 Feb 2025 09:56:50 -0500 (EST) Subject: |SUCCESS| pw151465 [PATCH] ci: build with MSVC in GHA From: dpdklab@iol.unh.edu To: Test Report Cc: dpdk-test-reports@iol.unh.edu In-Reply-To: <20250213075010.2670431-1-david.marchand@redhat.com> References: <20250213075010.2670431-1-david.marchand@redhat.com> Content-Type: text/plain X-BeenThere: test-report@dpdk.org X-Mailman-Version: 2.1.29 Precedence: list List-Id: automatic DPDK test reports List-Unsubscribe: , List-Archive: List-Post: List-Help: List-Subscribe: , Errors-To: test-report-bounces@dpdk.org Test-Label: iol-unit-amd64-testing Test-Status: SUCCESS http://dpdk.org/patch/151465 _Testing PASS_ Submitter: David Marchand Date: Thursday, February 13 2025 07:50:10 DPDK git baseline: Repo:dpdk Branch: master CommitID:e5176f23ae8b31437c3e5eb875c81f95bf3a9942 151465 --> testing pass Upstream job id: Generic-Unit-Test-DPDK#314670 Test environment and result as below: +-------------------+----------------+ | Environment | dpdk_unit_test | +===================+================+ | CentOS Stream 10 | PASS | +-------------------+----------------+ | Debian Bullseye | PASS | +-------------------+----------------+ | CentOS Stream 9 | PASS | +-------------------+----------------+ | Debian 12 | PASS | +-------------------+----------------+ | Fedora 40 | PASS | +-------------------+----------------+ | Fedora 41 | PASS | +-------------------+----------------+ | Fedora 40 (Clang) | PASS | +-------------------+----------------+ | RHEL9 | PASS | +-------------------+----------------+ | Fedora 41 (Clang) | PASS | +-------------------+----------------+ | RHEL8 | PASS | +-------------------+----------------+ | Ubuntu 22.04 | PASS | +-------------------+----------------+ | Ubuntu 24.04 | PASS | +-------------------+----------------+ | Ubuntu 20.04 | PASS | +-------------------+----------------+ CentOS Stream 10 Kernel: Depends on container host Compiler: gcc 14.2.1 20241104 (Red Hat 14.2.1-6) Debian Bullseye Kernel: Depends on container host Compiler: gcc (Debian 10.2.1-6) 10.2.1 20210110 CentOS Stream 9 Kernel: Depends on container host Compiler: gcc 11.5.0 20240719 (Red Hat 11.5.0-2) Debian 12 Kernel: Depends on container host Compiler: gcc (Debian 12.2.0-14) 12.2.0 Fedora 40 Kernel: Depends on container host Compiler: gcc 14.2.1 20240912 (Red Hat 14.2.1-3) Fedora 41 Kernel: Depends on container host Compiler: gcc 14.2.1 20240912 (Red Hat 14.2.1-3) Fedora 40 (Clang) Kernel: Depends on container host Compiler: clang 18.1.8 (Fedora 18.1.8-1.fc40) RHEL9 Kernel: Depends on container host Compiler: gcc 11.5.0 20240719 (Red Hat 11.5.0-2) Fedora 41 (Clang) Kernel: Depends on container host Compiler: clang 19.1.5 (Fedora 19.1.5-1.fc41) RHEL8 Kernel: Depends on container host Compiler: gcc 8.5.0 20210514 (Red Hat 8.5.0-22) Ubuntu 22.04 Kernel: Depends on container host Compiler: gcc (Ubuntu 11.4.0-1ubuntu1~22.04) 11.4.0 Ubuntu 24.04 Kernel: Depends on container host Compiler: gcc (Ubuntu 13.3.0-6ubuntu2~24.04) 13.3.0 Ubuntu 20.04 Kernel: Depends on container host Compiler: gcc (Ubuntu 9.4.0-1ubuntu1~20.04.2) 9.4.0 To view detailed results, visit: https://lab.dpdk.org/results/dashboard/patchsets/32574/ UNH-IOL DPDK Community Lab To manage your email subscriptions, visit: https://lab.dpdk.org/results/dashboard/preferences/subscriptions/