From mboxrd@z Thu Jan 1 00:00:00 1970 Return-Path: Received: from mails.dpdk.org (mails.dpdk.org [217.70.189.124]) by inbox.dpdk.org (Postfix) with ESMTP id A02AA4621A for ; Thu, 13 Feb 2025 16:04:33 +0100 (CET) Received: from mails.dpdk.org (localhost [127.0.0.1]) by mails.dpdk.org (Postfix) with ESMTP id 81BB8402A3; Thu, 13 Feb 2025 16:04:33 +0100 (CET) Received: from mail-qv1-f97.google.com (mail-qv1-f97.google.com [209.85.219.97]) by mails.dpdk.org (Postfix) with ESMTP id 70D5340264 for ; Thu, 13 Feb 2025 16:04:32 +0100 (CET) Received: by mail-qv1-f97.google.com with SMTP id 6a1803df08f44-6e45dbf15c7so7229546d6.2 for ; Thu, 13 Feb 2025 07:04:32 -0800 (PST) DKIM-Signature: v=1; a=rsa-sha256; c=relaxed/relaxed; d=iol.unh.edu; s=unh-iol; t=1739459072; x=1740063872; darn=dpdk.org; h=references:in-reply-to:cc:to:from:subject:message-id:date:from:to :cc:subject:date:message-id:reply-to; bh=YrbpK0W/BbZqvYXaofK5M3i4/80NYclK9EANYogLcHY=; b=ai1RHy1RmCroKygikMM/MnTQ/h2H70mnhz6Dy2NM01We74D2IVLarGSnHJX4M3Qd9f B/v2HrIyn8/uI9zve1JQMkemQTGnG7TnvmV4Cn4uZSHpom08ignLM/ZmrZQ5K9WbGQoP 9ev8jqIVhTCX1EIxBfNt2P1V1r31fBirh2rww= X-Google-DKIM-Signature: v=1; a=rsa-sha256; c=relaxed/relaxed; d=1e100.net; s=20230601; t=1739459072; x=1740063872; h=references:in-reply-to:cc:to:from:subject:message-id:date :x-gm-message-state:from:to:cc:subject:date:message-id:reply-to; bh=YrbpK0W/BbZqvYXaofK5M3i4/80NYclK9EANYogLcHY=; b=eLd1u16UaGqAkId3b28XYpZedS9IAjJsi9sozTCd5vvAbxlmg4l/Lg1PM89bvSY+2C i+eIPhA8S4gE4lW7gIolk3dLzin1PB6+sgtY4MCxyb1C6pkmIF4qRflkNF6av3WTKSLz fda97fCNy0APOfd7wAjrKAHGVBErCleq3jgo2NUrbBvtsmdk7UZa76YJduSZDrRBMgN4 PD6pm50Pcw53eey2oWLt5F/TiAFnYcXCh/di3zLBD8lVMvZIK8m8ZzWzGlH3SItIE71q xM0x0spq8OTfskJh7gDPW05dVwHZZeHMsjpDiwewZEMa4lMm7Eia1cEc/TYloh+SOJDI FY7g== X-Gm-Message-State: AOJu0Yx2fgfTWO77JRpYzGj2SWHqntzDl2P3f9pFB39EYJFCeO/Cb0z/ HdzVAsIONv7MM3LzBjK+AJ1i9P4SqAvx77HXHdC/QMeaZQnzl7TQuJvDyXPyKBpZ/zLcOarjJSy nmZiHy0iflsaU97FiYcmx++geoapjnUF3Xxhxd5hl X-Gm-Gg: ASbGncvnoDPyNg/zTrqZig5ymQjNTiWh6GgFUxfz1plI84yUOlm+b80xXEMzD9Sz+HR OE80dOygpLzs6B9Vua2GtUa/ShmpVTxln70u/MQM0LV33og+NmixbOvl+J98bliOmbT+vi09qpt 3dUGRRYJbBIxAmzJxUV2WHpoprd8EBCrxLuKrOTtMsRYWNiwwuVpqJEHxcP8k97UAnnKSVR5Kqz q3Stdc7xsOGAz64+m33RIdJvo7LWI0F3/XfpphdJKXLYaTmtiFLiTvOp6v9UN0aXR1synm9t+L0 vuD6u8qw706J0kz5SFFVMPZ6X0CCdQ== X-Google-Smtp-Source: AGHT+IEFKXBH5xTCs4mIonbVqR5SVkKz0wzUIubt1RMjjsBOAKbYjmFkd92cefSusK1E6O57Vull8x67hq49 X-Received: by 2002:a05:6214:cc6:b0:6e1:7b35:a0d5 with SMTP id 6a1803df08f44-6e65bf0cd76mr65749686d6.7.1739459071774; Thu, 13 Feb 2025 07:04:31 -0800 (PST) Received: from postal.iol.unh.edu (postal.iol.unh.edu. [132.177.123.84]) by smtp-relay.gmail.com with ESMTPS id 6a1803df08f44-6e65d735082sm724596d6.20.2025.02.13.07.04.31 (version=TLS1_2 cipher=ECDHE-ECDSA-AES128-GCM-SHA256 bits=128/128); Thu, 13 Feb 2025 07:04:31 -0800 (PST) X-Relaying-Domain: iol.unh.edu Date: Thu, 13 Feb 2025 07:04:31 -0800 (PST) Message-ID: <67ae09ff.0c0a0220.3968a2.3ee8SMTPIN_ADDED_MISSING@mx.google.com> Received: from [172.21.0.6] (unknown [172.18.0.240]) by postal.iol.unh.edu (Postfix) with ESMTP id 6A0C16052471; Thu, 13 Feb 2025 10:04:31 -0500 (EST) Subject: |SUCCESS| pw151445-151446 [PATCH] [v2,2/2] net/intel: add Tx time qu From: dpdklab@iol.unh.edu To: Test Report Cc: dpdk-test-reports@iol.unh.edu In-Reply-To: <20250212214711.1046777-3-soumyadeep.hore@intel.com> References: <20250212214711.1046777-3-soumyadeep.hore@intel.com> Content-Type: text/plain X-BeenThere: test-report@dpdk.org X-Mailman-Version: 2.1.29 Precedence: list List-Id: automatic DPDK test reports List-Unsubscribe: , List-Archive: List-Post: List-Help: List-Subscribe: , Errors-To: test-report-bounces@dpdk.org Test-Label: iol-sample-apps-testing Test-Status: SUCCESS http://dpdk.org/patch/151446 _Testing PASS_ Submitter: Soumyadeep Hore Date: Wednesday, February 12 2025 21:47:11 DPDK git baseline: Repo:dpdk Branch: master CommitID:c2b6f3e7212dc32603304a6bb41b0e8f081761a5 151445-151446 --> testing pass Upstream job id: ACVP-FIPS-testing#8897 Test environment and result as below: +--------------------+----------------------+----------------------+ | Environment | compressdev_zlib_pmd | dpdk_fips_validation | +====================+======================+======================+ | Ubuntu 22.04 (ARM) | PASS | SKIPPED | +--------------------+----------------------+----------------------+ | Ubuntu 22.04 | PASS | SKIPPED | +--------------------+----------------------+----------------------+ | Ubuntu 20.04 | SKIPPED | PASS | +--------------------+----------------------+----------------------+ Ubuntu 22.04 (ARM) Kernel: 5.15.0-97-generic Compiler: gcc gcc (Ubuntu 11.4.0-1ubuntu1~22.04) 11.4.0 Ubuntu 22.04 Kernel: 5.15.0-100-generic Compiler: gcc gcc (Ubuntu 11.4.0-1ubuntu1~22.04) 11.4.0 Ubuntu 20.04 Kernel: Depends on container host Compiler: gcc (Ubuntu 9.4.0-1ubuntu1~20.04.2) 9.4.0 To view detailed results, visit: https://lab.dpdk.org/results/dashboard/patchsets/32570/ UNH-IOL DPDK Community Lab To manage your email subscriptions, visit: https://lab.dpdk.org/results/dashboard/preferences/subscriptions/