From mboxrd@z Thu Jan 1 00:00:00 1970 Return-Path: Received: from mails.dpdk.org (mails.dpdk.org [217.70.189.124]) by inbox.dpdk.org (Postfix) with ESMTP id 63D134621A for ; Thu, 13 Feb 2025 16:30:05 +0100 (CET) Received: from mails.dpdk.org (localhost [127.0.0.1]) by mails.dpdk.org (Postfix) with ESMTP id 3861842EB1; Thu, 13 Feb 2025 16:30:05 +0100 (CET) Received: from mail-pl1-f226.google.com (mail-pl1-f226.google.com [209.85.214.226]) by mails.dpdk.org (Postfix) with ESMTP id 6944E40264 for ; Thu, 13 Feb 2025 16:30:03 +0100 (CET) Received: by mail-pl1-f226.google.com with SMTP id d9443c01a7336-21f92258aa6so27023115ad.3 for ; Thu, 13 Feb 2025 07:30:03 -0800 (PST) DKIM-Signature: v=1; a=rsa-sha256; c=relaxed/relaxed; d=iol.unh.edu; s=unh-iol; t=1739460602; x=1740065402; darn=dpdk.org; h=references:in-reply-to:cc:to:from:subject:message-id:date:from:to :cc:subject:date:message-id:reply-to; bh=I8jo6SRm1/0s47LRIx+5AUC89cY0pvyfvhu6s1twjSk=; b=WTJP1Xou3G5pybSHc7bChmx4Zhx4yYujGjyRcp4acSQKJRgOfh00k0OGmr6IB5cP8R SbDZ/w6BU0Jeq58fXTbzmLJyWWhgYNMD30P/QeyOCKV52VufzCxYLZ9GrmJQJBjWX1JI 657ikbOEsO84+0o8l3VOYHHQBYj/31z97lGbE= X-Google-DKIM-Signature: v=1; a=rsa-sha256; c=relaxed/relaxed; d=1e100.net; s=20230601; t=1739460602; x=1740065402; h=references:in-reply-to:cc:to:from:subject:message-id:date :x-gm-message-state:from:to:cc:subject:date:message-id:reply-to; bh=I8jo6SRm1/0s47LRIx+5AUC89cY0pvyfvhu6s1twjSk=; b=I23kU90ZXdsrnKQ1v38Lwh+FSC6/HxgsmZBRi7ZbdGrUto8FvE7dGicU/NkvCyD9kw CLQeSAzvE0KtUcGwou+VEABYlXp2hAbi0wjZ0tRxRdzeS6RL22fOeTtZA+zyLxmpNLkE HHevKYCy9IDXLuP8updrW90wOUosktghrdyqNdNiKcrAfpnxqARvOegNYv0q1aNlK15I tslT/U58s2tt3/RU48rWq6nioYRxv6M5T/0j4h9gkLx7Qzo7gnE5eDOslgtde75leI+B S2NxqTc2f3sCt60kV+yMOGFVE0hTafks9EoJBS9mlsJSUXahltTAG0b574lZaKtlBXYO +Nrg== X-Gm-Message-State: AOJu0YyzUIPn1srdxHa6Rhfxqjoe5E1iNoVDIGGrqZtG3cuAJK72eQkX Qv42CcRcqV7FdDRruBH5ZLmFZZDMlmPqFH4b8MNAcEtN2MsQhGRHM653UqvK7WB/A2We+dIFguN jHOjRBhAjY57cHD3wgpEKkyH3c4dpSJGrhlgJI3vR0XHNmhchbNpNJT9C X-Gm-Gg: ASbGncsQI7wdsPYsfvKTUc12Ny5x80KC0Jyj42ZB4PjQev2FVdWLt4sr0/HBvRfAt40 FjeXlDNqVzCEe6vDup1d4H+8wCRlYNrV84wbkbZxVJsvVZGt5Gpuz1GVdEyxl2YrWXHzM5opl/7 olwZ8PoIR2dXNqJ1ajUijf/KQ2uS5mUoECd13HpY0XXkXRonZpfc3W2PaoygHPXZSxePEuC7iYR dquxf7aoVh4pQZ8eu7R0UkgKOIF+jdzF0HZcv5X0x1rN1E/19pkW4xKp5pF0I5c1/O4KC5Tvljb mXOV8WjFqk6WQGeoTw2XN+jXefKOSnwp5c8rFTTxVg== X-Google-Smtp-Source: AGHT+IE707tclS56RfULbNjsVxvrgEx3qfk39On6B4hYgOEOvHknI0wRH+2isOzMgpFAQXmmR5Yy00uCDx/k X-Received: by 2002:a17:903:2310:b0:21f:8713:a2fe with SMTP id d9443c01a7336-220bbad6bc8mr129171485ad.14.1739460602192; Thu, 13 Feb 2025 07:30:02 -0800 (PST) Received: from postal.iol.unh.edu (postal.iol.unh.edu. [2606:4100:3880:1234::84]) by smtp-relay.gmail.com with ESMTPS id d9443c01a7336-220d5326343sm832995ad.62.2025.02.13.07.30.02 (version=TLS1_2 cipher=ECDHE-ECDSA-AES128-GCM-SHA256 bits=128/128); Thu, 13 Feb 2025 07:30:02 -0800 (PST) X-Relaying-Domain: iol.unh.edu Date: Thu, 13 Feb 2025 07:30:02 -0800 (PST) Message-ID: <67ae0ffa.170a0220.fda4f.4b03SMTPIN_ADDED_MISSING@mx.google.com> Received: from [172.21.0.5] (unknown [172.18.0.240]) by postal.iol.unh.edu (Postfix) with ESMTP id 8AC4F6052471; Thu, 13 Feb 2025 10:30:01 -0500 (EST) Subject: |SUCCESS| pw151464 [PATCH] config/arm: add Phytium TengYun S5000c From: dpdklab@iol.unh.edu To: Test Report Cc: dpdk-test-reports@iol.unh.edu In-Reply-To: <20250213071459.458-2-luzhipeng@cestc.cn> References: <20250213071459.458-2-luzhipeng@cestc.cn> Content-Type: text/plain X-BeenThere: test-report@dpdk.org X-Mailman-Version: 2.1.29 Precedence: list List-Id: automatic DPDK test reports List-Unsubscribe: , List-Archive: List-Post: List-Help: List-Subscribe: , Errors-To: test-report-bounces@dpdk.org Test-Label: iol-abi-testing Test-Status: SUCCESS http://dpdk.org/patch/151464 _Testing PASS_ Submitter: luzhipeng Date: Thursday, February 13 2025 07:14:59 DPDK git baseline: Repo:dpdk Branch: master CommitID:e5176f23ae8b31437c3e5eb875c81f95bf3a9942 151464 --> testing pass Upstream job id: Generic-DPDK-Compile-ABI#116056 Test environment and result as below: +-------------------+----------+ | Environment | abi_test | +===================+==========+ | CentOS Stream 9 | PASS | +-------------------+----------+ | Debian Bullseye | PASS | +-------------------+----------+ | Debian 12 | PASS | +-------------------+----------+ | CentOS Stream 10 | PASS | +-------------------+----------+ | Fedora 41 | PASS | +-------------------+----------+ | Fedora 41 (Clang) | PASS | +-------------------+----------+ | Fedora 40 (Clang) | PASS | +-------------------+----------+ | Fedora 40 | PASS | +-------------------+----------+ | RHEL8 | PASS | +-------------------+----------+ | RHEL9 | PASS | +-------------------+----------+ | openSUSE Leap 15 | PASS | +-------------------+----------+ | Ubuntu 24.04 | PASS | +-------------------+----------+ | Ubuntu 22.04 | PASS | +-------------------+----------+ CentOS Stream 9 Kernel: Depends on container host Compiler: gcc 11.5.0 20240719 (Red Hat 11.5.0-2) Debian Bullseye Kernel: Depends on container host Compiler: gcc (Debian 10.2.1-6) 10.2.1 20210110 Debian 12 Kernel: Depends on container host Compiler: gcc (Debian 12.2.0-14) 12.2.0 CentOS Stream 10 Kernel: Depends on container host Compiler: gcc 14.2.1 20241104 (Red Hat 14.2.1-6) Fedora 41 Kernel: Depends on container host Compiler: gcc 14.2.1 20240912 (Red Hat 14.2.1-3) Fedora 41 (Clang) Kernel: Depends on container host Compiler: clang 19.1.5 (Fedora 19.1.5-1.fc41) Fedora 40 (Clang) Kernel: Depends on container host Compiler: clang 18.1.8 (Fedora 18.1.8-1.fc40) Fedora 40 Kernel: Depends on container host Compiler: gcc 14.2.1 20240912 (Red Hat 14.2.1-3) RHEL8 Kernel: Depends on container host Compiler: gcc 8.5.0 20210514 (Red Hat 8.5.0-22) RHEL9 Kernel: Depends on container host Compiler: gcc 11.5.0 20240719 (Red Hat 11.5.0-2) openSUSE Leap 15 Kernel: Depends on container host Compiler: gcc (SUSE Linux) 7.5.0 Ubuntu 24.04 Kernel: Depends on container host Compiler: gcc (Ubuntu 13.3.0-6ubuntu2~24.04) 13.3.0 Ubuntu 22.04 Kernel: Depends on container host Compiler: gcc (Ubuntu 11.4.0-1ubuntu1~22.04) 11.4.0 To view detailed results, visit: https://lab.dpdk.org/results/dashboard/patchsets/32573/ UNH-IOL DPDK Community Lab To manage your email subscriptions, visit: https://lab.dpdk.org/results/dashboard/preferences/subscriptions/