From mboxrd@z Thu Jan 1 00:00:00 1970 Return-Path: Received: from mails.dpdk.org (mails.dpdk.org [217.70.189.124]) by inbox.dpdk.org (Postfix) with ESMTP id DDE7C4621A for ; Thu, 13 Feb 2025 16:33:31 +0100 (CET) Received: from mails.dpdk.org (localhost [127.0.0.1]) by mails.dpdk.org (Postfix) with ESMTP id B98E042EB1; Thu, 13 Feb 2025 16:33:31 +0100 (CET) Received: from mail-pl1-f227.google.com (mail-pl1-f227.google.com [209.85.214.227]) by mails.dpdk.org (Postfix) with ESMTP id 3F29840264 for ; Thu, 13 Feb 2025 16:33:30 +0100 (CET) Received: by mail-pl1-f227.google.com with SMTP id d9443c01a7336-21f78b1fb7dso17604905ad.3 for ; Thu, 13 Feb 2025 07:33:30 -0800 (PST) DKIM-Signature: v=1; a=rsa-sha256; c=relaxed/relaxed; d=iol.unh.edu; s=unh-iol; t=1739460809; x=1740065609; darn=dpdk.org; h=references:in-reply-to:cc:to:from:subject:message-id:date:from:to :cc:subject:date:message-id:reply-to; bh=zzK9AGpydzvHAq/PJlqIaVanCTveU1zx4u/ZOC6IY+Y=; b=AHzO0iquJxvtuxmzV2QBhxYJdej74maCSIgPuzPbZ5JXjlMxpxtkLk80elOYifA5hA /xzQAfBJ1JpNEbP2lL3EZTji5sl0pvyOynafM5oYmgazEb7trIszYZ3E6949bz3L8KlA jAYE1WxpHhE0S6G/GrvIqJhfA6C7RzgzpSWdo= X-Google-DKIM-Signature: v=1; a=rsa-sha256; c=relaxed/relaxed; d=1e100.net; s=20230601; t=1739460809; x=1740065609; h=references:in-reply-to:cc:to:from:subject:message-id:date :x-gm-message-state:from:to:cc:subject:date:message-id:reply-to; bh=zzK9AGpydzvHAq/PJlqIaVanCTveU1zx4u/ZOC6IY+Y=; b=OWLE0S5g9CcOYLb8ntv/lC+YOkfxbWDXVqykestiRRq3aeo36pHVaWhIUxiwvoEShr XmDnNmTvT0GlQer3gAurdM02wEsRxjzUSAsSAeY13JKbmHfsdyNRxhc1AcEB4kCzNnLm 3hOEXCCXugCAKuSpCcmXmuLc3vmvYGhvhdo7LjysYkLXCcyIJA4uV1j5O+Nmog7Tx/OH XhvhXp0Rf6M+wivUC61LVCTEMMiqJameA2D3uatkTsMDgY1hdUNoaGniKgZ0iUKoQ8oD FGsZFQtjrd7VUAQllprZl8CGYRmXG5CeVPJlRZfQ2g3kFKagZ93z0ff3d1HojaSraeAq FYQw== X-Gm-Message-State: AOJu0YzlxNLv4OxXHm6wGWhDOiUpChQONcESSBW/b8WbFdA4OYD79fwJ v/rhJYD/rNF/x4kiFQUquzoqpFV6M/CNtSm5smhA0VwK3dnESRKPfqlhEOFiATfZ4aVmH3VAMFJ n59nH+dV50SawHOsto2CLVeDU9W6UhcOQ5N48FsH0 X-Gm-Gg: ASbGnctm4JhLaN+XDMCKrlzqzG6vpbE0U2QVr2Mp6wRkcIqOjFxhgrjTqr1ltlJtEl7 N/QK6gmQmKJ1+mWg36oA3lfSm2vQmcpp3JtOIb0MYGgmVK1PBMQX3xp1tmLv9lAM1RbJ0HYQxaH OlksQfRfOI+2EjTb6OyRUXWN+k7h9LTxZO7e0FL12PHIk17pvNtJ+2ap0kXE1owWQME8UPpgHPG TE75iY8u9l0q11N8mSGHoHMB7bphdtd/OlyQv7bPgCpGMZp5Ah2I29ZAB88fBMel5igKokGGqc+ uZbSwR8unRU9CMXm9ln5WL4UH0jLvg== X-Google-Smtp-Source: AGHT+IFedMF5VCjskBfj6+S/f6GQ79S3FSfO+ZvITCypEijUkYfw+wEsSbE3x57RljrfK+CDgSLmygLve+1g X-Received: by 2002:a05:6a00:2e03:b0:730:75b1:720c with SMTP id d2e1a72fcca58-7322c44525dmr11558925b3a.23.1739460809329; Thu, 13 Feb 2025 07:33:29 -0800 (PST) Received: from postal.iol.unh.edu (postal.iol.unh.edu. [132.177.123.84]) by smtp-relay.gmail.com with ESMTPS id d2e1a72fcca58-73242766801sm95395b3a.23.2025.02.13.07.33.29 (version=TLS1_2 cipher=ECDHE-ECDSA-AES128-GCM-SHA256 bits=128/128); Thu, 13 Feb 2025 07:33:29 -0800 (PST) X-Relaying-Domain: iol.unh.edu Date: Thu, 13 Feb 2025 07:33:29 -0800 (PST) Message-ID: <67ae10c9.050a0220.4c528.52fdSMTPIN_ADDED_MISSING@mx.google.com> Received: from [172.21.0.6] (unknown [172.18.0.240]) by postal.iol.unh.edu (Postfix) with ESMTP id 7422F6052471; Thu, 13 Feb 2025 10:33:28 -0500 (EST) Subject: |SUCCESS| pw151448-151458 [PATCH] [v1,16/16] net/zxdh: provide meter From: dpdklab@iol.unh.edu To: Test Report Cc: dpdk-test-reports@iol.unh.edu In-Reply-To: <20250213064134.88166-17-wang.junlong1@zte.com.cn> References: <20250213064134.88166-17-wang.junlong1@zte.com.cn> Content-Type: text/plain X-BeenThere: test-report@dpdk.org X-Mailman-Version: 2.1.29 Precedence: list List-Id: automatic DPDK test reports List-Unsubscribe: , List-Archive: List-Post: List-Help: List-Subscribe: , Errors-To: test-report-bounces@dpdk.org Test-Label: iol-compile-arm64-testing Test-Status: SUCCESS http://dpdk.org/patch/151458 _Testing PASS_ Submitter: Junlong Wang Date: Thursday, February 13 2025 06:41:32 DPDK git baseline: Repo:dpdk Branch: master CommitID:88e17c88943145bb956b5bf6059a8043dbd33a99 151448-151458 --> testing pass Upstream job id: Generic-DPDK-Compile-Meson#361263 Test environment and result as below: +----------------------------------------+--------------------+ | Environment | dpdk_meson_compile | +========================================+====================+ | RHEL9 (ARM) | PASS | +----------------------------------------+--------------------+ | Ubuntu 20.04 ARM GCC Cross Compile | PASS | +----------------------------------------+--------------------+ | Ubuntu 20.04 ARM SVE | PASS | +----------------------------------------+--------------------+ | Debian 12 with MUSDK | PASS | +----------------------------------------+--------------------+ | Fedora 40 (ARM) | PASS | +----------------------------------------+--------------------+ | Fedora 40 (ARM Clang) | PASS | +----------------------------------------+--------------------+ | Fedora 41 (ARM) | PASS | +----------------------------------------+--------------------+ | Fedora 41 (ARM Clang) | PASS | +----------------------------------------+--------------------+ | Ubuntu 20.04 (ARM) | PASS | +----------------------------------------+--------------------+ | Ubuntu 22.04 (ARM) | PASS | +----------------------------------------+--------------------+ | Ubuntu 24.04 (ARM) | PASS | +----------------------------------------+--------------------+ | CentOS Stream 9 (ARM) | PASS | +----------------------------------------+--------------------+ | CentOS Stream 10 (ARM) | PASS | +----------------------------------------+--------------------+ | Debian 11 (Buster) (ARM) | PASS | +----------------------------------------+--------------------+ | Debian 12 (arm) | PASS | +----------------------------------------+--------------------+ | Ubuntu 20.04 ARM Clang Cross Compile | PASS | +----------------------------------------+--------------------+ | Ubuntu 20.04 aarch32 GCC Cross Compile | PASS | +----------------------------------------+--------------------+ RHEL9 (ARM) Kernel: Depends on container host Compiler: gcc 11.5.0 20240719 (Red Hat 11.5.0-2) Ubuntu 20.04 ARM GCC Cross Compile Kernel: Depends on container host Compiler: aarch64-linux-gnu-gcc (Ubuntu 9.4.0-1ubuntu1~20.04.2) 9.4.0 Ubuntu 20.04 ARM SVE Kernel: Depends on container host Compiler: gcc (Ubuntu 10.5.0-1ubuntu1~20.04) 10.5.0 Debian 12 with MUSDK Kernel: Depends on container host Compiler: gcc (Debian 12.2.0-14) 12.2.0 Fedora 40 (ARM) Kernel: Depends on container host Compiler: gcc 14.2.1 20240912 (Red Hat 14.2.1-3) Fedora 40 (ARM Clang) Kernel: Depends on container host Compiler: clang 18.1.8 (Fedora 18.1.8-1.fc40) Fedora 41 (ARM) Kernel: Depends on container host Compiler: gcc 14.2.1 20240912 (Red Hat 14.2.1-3) Fedora 41 (ARM Clang) Kernel: Depends on container host Compiler: clang 19.1.5 (Fedora 19.1.5-1.fc41) Ubuntu 20.04 (ARM) Kernel: Depends on container host Compiler: gcc (Ubuntu 9.4.0-1ubuntu1~20.04.2) 9.4.0 Ubuntu 22.04 (ARM) Kernel: Depends on container host Compiler: gcc (Ubuntu 11.4.0-1ubuntu1~22.04) 11.4.0 Ubuntu 24.04 (ARM) Kernel: Depends on container host Compiler: gcc (Ubuntu 13.3.0-6ubuntu2~24.04) 13.3.0 CentOS Stream 9 (ARM) Kernel: Depends on container host Compiler: gcc 11.5.0 20240719 (Red Hat 11.5.0-2) CentOS Stream 10 (ARM) Kernel: Depends on container host Compiler: gcc 14.2.1 20241104 (Red Hat 14.2.1-6) Debian 11 (Buster) (ARM) Kernel: Depends on container host Compiler: gcc (Debian 10.2.1-6) 10.2.1 20210110 Debian 12 (arm) Kernel: Depends on container host Compiler: gcc (Debian 12.2.0-14) 12.2.0 Ubuntu 20.04 ARM Clang Cross Compile Kernel: Depends on container host Compiler: clang 10.0.0-4ubuntu1 Ubuntu 20.04 aarch32 GCC Cross Compile Kernel: Depends on container host Compiler: gcc 9.4.0 To view detailed results, visit: https://lab.dpdk.org/results/dashboard/patchsets/32571/ UNH-IOL DPDK Community Lab To manage your email subscriptions, visit: https://lab.dpdk.org/results/dashboard/preferences/subscriptions/