From mboxrd@z Thu Jan 1 00:00:00 1970 Return-Path: Received: from mails.dpdk.org (mails.dpdk.org [217.70.189.124]) by inbox.dpdk.org (Postfix) with ESMTP id 249134621A for ; Thu, 13 Feb 2025 17:06:00 +0100 (CET) Received: from mails.dpdk.org (localhost [127.0.0.1]) by mails.dpdk.org (Postfix) with ESMTP id F02EF42EB1; Thu, 13 Feb 2025 17:05:59 +0100 (CET) Received: from mail-qv1-f97.google.com (mail-qv1-f97.google.com [209.85.219.97]) by mails.dpdk.org (Postfix) with ESMTP id D34A3402A3 for ; Thu, 13 Feb 2025 17:05:58 +0100 (CET) Received: by mail-qv1-f97.google.com with SMTP id 6a1803df08f44-6dd15d03eacso10224906d6.0 for ; Thu, 13 Feb 2025 08:05:58 -0800 (PST) DKIM-Signature: v=1; a=rsa-sha256; c=relaxed/relaxed; d=iol.unh.edu; s=unh-iol; t=1739462758; x=1740067558; darn=dpdk.org; h=references:in-reply-to:cc:to:from:subject:message-id:date:from:to :cc:subject:date:message-id:reply-to; bh=lpDhv1FOrtNFgcrgCtvaUGhhqTewhRWyzleKybiqv08=; b=PJu2Jh64viFg2GhLPln2U0GV7+BTW6IVncja6Ogpjrvcm/YHQL+8QZNWouaPmD+U65 /KvH5GcO+5nlkTnWKqZ7Qep8VNj31OefqFvzFtb5sYBo/syVL2lJErkMzSZInl5dmHmc uFtu/wusk3OPfaBT2KqkoiQv7aRsvAMq3K80E= X-Google-DKIM-Signature: v=1; a=rsa-sha256; c=relaxed/relaxed; d=1e100.net; s=20230601; t=1739462758; x=1740067558; h=references:in-reply-to:cc:to:from:subject:message-id:date :x-gm-message-state:from:to:cc:subject:date:message-id:reply-to; bh=lpDhv1FOrtNFgcrgCtvaUGhhqTewhRWyzleKybiqv08=; b=HPhhw2ZztWgnXjEg/keJ0VojrbLnDmTNNyu6vkAcTwHGZKlJ6XsJbw1ZclZsQazT3G RmNt1zlmJLIfmDcp4vWfN/a9PGMw+7v+GHf7UKelYQdpOiRn11GAhkFJqNr3UZ25xxym 4JVrxVY+rWFn6h9SuZPMYYHNa0Hd7UhHu0WOeDGWbjJTseI7SOU9vFLLIHCXB1+rXrw+ hbFBKlCI/otUSSc2Mjp3qgXK8Uc8jGAkeiBf9KQGD5+HuN6BcTQ1cLqSsb6ZkKiehhGO ra8SdHUvnGTg2KH2BrkXxKfYXyDJ3J1k/eHggHccYIcO0xQ/y04LuQpAepc1oFU+3Ult 6PJQ== X-Gm-Message-State: AOJu0Yz3YCWiAbpUhM2CX4w67fhHv6HDboa67cy9WOXdgR9RWkqyV5QV WHnHJUTR6+tIfl68mjSXv/IAgwqb9KYlT3tJh4Az7YFC+/aiX2Oh7zTYNV5a8GKdoxeHX+N+LZH MU6i4Y5nNPWFmf2JJvv9BSkOuKBKJQNlWpG8586rfFHFdWkkx6FsiAQ+4 X-Gm-Gg: ASbGncsoyik/jAywhLGcRCQrvcxByUKjMXHaNy/Ezx7EMRgyXE1IH8vEcKuFGUPkgZq 3GOp6hycPvBLEwMdDyclj37Flix1FfKarajFNhNeBs25vWZLJs8JoZsBRnvWVjquJoatiqhChGZ H9NDvyXmB5KUsAOsInhQ/ROQDW/95VYQLLb06WiisfvBCyl1i+y6q2pcKwCuX2h/vvs9Ccru4fg lBqplZTcr9BTlDDf3SatuS5eu5rq5jkSHtQna22Din75+4DH7Wu95qhCQWd7mDTpxufGeCN0pHd loEJmWfCc9aN0sogxxAqi5Y5PNW1ibHBu8W4BH8coQ== X-Google-Smtp-Source: AGHT+IF2N5sC+Odww48wfS0/Pbs8ti+cEWCTju8PQeB5QGja/BHW8JhRLoCdMJ1VbLKgj1fozBd3WYq57szt X-Received: by 2002:a05:6214:dab:b0:6e4:4f74:f0ba with SMTP id 6a1803df08f44-6e65c8cb74bmr56355346d6.8.1739462758147; Thu, 13 Feb 2025 08:05:58 -0800 (PST) Received: from postal.iol.unh.edu (postal.iol.unh.edu. [2606:4100:3880:1234::84]) by smtp-relay.gmail.com with ESMTPS id 6a1803df08f44-6e65d7a391esm706306d6.68.2025.02.13.08.05.58 (version=TLS1_2 cipher=ECDHE-ECDSA-AES128-GCM-SHA256 bits=128/128); Thu, 13 Feb 2025 08:05:58 -0800 (PST) X-Relaying-Domain: iol.unh.edu Date: Thu, 13 Feb 2025 08:05:58 -0800 (PST) Message-ID: <67ae1866.d40a0220.230fa.3d21SMTPIN_ADDED_MISSING@mx.google.com> Received: from [172.21.0.6] (unknown [172.18.0.240]) by postal.iol.unh.edu (Postfix) with ESMTP id CAC216052471; Thu, 13 Feb 2025 11:05:57 -0500 (EST) Subject: |SUCCESS| pw151438-151444 [PATCH] [v2,7/7] dts: remove node distinct From: dpdklab@iol.unh.edu To: Test Report Cc: dpdk-test-reports@iol.unh.edu In-Reply-To: <20250212164600.23759-8-luca.vizzarro@arm.com> References: <20250212164600.23759-8-luca.vizzarro@arm.com> Content-Type: text/plain X-BeenThere: test-report@dpdk.org X-Mailman-Version: 2.1.29 Precedence: list List-Id: automatic DPDK test reports List-Unsubscribe: , List-Archive: List-Post: List-Help: List-Subscribe: , Errors-To: test-report-bounces@dpdk.org Test-Label: iol-compile-arm64-testing Test-Status: SUCCESS http://dpdk.org/patch/151444 _Testing PASS_ Submitter: Luca Vizzarro Date: Wednesday, February 12 2025 16:46:00 DPDK git baseline: Repo:dpdk Branch: master CommitID:046cca99c3fd03bfb95d3e27a56aab40c2c8f45a 151438-151444 --> testing pass Upstream job id: Generic-DPDK-Compile-Meson#361233 Test environment and result as below: +----------------------------------------+--------------------+ | Environment | dpdk_meson_compile | +========================================+====================+ | RHEL9 (ARM) | PASS | +----------------------------------------+--------------------+ | Ubuntu 20.04 ARM GCC Cross Compile | PASS | +----------------------------------------+--------------------+ | Ubuntu 20.04 ARM SVE | PASS | +----------------------------------------+--------------------+ | Debian 12 with MUSDK | PASS | +----------------------------------------+--------------------+ | Fedora 40 (ARM) | PASS | +----------------------------------------+--------------------+ | Fedora 40 (ARM Clang) | PASS | +----------------------------------------+--------------------+ | Fedora 41 (ARM) | PASS | +----------------------------------------+--------------------+ | Fedora 41 (ARM Clang) | PASS | +----------------------------------------+--------------------+ | Ubuntu 20.04 (ARM) | PASS | +----------------------------------------+--------------------+ | Ubuntu 22.04 (ARM) | PASS | +----------------------------------------+--------------------+ | Ubuntu 24.04 (ARM) | PASS | +----------------------------------------+--------------------+ | CentOS Stream 9 (ARM) | PASS | +----------------------------------------+--------------------+ | CentOS Stream 10 (ARM) | PASS | +----------------------------------------+--------------------+ | Debian 11 (Buster) (ARM) | PASS | +----------------------------------------+--------------------+ | Debian 12 (arm) | PASS | +----------------------------------------+--------------------+ | Ubuntu 20.04 ARM Clang Cross Compile | PASS | +----------------------------------------+--------------------+ | Ubuntu 20.04 aarch32 GCC Cross Compile | PASS | +----------------------------------------+--------------------+ RHEL9 (ARM) Kernel: Depends on container host Compiler: gcc 11.5.0 20240719 (Red Hat 11.5.0-2) Ubuntu 20.04 ARM GCC Cross Compile Kernel: Depends on container host Compiler: aarch64-linux-gnu-gcc (Ubuntu 9.4.0-1ubuntu1~20.04.2) 9.4.0 Ubuntu 20.04 ARM SVE Kernel: Depends on container host Compiler: gcc (Ubuntu 10.5.0-1ubuntu1~20.04) 10.5.0 Debian 12 with MUSDK Kernel: Depends on container host Compiler: gcc (Debian 12.2.0-14) 12.2.0 Fedora 40 (ARM) Kernel: Depends on container host Compiler: gcc 14.2.1 20240912 (Red Hat 14.2.1-3) Fedora 40 (ARM Clang) Kernel: Depends on container host Compiler: clang 18.1.8 (Fedora 18.1.8-1.fc40) Fedora 41 (ARM) Kernel: Depends on container host Compiler: gcc 14.2.1 20240912 (Red Hat 14.2.1-3) Fedora 41 (ARM Clang) Kernel: Depends on container host Compiler: clang 19.1.5 (Fedora 19.1.5-1.fc41) Ubuntu 20.04 (ARM) Kernel: Depends on container host Compiler: gcc (Ubuntu 9.4.0-1ubuntu1~20.04.2) 9.4.0 Ubuntu 22.04 (ARM) Kernel: Depends on container host Compiler: gcc (Ubuntu 11.4.0-1ubuntu1~22.04) 11.4.0 Ubuntu 24.04 (ARM) Kernel: Depends on container host Compiler: gcc (Ubuntu 13.3.0-6ubuntu2~24.04) 13.3.0 CentOS Stream 9 (ARM) Kernel: Depends on container host Compiler: gcc 11.5.0 20240719 (Red Hat 11.5.0-2) CentOS Stream 10 (ARM) Kernel: Depends on container host Compiler: gcc 14.2.1 20241104 (Red Hat 14.2.1-6) Debian 11 (Buster) (ARM) Kernel: Depends on container host Compiler: gcc (Debian 10.2.1-6) 10.2.1 20210110 Debian 12 (arm) Kernel: Depends on container host Compiler: gcc (Debian 12.2.0-14) 12.2.0 Ubuntu 20.04 ARM Clang Cross Compile Kernel: Depends on container host Compiler: clang 10.0.0-4ubuntu1 Ubuntu 20.04 aarch32 GCC Cross Compile Kernel: Depends on container host Compiler: gcc 9.4.0 To view detailed results, visit: https://lab.dpdk.org/results/dashboard/patchsets/32569/ UNH-IOL DPDK Community Lab To manage your email subscriptions, visit: https://lab.dpdk.org/results/dashboard/preferences/subscriptions/