From: dpdklab@iol.unh.edu
To: Test Report <test-report@dpdk.org>
Cc: dpdk-test-reports@iol.unh.edu
Subject: |SUCCESS| pw151464 [PATCH] config/arm: add Phytium TengYun S5000c
Date: Thu, 13 Feb 2025 08:11:46 -0800 (PST) [thread overview]
Message-ID: <67ae19c2.050a0220.1356e1.52ebSMTPIN_ADDED_MISSING@mx.google.com> (raw)
In-Reply-To: <20250213071459.458-2-luzhipeng@cestc.cn>
Test-Label: iol-unit-amd64-testing
Test-Status: SUCCESS
http://dpdk.org/patch/151464
_Testing PASS_
Submitter: luzhipeng <luzhipeng@cestc.cn>
Date: Thursday, February 13 2025 07:14:59
DPDK git baseline: Repo:dpdk
Branch: master
CommitID:e5176f23ae8b31437c3e5eb875c81f95bf3a9942
151464 --> testing pass
Upstream job id: Generic-Unit-Test-DPDK#314694
Test environment and result as below:
+-------------------+----------------+
| Environment | dpdk_unit_test |
+===================+================+
| CentOS Stream 9 | PASS |
+-------------------+----------------+
| Debian 12 | PASS |
+-------------------+----------------+
| Fedora 40 | PASS |
+-------------------+----------------+
| CentOS Stream 10 | PASS |
+-------------------+----------------+
| Debian Bullseye | PASS |
+-------------------+----------------+
| RHEL8 | PASS |
+-------------------+----------------+
| Fedora 41 | PASS |
+-------------------+----------------+
| Fedora 40 (Clang) | PASS |
+-------------------+----------------+
| RHEL9 | PASS |
+-------------------+----------------+
| Fedora 41 (Clang) | PASS |
+-------------------+----------------+
| Ubuntu 20.04 | PASS |
+-------------------+----------------+
| Ubuntu 24.04 | PASS |
+-------------------+----------------+
| Ubuntu 22.04 | PASS |
+-------------------+----------------+
CentOS Stream 9
Kernel: Depends on container host
Compiler: gcc 11.5.0 20240719 (Red Hat 11.5.0-2)
Debian 12
Kernel: Depends on container host
Compiler: gcc (Debian 12.2.0-14) 12.2.0
Fedora 40
Kernel: Depends on container host
Compiler: gcc 14.2.1 20240912 (Red Hat 14.2.1-3)
CentOS Stream 10
Kernel: Depends on container host
Compiler: gcc 14.2.1 20241104 (Red Hat 14.2.1-6)
Debian Bullseye
Kernel: Depends on container host
Compiler: gcc (Debian 10.2.1-6) 10.2.1 20210110
RHEL8
Kernel: Depends on container host
Compiler: gcc 8.5.0 20210514 (Red Hat 8.5.0-22)
Fedora 41
Kernel: Depends on container host
Compiler: gcc 14.2.1 20240912 (Red Hat 14.2.1-3)
Fedora 40 (Clang)
Kernel: Depends on container host
Compiler: clang 18.1.8 (Fedora 18.1.8-1.fc40)
RHEL9
Kernel: Depends on container host
Compiler: gcc 11.5.0 20240719 (Red Hat 11.5.0-2)
Fedora 41 (Clang)
Kernel: Depends on container host
Compiler: clang 19.1.5 (Fedora 19.1.5-1.fc41)
Ubuntu 20.04
Kernel: Depends on container host
Compiler: gcc (Ubuntu 9.4.0-1ubuntu1~20.04.2) 9.4.0
Ubuntu 24.04
Kernel: Depends on container host
Compiler: gcc (Ubuntu 13.3.0-6ubuntu2~24.04) 13.3.0
Ubuntu 22.04
Kernel: Depends on container host
Compiler: gcc (Ubuntu 11.4.0-1ubuntu1~22.04) 11.4.0
To view detailed results, visit:
https://lab.dpdk.org/results/dashboard/patchsets/32573/
UNH-IOL DPDK Community Lab
To manage your email subscriptions, visit:
https://lab.dpdk.org/results/dashboard/preferences/subscriptions/
next prev parent reply other threads:[~2025-02-13 16:11 UTC|newest]
Thread overview: 23+ messages / expand[flat|nested] mbox.gz Atom feed top
[not found] <20250213071459.458-2-luzhipeng@cestc.cn>
2025-02-13 6:59 ` qemudev
2025-02-13 7:03 ` qemudev
2025-02-13 7:32 ` checkpatch
2025-02-13 8:45 ` 0-day Robot
2025-02-13 12:39 ` dpdklab
2025-02-13 12:41 ` dpdklab
2025-02-13 12:46 ` dpdklab
2025-02-13 12:47 ` dpdklab
2025-02-13 12:53 ` dpdklab
2025-02-13 12:57 ` dpdklab
2025-02-13 13:20 ` dpdklab
2025-02-13 14:12 ` |PENDING| " dpdklab
2025-02-13 14:27 ` |SUCCESS| " dpdklab
2025-02-13 14:30 ` dpdklab
2025-02-13 14:31 ` dpdklab
2025-02-13 14:42 ` dpdklab
2025-02-13 15:04 ` dpdklab
2025-02-13 15:14 ` |PENDING| " dpdklab
2025-02-13 15:16 ` dpdklab
2025-02-13 15:30 ` |SUCCESS| " dpdklab
2025-02-13 15:30 ` |PENDING| " dpdklab
2025-02-13 16:11 ` dpdklab [this message]
2025-02-13 16:13 ` dpdklab
Reply instructions:
You may reply publicly to this message via plain-text email
using any one of the following methods:
* Save the following mbox file, import it into your mail client,
and reply-to-all from there: mbox
Avoid top-posting and favor interleaved quoting:
https://en.wikipedia.org/wiki/Posting_style#Interleaved_style
* Reply using the --to, --cc, and --in-reply-to
switches of git-send-email(1):
git send-email \
--in-reply-to=67ae19c2.050a0220.1356e1.52ebSMTPIN_ADDED_MISSING@mx.google.com \
--to=dpdklab@iol.unh.edu \
--cc=dpdk-test-reports@iol.unh.edu \
--cc=test-report@dpdk.org \
/path/to/YOUR_REPLY
https://kernel.org/pub/software/scm/git/docs/git-send-email.html
* If your mail client supports setting the In-Reply-To header
via mailto: links, try the mailto: link
Be sure your reply has a Subject: header at the top and a blank line
before the message body.
This is a public inbox, see mirroring instructions
for how to clone and mirror all data and code used for this inbox;
as well as URLs for NNTP newsgroup(s).