From mboxrd@z Thu Jan 1 00:00:00 1970 Return-Path: Received: from mails.dpdk.org (mails.dpdk.org [217.70.189.124]) by inbox.dpdk.org (Postfix) with ESMTP id 9BDD84621A for ; Thu, 13 Feb 2025 17:11:48 +0100 (CET) Received: from mails.dpdk.org (localhost [127.0.0.1]) by mails.dpdk.org (Postfix) with ESMTP id 79A5442EB1; Thu, 13 Feb 2025 17:11:48 +0100 (CET) Received: from mail-io1-f98.google.com (mail-io1-f98.google.com [209.85.166.98]) by mails.dpdk.org (Postfix) with ESMTP id A368C402A3 for ; Thu, 13 Feb 2025 17:11:47 +0100 (CET) Received: by mail-io1-f98.google.com with SMTP id ca18e2360f4ac-854a68f5a9cso84073839f.0 for ; Thu, 13 Feb 2025 08:11:47 -0800 (PST) DKIM-Signature: v=1; a=rsa-sha256; c=relaxed/relaxed; d=iol.unh.edu; s=unh-iol; t=1739463107; x=1740067907; darn=dpdk.org; h=references:in-reply-to:cc:to:from:subject:message-id:date:from:to :cc:subject:date:message-id:reply-to; bh=+kQpONDqAyZwA3CJOl7tfdQnCNI9+sEKiJPVX9xQwFQ=; b=Pc5Yzfhngl7l0Ltx2gApWqEur6O5I/dOx4C6F4ZYmt8cf65zqos7PS/GE5yMGT6UAo Kmhs3GpHnIollPRXndquPRXzFfPW91BLd1BOk/PBUStnzb79ADPj/5Su6MI+UzVHllOa asPKzP1DVF4iFQoFm7pvzg7LYk3NNTYeeJreY= X-Google-DKIM-Signature: v=1; a=rsa-sha256; c=relaxed/relaxed; d=1e100.net; s=20230601; t=1739463107; x=1740067907; h=references:in-reply-to:cc:to:from:subject:message-id:date :x-gm-message-state:from:to:cc:subject:date:message-id:reply-to; bh=+kQpONDqAyZwA3CJOl7tfdQnCNI9+sEKiJPVX9xQwFQ=; b=BOM5BoCp3rcw2CUNk3EgJFQ+5tkEgx0CA4pbuwIrJA62tFrU4ihy31XcjKR0Gqoqjc 5icS3WyRdMV8e3eJB18A2DFVWKKwPJB/z+9rIX/eX0mFaD/b/Id6LJtSoRyyi9cJhRZ1 IgsLsGOAADzX0uRdi4TySuBEWgFgcdaIyObq0fQ4sFeCsZeVPZlljGuuT4rrgYkKSPXT z+qCKHCj0d6IRze6Q85pCMU0vhlxTEk561jO2kzdFYESPh55r04c2UOqRlLQCIZNNsLE dqYHJ6zYkGsM1ZaHu6psJinta5w89oksc8FVBrlHzC20u/epklXYbtAe0P/XEcAa0JR8 1GPg== X-Gm-Message-State: AOJu0YyUl3eVgd0/T7kYnHsqno6ad/C3iA2StOAySRkMSIvopJPYgLMr jPtvWJ0pIjWdHNcE5SzBqk0/jW7N0BbWBzd0szYkYJCcz2M0sb5Y4qHsUpsun6fNoYdlBgdNeZZ JhUOLZNa7ton5oHFDt5lz9uFx4M3ghXbR3H5ofzy/ X-Gm-Gg: ASbGncsCpvhkM218/NhuNq6pY+hlk3qg1EbCT+Es6tkeQBWvhhM1GqW7/tS6DphYvJy q210ps3u0w9EYv71RFlBp2Ahdn+XrGdocT3qHbT7+RcZzqR+0w0agonkfVPVK2YGVWkE9JqrgfT 3uz5oNCuGe4DQ84ngSc7nzgihN9j/Bnc0s6SEPDtQ/pvmxm1ZUVTiLj4aV/t248X/Dlh95Lfp6/ /WTkDrjoCBxwuUz+5zMv6gpfWFGYYs6lMYzepgn+eRH1G8VmTWONScM23QevSXxBXVurim96ZBG vaJcjolcGOXI7lKOFlCcTThti31lUg== X-Google-Smtp-Source: AGHT+IEPnylAjsA/S+X3fWjPiVtTprBh/l7L4JK/7qC42HTgwRmIe8ZZs+F679D0Jpcn0SDsmKMmrObRko+a X-Received: by 2002:a5e:8d02:0:b0:855:562a:71e0 with SMTP id ca18e2360f4ac-855562a784dmr532170939f.2.1739463106891; Thu, 13 Feb 2025 08:11:46 -0800 (PST) Received: from postal.iol.unh.edu (postal.iol.unh.edu. [132.177.123.84]) by smtp-relay.gmail.com with ESMTPS id 8926c6da1cb9f-4ed281494absm93912173.8.2025.02.13.08.11.46 (version=TLS1_2 cipher=ECDHE-ECDSA-AES128-GCM-SHA256 bits=128/128); Thu, 13 Feb 2025 08:11:46 -0800 (PST) X-Relaying-Domain: iol.unh.edu Date: Thu, 13 Feb 2025 08:11:46 -0800 (PST) Message-ID: <67ae19c2.050a0220.1356e1.52ebSMTPIN_ADDED_MISSING@mx.google.com> Received: from [172.21.0.6] (unknown [172.18.0.240]) by postal.iol.unh.edu (Postfix) with ESMTP id 7BC246052471; Thu, 13 Feb 2025 11:11:46 -0500 (EST) Subject: |SUCCESS| pw151464 [PATCH] config/arm: add Phytium TengYun S5000c From: dpdklab@iol.unh.edu To: Test Report Cc: dpdk-test-reports@iol.unh.edu In-Reply-To: <20250213071459.458-2-luzhipeng@cestc.cn> References: <20250213071459.458-2-luzhipeng@cestc.cn> Content-Type: text/plain X-BeenThere: test-report@dpdk.org X-Mailman-Version: 2.1.29 Precedence: list List-Id: automatic DPDK test reports List-Unsubscribe: , List-Archive: List-Post: List-Help: List-Subscribe: , Errors-To: test-report-bounces@dpdk.org Test-Label: iol-unit-amd64-testing Test-Status: SUCCESS http://dpdk.org/patch/151464 _Testing PASS_ Submitter: luzhipeng Date: Thursday, February 13 2025 07:14:59 DPDK git baseline: Repo:dpdk Branch: master CommitID:e5176f23ae8b31437c3e5eb875c81f95bf3a9942 151464 --> testing pass Upstream job id: Generic-Unit-Test-DPDK#314694 Test environment and result as below: +-------------------+----------------+ | Environment | dpdk_unit_test | +===================+================+ | CentOS Stream 9 | PASS | +-------------------+----------------+ | Debian 12 | PASS | +-------------------+----------------+ | Fedora 40 | PASS | +-------------------+----------------+ | CentOS Stream 10 | PASS | +-------------------+----------------+ | Debian Bullseye | PASS | +-------------------+----------------+ | RHEL8 | PASS | +-------------------+----------------+ | Fedora 41 | PASS | +-------------------+----------------+ | Fedora 40 (Clang) | PASS | +-------------------+----------------+ | RHEL9 | PASS | +-------------------+----------------+ | Fedora 41 (Clang) | PASS | +-------------------+----------------+ | Ubuntu 20.04 | PASS | +-------------------+----------------+ | Ubuntu 24.04 | PASS | +-------------------+----------------+ | Ubuntu 22.04 | PASS | +-------------------+----------------+ CentOS Stream 9 Kernel: Depends on container host Compiler: gcc 11.5.0 20240719 (Red Hat 11.5.0-2) Debian 12 Kernel: Depends on container host Compiler: gcc (Debian 12.2.0-14) 12.2.0 Fedora 40 Kernel: Depends on container host Compiler: gcc 14.2.1 20240912 (Red Hat 14.2.1-3) CentOS Stream 10 Kernel: Depends on container host Compiler: gcc 14.2.1 20241104 (Red Hat 14.2.1-6) Debian Bullseye Kernel: Depends on container host Compiler: gcc (Debian 10.2.1-6) 10.2.1 20210110 RHEL8 Kernel: Depends on container host Compiler: gcc 8.5.0 20210514 (Red Hat 8.5.0-22) Fedora 41 Kernel: Depends on container host Compiler: gcc 14.2.1 20240912 (Red Hat 14.2.1-3) Fedora 40 (Clang) Kernel: Depends on container host Compiler: clang 18.1.8 (Fedora 18.1.8-1.fc40) RHEL9 Kernel: Depends on container host Compiler: gcc 11.5.0 20240719 (Red Hat 11.5.0-2) Fedora 41 (Clang) Kernel: Depends on container host Compiler: clang 19.1.5 (Fedora 19.1.5-1.fc41) Ubuntu 20.04 Kernel: Depends on container host Compiler: gcc (Ubuntu 9.4.0-1ubuntu1~20.04.2) 9.4.0 Ubuntu 24.04 Kernel: Depends on container host Compiler: gcc (Ubuntu 13.3.0-6ubuntu2~24.04) 13.3.0 Ubuntu 22.04 Kernel: Depends on container host Compiler: gcc (Ubuntu 11.4.0-1ubuntu1~22.04) 11.4.0 To view detailed results, visit: https://lab.dpdk.org/results/dashboard/patchsets/32573/ UNH-IOL DPDK Community Lab To manage your email subscriptions, visit: https://lab.dpdk.org/results/dashboard/preferences/subscriptions/