From mboxrd@z Thu Jan 1 00:00:00 1970 Return-Path: Received: from mails.dpdk.org (mails.dpdk.org [217.70.189.124]) by inbox.dpdk.org (Postfix) with ESMTP id 98B564621A for ; Thu, 13 Feb 2025 17:11:51 +0100 (CET) Received: from mails.dpdk.org (localhost [127.0.0.1]) by mails.dpdk.org (Postfix) with ESMTP id 947BB42EB1; Thu, 13 Feb 2025 17:11:51 +0100 (CET) Received: from mail-oa1-f98.google.com (mail-oa1-f98.google.com [209.85.160.98]) by mails.dpdk.org (Postfix) with ESMTP id 65EE0402A3 for ; Thu, 13 Feb 2025 17:11:50 +0100 (CET) Received: by mail-oa1-f98.google.com with SMTP id 586e51a60fabf-2a88c7fabdeso628913fac.1 for ; Thu, 13 Feb 2025 08:11:50 -0800 (PST) DKIM-Signature: v=1; a=rsa-sha256; c=relaxed/relaxed; d=iol.unh.edu; s=unh-iol; t=1739463109; x=1740067909; darn=dpdk.org; h=references:in-reply-to:cc:to:from:subject:message-id:date:from:to :cc:subject:date:message-id:reply-to; bh=ur9+YMDPB6jv4FawM878/cT16NgfHJ5cprnXS4b5NGM=; b=fY5tk9Dpo5MJ4pLxvh8T0hx8XX9FFCvv6R2pbqLi9e6nErfVi3BBxsETA7+aLNOAXd fyG3JKamiDZ0PoMObkjLuMLAJrOgqE9f6UAouQxZUyEsNHHO9hMs++VZPOBCsRpSQxsN PgfjUAxHwlJxsUD7IK/6KllLOf1YGDNrHapks= X-Google-DKIM-Signature: v=1; a=rsa-sha256; c=relaxed/relaxed; d=1e100.net; s=20230601; t=1739463109; x=1740067909; h=references:in-reply-to:cc:to:from:subject:message-id:date :x-gm-message-state:from:to:cc:subject:date:message-id:reply-to; bh=ur9+YMDPB6jv4FawM878/cT16NgfHJ5cprnXS4b5NGM=; b=fI+GxHNIwmgKWGQd3H3xfKpgewBxNawmZMAyMT9CC4VxMNe/oOkfPwv82cFfJF/8q4 2evHJxlhVkgA735VzRpajLgZBp6wtXgecz09ZdI5kWkEHHXyc53OJwAGm+NNQLUkDLLv jhFn5SG99uPQLngo156I1GjauYd+NiRiHB+DTvOky6/eB20G4+GRpJdhLKWJqPYJzGba 0Ava2rdtIFirXYAapjcTT/3YVqce3VrkM2XJqRVofdADyXbnjOiZUa0Sw61M/6c+i9Dq 6S97yxCGgLZooaaHLRzDeGAIlwjDzwINihKpARWrQAscszUjtAg0KJcySHgoSAD2jIFK Q1Sg== X-Gm-Message-State: AOJu0YxPs/Ydi8De/pF0S0xp1uWI6mQOHMXssuoHyXTFqRggXKASLTe4 dIurtP5mq70jMJLti6iCGspTTJTKhumAOfK9Kal66jSMc2a/Q4qhGwqvRlcwUcS/BvwQDk+EYgX Ea0GDRDAyPyk2YF2UHUVSBjVglemgiy5nR4INnVZT X-Gm-Gg: ASbGncvTUjM6IlolIg0mlRWQm+1JHyWUmPBVq197bbLNS+N6y2jl+xDavWDotPVrM+t L9H5sBCZ/JuQDVyVtJBfal80QJdMMD44Gz7MS6woEIdgzolbyGGHqwBByvUPgh2R7hPOh9AVW2F PEZtYHzo/cX9gXnYr8Ob2/a73xbKXjXlHPtOmF8sMXljV6BzToF01V7IkfNqyK0fNRIRqSSDlmF f8opRyJt8GuLGGTRao2H1WUCOPdn8EcncpoZc/B4CJXFjT/2GR8nLFEY1sN6gyKHcnP8wq6X29n EJ5wcg8Hbtpk8x4wILTAILsZarP7mw== X-Google-Smtp-Source: AGHT+IHwDviIrKvCNmh+Me7utuSSbSz+Oci+T9Fju+JBjL4SFCHTb2y0YEks0QniM+TOiAEwRM0PWOwDGgDQ X-Received: by 2002:a05:6871:8903:b0:2bc:70af:1d62 with SMTP id 586e51a60fabf-2bc70af2454mr420293fac.26.1739463109535; Thu, 13 Feb 2025 08:11:49 -0800 (PST) Received: from postal.iol.unh.edu (postal.iol.unh.edu. [132.177.123.84]) by smtp-relay.gmail.com with ESMTPS id 586e51a60fabf-2b95a6bf7cfsm77992fac.31.2025.02.13.08.11.49 (version=TLS1_2 cipher=ECDHE-ECDSA-AES128-GCM-SHA256 bits=128/128); Thu, 13 Feb 2025 08:11:49 -0800 (PST) X-Relaying-Domain: iol.unh.edu Date: Thu, 13 Feb 2025 08:11:49 -0800 (PST) Message-ID: <67ae19c5.050a0220.263b58.42ddSMTPIN_ADDED_MISSING@mx.google.com> Received: from [172.21.0.7] (unknown [172.18.0.240]) by postal.iol.unh.edu (Postfix) with ESMTP id 03FAC6052471; Thu, 13 Feb 2025 11:11:49 -0500 (EST) Subject: |SUCCESS| pw151465 [PATCH] ci: build with MSVC in GHA From: dpdklab@iol.unh.edu To: Test Report Cc: dpdk-test-reports@iol.unh.edu In-Reply-To: <20250213075010.2670431-1-david.marchand@redhat.com> References: <20250213075010.2670431-1-david.marchand@redhat.com> Content-Type: text/plain X-BeenThere: test-report@dpdk.org X-Mailman-Version: 2.1.29 Precedence: list List-Id: automatic DPDK test reports List-Unsubscribe: , List-Archive: List-Post: List-Help: List-Subscribe: , Errors-To: test-report-bounces@dpdk.org Test-Label: iol-unit-arm64-testing Test-Status: SUCCESS http://dpdk.org/patch/151465 _Testing PASS_ Submitter: David Marchand Date: Thursday, February 13 2025 07:50:10 DPDK git baseline: Repo:dpdk Branch: master CommitID:e5176f23ae8b31437c3e5eb875c81f95bf3a9942 151465 --> testing pass Upstream job id: Generic-Unit-Test-DPDK#314677 Test environment and result as below: +-----------------------------+----------------+---------------------------+--------------+------------------------------+ | Environment | dpdk_unit_test | cryptodev_sw_zuc_autotest | lpm_autotest | cryptodev_sw_snow3g_autotest | +=============================+================+===========================+==============+==============================+ | Debian 11 (Buster) (ARM) | PASS | SKIPPED | SKIPPED | SKIPPED | +-----------------------------+----------------+---------------------------+--------------+------------------------------+ | CentOS Stream 10 (ARM) | PASS | SKIPPED | SKIPPED | SKIPPED | +-----------------------------+----------------+---------------------------+--------------+------------------------------+ | CentOS Stream 9 (ARM) | PASS | SKIPPED | SKIPPED | SKIPPED | +-----------------------------+----------------+---------------------------+--------------+------------------------------+ | Fedora 40 (ARM) | PASS | SKIPPED | SKIPPED | SKIPPED | +-----------------------------+----------------+---------------------------+--------------+------------------------------+ | Fedora 41 (ARM) | PASS | SKIPPED | SKIPPED | SKIPPED | +-----------------------------+----------------+---------------------------+--------------+------------------------------+ | Fedora 40 (ARM Clang) | PASS | SKIPPED | SKIPPED | SKIPPED | +-----------------------------+----------------+---------------------------+--------------+------------------------------+ | Fedora 41 (ARM Clang) | PASS | SKIPPED | SKIPPED | SKIPPED | +-----------------------------+----------------+---------------------------+--------------+------------------------------+ | Debian 12 (arm) | PASS | PASS | SKIPPED | PASS | +-----------------------------+----------------+---------------------------+--------------+------------------------------+ | 32-bit Ubuntu 22.04.4 (ARM) | PASS | SKIPPED | SKIPPED | SKIPPED | +-----------------------------+----------------+---------------------------+--------------+------------------------------+ | Ubuntu 20.04 (ARM) | PASS | SKIPPED | SKIPPED | SKIPPED | +-----------------------------+----------------+---------------------------+--------------+------------------------------+ | RHEL9 (ARM) | PASS | SKIPPED | SKIPPED | SKIPPED | +-----------------------------+----------------+---------------------------+--------------+------------------------------+ | Ubuntu 22.04 (ARM) | PASS | SKIPPED | SKIPPED | SKIPPED | +-----------------------------+----------------+---------------------------+--------------+------------------------------+ | Ubuntu 24.04 (ARM) | PASS | SKIPPED | SKIPPED | SKIPPED | +-----------------------------+----------------+---------------------------+--------------+------------------------------+ | Ubuntu 20.04 ARM SVE | SKIPPED | SKIPPED | PASS | SKIPPED | +-----------------------------+----------------+---------------------------+--------------+------------------------------+ Debian 11 (Buster) (ARM) Kernel: Depends on container host Compiler: gcc (Debian 10.2.1-6) 10.2.1 20210110 CentOS Stream 10 (ARM) Kernel: Depends on container host Compiler: gcc 14.2.1 20241104 (Red Hat 14.2.1-6) CentOS Stream 9 (ARM) Kernel: Depends on container host Compiler: gcc 11.5.0 20240719 (Red Hat 11.5.0-2) Fedora 40 (ARM) Kernel: Depends on container host Compiler: gcc 14.2.1 20240912 (Red Hat 14.2.1-3) Fedora 41 (ARM) Kernel: Depends on container host Compiler: gcc 14.2.1 20240912 (Red Hat 14.2.1-3) Fedora 40 (ARM Clang) Kernel: Depends on container host Compiler: clang 18.1.8 (Fedora 18.1.8-1.fc40) Fedora 41 (ARM Clang) Kernel: Depends on container host Compiler: clang 19.1.5 (Fedora 19.1.5-1.fc41) Debian 12 (arm) Kernel: Depends on container host Compiler: gcc (Debian 12.2.0-14) 12.2.0 32-bit Ubuntu 22.04.4 (ARM) Kernel: 5.15.83+ aarch64 Compiler: gcc (Ubuntu 11.4.0-1ubuntu1~22.04) 11.4.0 Ubuntu 20.04 (ARM) Kernel: Depends on container host Compiler: gcc (Ubuntu 9.4.0-1ubuntu1~20.04.2) 9.4.0 RHEL9 (ARM) Kernel: Depends on container host Compiler: gcc 11.5.0 20240719 (Red Hat 11.5.0-2) Ubuntu 22.04 (ARM) Kernel: Depends on container host Compiler: gcc (Ubuntu 11.4.0-1ubuntu1~22.04) 11.4.0 Ubuntu 24.04 (ARM) Kernel: Depends on container host Compiler: gcc (Ubuntu 13.3.0-6ubuntu2~24.04) 13.3.0 Ubuntu 20.04 ARM SVE Kernel: Depends on container host Compiler: gcc (Ubuntu 10.5.0-1ubuntu1~20.04) 10.5.0 To view detailed results, visit: https://lab.dpdk.org/results/dashboard/patchsets/32574/ UNH-IOL DPDK Community Lab To manage your email subscriptions, visit: https://lab.dpdk.org/results/dashboard/preferences/subscriptions/