From mboxrd@z Thu Jan 1 00:00:00 1970 Return-Path: Received: from mails.dpdk.org (mails.dpdk.org [217.70.189.124]) by inbox.dpdk.org (Postfix) with ESMTP id BE47A4621C for ; Thu, 13 Feb 2025 17:53:15 +0100 (CET) Received: from mails.dpdk.org (localhost [127.0.0.1]) by mails.dpdk.org (Postfix) with ESMTP id B9CA842EB1; Thu, 13 Feb 2025 17:53:15 +0100 (CET) Received: from mail-il1-f228.google.com (mail-il1-f228.google.com [209.85.166.228]) by mails.dpdk.org (Postfix) with ESMTP id 5BF91402A3 for ; Thu, 13 Feb 2025 17:53:14 +0100 (CET) Received: by mail-il1-f228.google.com with SMTP id e9e14a558f8ab-3d03d2bd7d2so8861605ab.0 for ; Thu, 13 Feb 2025 08:53:14 -0800 (PST) DKIM-Signature: v=1; a=rsa-sha256; c=relaxed/relaxed; d=iol.unh.edu; s=unh-iol; t=1739465593; x=1740070393; darn=dpdk.org; h=references:in-reply-to:cc:to:from:subject:message-id:date:from:to :cc:subject:date:message-id:reply-to; bh=IagK1SvQPrMZls7MU8DBudzliyj52i3x44y+yI/Ma6w=; b=FodWlryoaApH5FWH9TVsR+zKHJii+KrjSj0fiLcPEQMWzjjZDvzrvxkVlo3+BCJxYA UW+Sfp+iXB1LcCjUTeTQ1TZbn7pE9ruIbixksHTeXWsXhgq27W7qeLjyQU6q+In0UCcb IjCV6Q7BKLOPwowxfgjUOU1Xw379tyRh+dagQ= X-Google-DKIM-Signature: v=1; a=rsa-sha256; c=relaxed/relaxed; d=1e100.net; s=20230601; t=1739465593; x=1740070393; h=references:in-reply-to:cc:to:from:subject:message-id:date :x-gm-message-state:from:to:cc:subject:date:message-id:reply-to; bh=IagK1SvQPrMZls7MU8DBudzliyj52i3x44y+yI/Ma6w=; b=gIpRBwk0sYf8+bRCnux44L06aN6sJw2rz6vnA9Zt6nWITtqEMybnZaPxPuGR9e3kPz pIro06eXsLM61KNqZfk+Mde02dkP2gsy+1LTLp1kZPRopxnAu3zNKp8JMEa6EpLUnlzD cItfPmFDnehrT6efRQSvoVl/mkjQV+3cxyBpbJcA4r5BnnVkvjEOFLaeH+q25u33lbOC 955FjInboQqYay17jL5q9M87EKN0FIh3Dx4cf9OtCj+VGp7tPkhWxJb/FWRKQguOF8vu Lfmb3GAD819PCWYYnigx7Cx4XrrSMv+qvao7kKRrs5hJSlpItkltTDRyjEHeCrwShWCl GDOw== X-Gm-Message-State: AOJu0YzXOLzbra9BnOYUt0W0/gfLVT255N85DefMOD3TNeGNDOxqUz1U CuxdnzglL+LyE9Hkvbh6rTEEcvMbRLSdNrr1WZ0K276JK+8J1bsXJrSkugfGyGC6leJuHFgeAU5 gzYiJ2L5qZ849Mvc64vNuxOC4bbcS9YcGHTIKqDOG X-Gm-Gg: ASbGncvH3cemJ4c2b7eAgE2//0jOd21qnjCuNXvJdm0KCgm8krs/rNKYF4pPdI7Pktf 6GbevEukkihgjqqgWYwONe/E1twpdLcsN9g8C2IS2iTIV1Iip+Z8pW1zXMx+Wy8mk/Ry/Iv+exZ KflgMG7akt2jigbLAZFyID+Fy67Lt/luMoKAGqIikSmtyLHL7ZjvT4+MOscxsXnZ/8pdfQmBx/8 cDdlfSZ74Hyh21Myie6YG4BaIutwSCdEkk7UwZJ4GfI9DSQLYIgCKIGUwhunr5GD+icyBWa3pTj cuTEcuc/qq2AAsAr+X2xmOzi7mQ76A== X-Google-Smtp-Source: AGHT+IHNKN8A6/QgRF3MC5vMHekHtcurMc4Ssh4wihJTb6+SprC2QnGf0ly3V2R9OSodv6+LEoHXjNKdkpji X-Received: by 2002:a05:6e02:3689:b0:3d0:11ff:a782 with SMTP id e9e14a558f8ab-3d18c231101mr34824895ab.9.1739465583382; Thu, 13 Feb 2025 08:53:03 -0800 (PST) Received: from postal.iol.unh.edu (postal.iol.unh.edu. [132.177.123.84]) by smtp-relay.gmail.com with ESMTPS id e9e14a558f8ab-3d18f9a9633sm896165ab.13.2025.02.13.08.53.03 (version=TLS1_2 cipher=ECDHE-ECDSA-AES128-GCM-SHA256 bits=128/128); Thu, 13 Feb 2025 08:53:03 -0800 (PST) X-Relaying-Domain: iol.unh.edu Date: Thu, 13 Feb 2025 08:53:03 -0800 (PST) Message-ID: <67ae236f.050a0220.1c5cb8.4d7fSMTPIN_ADDED_MISSING@mx.google.com> Received: from [172.17.0.5] (unknown [172.18.0.217]) by postal.iol.unh.edu (Postfix) with ESMTP id C41B56052471; Thu, 13 Feb 2025 11:53:02 -0500 (EST) Subject: |SUCCESS| pw151438-151444 [PATCH] [v2,7/7] dts: remove node distinct From: dpdklab@iol.unh.edu To: Test Report Cc: dpdk-test-reports@iol.unh.edu In-Reply-To: <20250212164600.23759-8-luca.vizzarro@arm.com> References: <20250212164600.23759-8-luca.vizzarro@arm.com> Content-Type: text/plain X-BeenThere: test-report@dpdk.org X-Mailman-Version: 2.1.29 Precedence: list List-Id: automatic DPDK test reports List-Unsubscribe: , List-Archive: List-Post: List-Help: List-Subscribe: , Errors-To: test-report-bounces@dpdk.org Test-Label: iol-sample-apps-testing Test-Status: SUCCESS http://dpdk.org/patch/151444 _Testing PASS_ Submitter: Luca Vizzarro Date: Wednesday, February 12 2025 16:46:00 DPDK git baseline: Repo:dpdk Branch: master CommitID:046cca99c3fd03bfb95d3e27a56aab40c2c8f45a 151438-151444 --> testing pass Upstream job id: ACVP-FIPS-testing#8898 Test environment and result as below: +--------------------+----------------------+----------------------+ | Environment | compressdev_zlib_pmd | dpdk_fips_validation | +====================+======================+======================+ | Ubuntu 22.04 (ARM) | PASS | SKIPPED | +--------------------+----------------------+----------------------+ | Ubuntu 22.04 | PASS | SKIPPED | +--------------------+----------------------+----------------------+ | Ubuntu 20.04 | SKIPPED | PASS | +--------------------+----------------------+----------------------+ Ubuntu 22.04 (ARM) Kernel: 5.15.0-97-generic Compiler: gcc gcc (Ubuntu 11.4.0-1ubuntu1~22.04) 11.4.0 Ubuntu 22.04 Kernel: 5.15.0-100-generic Compiler: gcc gcc (Ubuntu 11.4.0-1ubuntu1~22.04) 11.4.0 Ubuntu 20.04 Kernel: Depends on container host Compiler: gcc (Ubuntu 9.4.0-1ubuntu1~20.04.2) 9.4.0 To view detailed results, visit: https://lab.dpdk.org/results/dashboard/patchsets/32569/ UNH-IOL DPDK Community Lab To manage your email subscriptions, visit: https://lab.dpdk.org/results/dashboard/preferences/subscriptions/