From mboxrd@z Thu Jan 1 00:00:00 1970 Return-Path: Received: from mails.dpdk.org (mails.dpdk.org [217.70.189.124]) by inbox.dpdk.org (Postfix) with ESMTP id DA1CE4621C for ; Thu, 13 Feb 2025 17:54:10 +0100 (CET) Received: from mails.dpdk.org (localhost [127.0.0.1]) by mails.dpdk.org (Postfix) with ESMTP id D6A8242EB1; Thu, 13 Feb 2025 17:54:10 +0100 (CET) Received: from mail-qk1-f226.google.com (mail-qk1-f226.google.com [209.85.222.226]) by mails.dpdk.org (Postfix) with ESMTP id 79E24402A3 for ; Thu, 13 Feb 2025 17:54:09 +0100 (CET) Received: by mail-qk1-f226.google.com with SMTP id af79cd13be357-7c05bb6dab7so116534185a.0 for ; Thu, 13 Feb 2025 08:54:09 -0800 (PST) DKIM-Signature: v=1; a=rsa-sha256; c=relaxed/relaxed; d=iol.unh.edu; s=unh-iol; t=1739465649; x=1740070449; darn=dpdk.org; h=references:in-reply-to:cc:to:from:subject:message-id:date:from:to :cc:subject:date:message-id:reply-to; bh=S4aEFtFbBbWtIN6dOqrqAvH6ZgWZZ5n7dEqWHZ8qKuk=; b=ZQsKqgg1gI+uhInIun/pn3ZROjKrlnt7QchlHVfTTIX8v7QS6eqkHGZlxyzJWpFKKT FnBh+dDLX+vIZf2MhzYKiFfva2D9BSKXCyHqDXs/dUJbg0a/4aP0f/9uKRQvZ+OOwltz xlaG4asbNXqCSLWP2lczj2+0lHjghjNHUKieY= X-Google-DKIM-Signature: v=1; a=rsa-sha256; c=relaxed/relaxed; d=1e100.net; s=20230601; t=1739465649; x=1740070449; h=references:in-reply-to:cc:to:from:subject:message-id:date :x-gm-message-state:from:to:cc:subject:date:message-id:reply-to; bh=S4aEFtFbBbWtIN6dOqrqAvH6ZgWZZ5n7dEqWHZ8qKuk=; b=k+4tpYfg5w1TB25Lp2PU9VJ3DUwTdll87Mt+Werf7ySm345X6DehsSUhlTGWSTM18I dHfLI+uT91GYvnMCRBp8dDw3XpkKTiZkANT2bBvKf9XBa6KlVRP+Z/7DuuEiRxjkx6xH ugAG4xVLqffjXTNJlpO4KJsHKRw4CJlfELE2i4T0W8FtmeNLnFj9eGO60bWGjrnSCzXd zhH217DT/PjksFu5DXfX9G7BSFEFeDhu7zdixhpF9oaLaINqswPsEJbGqdfeR6bd3HvY coNEDUQa3Rzsx5jG3gTa8lNuE5PHfH1KJ4wDAdV2rL5hlGhlmqO0CpSC5XJCb7e/mAbZ u/Sg== X-Gm-Message-State: AOJu0YzHllhHF6rq4Uv75SIVqSiC65S11MUcV9BkNZPTx0dFYUFGRZfR IrO3NVoMxRklFZtqc5/91XRZPpDxJow5UEJnUtA4xCN4+i/t/j4s8BlLlZ97OYhPkOnQF5qosS1 Lngg5OXqURMfLv3R5cgWGAoY7yUagciAj3EjmtKMH X-Gm-Gg: ASbGncvL9uDUc0aNkIgyrBbWRFIduq3fjwvgFpMuZ2lO04nvM2VsUT3Zi0gZBdefwo0 tjsKGWQIkCfekbpxcYy6fDO+pfavHXYEvBR8/qKgc5Bo/KAIjJ/QqK14VgaMkLS2+svlfW/WZxI LAwHcxMWDdjFuQKbQq9QYRNif+hWwfNde0Yk/s2hDORkbR7Hg8M7vZL1yLRn4B9uXiU+cFHPN5X /n2UMGhzp3vAup3oN5EISF5vRt+2EBjtu9dkqJ9CcBwl+W1WOwdEenwOgOJ022KDN+BOuZZUYvk rGmkzskB+2dTZ/C7GommOUN2gyJVqg== X-Google-Smtp-Source: AGHT+IG40SAIfC5NgvCJMHtYTy5H3GAz+XEmcUstlVa9Yi1CMcsN1x4UDpiBsO668VPDQ7P842GB6QwryOMN X-Received: by 2002:a05:620a:40d4:b0:7b6:c474:d87e with SMTP id af79cd13be357-7c07a9ad7c3mr609100185a.10.1739465648430; Thu, 13 Feb 2025 08:54:08 -0800 (PST) Received: from postal.iol.unh.edu (postal.iol.unh.edu. [132.177.123.84]) by smtp-relay.gmail.com with ESMTPS id 6a1803df08f44-6e65d734a7fsm808436d6.17.2025.02.13.08.54.08 (version=TLS1_2 cipher=ECDHE-ECDSA-AES128-GCM-SHA256 bits=128/128); Thu, 13 Feb 2025 08:54:08 -0800 (PST) X-Relaying-Domain: iol.unh.edu Date: Thu, 13 Feb 2025 08:54:08 -0800 (PST) Message-ID: <67ae23b0.050a0220.145f19.4663SMTPIN_ADDED_MISSING@mx.google.com> Received: from [172.17.0.5] (unknown [172.18.0.217]) by postal.iol.unh.edu (Postfix) with ESMTP id 1C9D66052471; Thu, 13 Feb 2025 11:54:08 -0500 (EST) Subject: |SUCCESS| pw151448-151458 [PATCH] [v1,16/16] net/zxdh: provide meter From: dpdklab@iol.unh.edu To: Test Report Cc: dpdk-test-reports@iol.unh.edu In-Reply-To: <20250213064134.88166-17-wang.junlong1@zte.com.cn> References: <20250213064134.88166-17-wang.junlong1@zte.com.cn> Content-Type: text/plain X-BeenThere: test-report@dpdk.org X-Mailman-Version: 2.1.29 Precedence: list List-Id: automatic DPDK test reports List-Unsubscribe: , List-Archive: List-Post: List-Help: List-Subscribe: , Errors-To: test-report-bounces@dpdk.org Test-Label: iol-compile-amd64-testing Test-Status: SUCCESS http://dpdk.org/patch/151458 _Testing PASS_ Submitter: Junlong Wang Date: Thursday, February 13 2025 06:41:32 DPDK git baseline: Repo:dpdk Branch: master CommitID:88e17c88943145bb956b5bf6059a8043dbd33a99 151448-151458 --> testing pass Upstream job id: Windows-Compile-DPDK-Native#26661 Test environment and result as below: +---------------------+-------------------+--------------------+-------------------+------------------+-------------------------+----------------------+ | Environment | dpdk_msvc_compile | dpdk_meson_compile | dpdk_compile_spdk | dpdk_compile_ovs | dpdk_llvm_clang_compile | dpdk_mingw64_compile | +=====================+===================+====================+===================+==================+=========================+======================+ | Windows Server 2022 | PASS | SKIPPED | SKIPPED | SKIPPED | PASS | PASS | +---------------------+-------------------+--------------------+-------------------+------------------+-------------------------+----------------------+ | FreeBSD 14.2 | SKIPPED | PASS | SKIPPED | SKIPPED | SKIPPED | SKIPPED | +---------------------+-------------------+--------------------+-------------------+------------------+-------------------------+----------------------+ | CentOS Stream 9 | SKIPPED | PASS | PASS | SKIPPED | SKIPPED | SKIPPED | +---------------------+-------------------+--------------------+-------------------+------------------+-------------------------+----------------------+ | CentOS Stream 10 | SKIPPED | PASS | SKIPPED | SKIPPED | SKIPPED | SKIPPED | +---------------------+-------------------+--------------------+-------------------+------------------+-------------------------+----------------------+ | Debian Bullseye | SKIPPED | PASS | PASS | SKIPPED | SKIPPED | SKIPPED | +---------------------+-------------------+--------------------+-------------------+------------------+-------------------------+----------------------+ | Debian 12 | SKIPPED | PASS | PASS | SKIPPED | SKIPPED | SKIPPED | +---------------------+-------------------+--------------------+-------------------+------------------+-------------------------+----------------------+ | Fedora 40 (Clang) | SKIPPED | PASS | PASS | SKIPPED | SKIPPED | SKIPPED | +---------------------+-------------------+--------------------+-------------------+------------------+-------------------------+----------------------+ | Fedora 40 | SKIPPED | PASS | PASS | SKIPPED | SKIPPED | SKIPPED | +---------------------+-------------------+--------------------+-------------------+------------------+-------------------------+----------------------+ | Fedora 41 (Clang) | SKIPPED | PASS | PASS | PASS | SKIPPED | SKIPPED | +---------------------+-------------------+--------------------+-------------------+------------------+-------------------------+----------------------+ | Fedora 41 | SKIPPED | PASS | PASS | PASS | SKIPPED | SKIPPED | +---------------------+-------------------+--------------------+-------------------+------------------+-------------------------+----------------------+ | openSUSE Leap 15 | SKIPPED | PASS | SKIPPED | SKIPPED | SKIPPED | SKIPPED | +---------------------+-------------------+--------------------+-------------------+------------------+-------------------------+----------------------+ | RHEL8 | SKIPPED | PASS | SKIPPED | SKIPPED | SKIPPED | SKIPPED | +---------------------+-------------------+--------------------+-------------------+------------------+-------------------------+----------------------+ | RHEL9 | SKIPPED | PASS | SKIPPED | SKIPPED | SKIPPED | SKIPPED | +---------------------+-------------------+--------------------+-------------------+------------------+-------------------------+----------------------+ | Ubuntu 20.04 | SKIPPED | PASS | SKIPPED | SKIPPED | SKIPPED | SKIPPED | +---------------------+-------------------+--------------------+-------------------+------------------+-------------------------+----------------------+ | Ubuntu 22.04 | SKIPPED | PASS | PASS | SKIPPED | SKIPPED | SKIPPED | +---------------------+-------------------+--------------------+-------------------+------------------+-------------------------+----------------------+ | Ubuntu 24.04 | SKIPPED | PASS | PASS | PASS | SKIPPED | SKIPPED | +---------------------+-------------------+--------------------+-------------------+------------------+-------------------------+----------------------+ | Alpine | SKIPPED | PASS | SKIPPED | SKIPPED | SKIPPED | SKIPPED | +---------------------+-------------------+--------------------+-------------------+------------------+-------------------------+----------------------+ Windows Server 2022 Kernel: 10.0.20348.2031 Compiler: clang 15.0.7, gcc 14.1.0 (MinGW), and MSVC VS 19.39.33521 FreeBSD 14.2 Kernel: 14.2-RELEASE Compiler: clang 18.1.6 CentOS Stream 9 Kernel: Depends on container host Compiler: gcc 11.5.0 20240719 (Red Hat 11.5.0-2) CentOS Stream 10 Kernel: Depends on container host Compiler: gcc 14.2.1 20241104 (Red Hat 14.2.1-6) Debian Bullseye Kernel: Depends on container host Compiler: gcc (Debian 10.2.1-6) 10.2.1 20210110 Debian 12 Kernel: Depends on container host Compiler: gcc (Debian 12.2.0-14) 12.2.0 Fedora 40 (Clang) Kernel: Depends on container host Compiler: clang 18.1.8 (Fedora 18.1.8-1.fc40) Fedora 40 Kernel: Depends on container host Compiler: gcc 14.2.1 20240912 (Red Hat 14.2.1-3) Fedora 41 (Clang) Kernel: Depends on container host Compiler: clang 19.1.5 (Fedora 19.1.5-1.fc41) Fedora 41 Kernel: Depends on container host Compiler: gcc 14.2.1 20240912 (Red Hat 14.2.1-3) openSUSE Leap 15 Kernel: Depends on container host Compiler: gcc (SUSE Linux) 7.5.0 RHEL8 Kernel: Depends on container host Compiler: gcc 8.5.0 20210514 (Red Hat 8.5.0-22) RHEL9 Kernel: Depends on container host Compiler: gcc 11.5.0 20240719 (Red Hat 11.5.0-2) Ubuntu 20.04 Kernel: Depends on container host Compiler: gcc (Ubuntu 9.4.0-1ubuntu1~20.04.2) 9.4.0 Ubuntu 22.04 Kernel: Depends on container host Compiler: gcc (Ubuntu 11.4.0-1ubuntu1~22.04) 11.4.0 Ubuntu 24.04 Kernel: Depends on container host Compiler: gcc (Ubuntu 13.3.0-6ubuntu2~24.04) 13.3.0 Alpine Kernel: Depends on container host Compiler: gcc (Alpine 14.2.0) 14.2.0 To view detailed results, visit: https://lab.dpdk.org/results/dashboard/patchsets/32571/ UNH-IOL DPDK Community Lab To manage your email subscriptions, visit: https://lab.dpdk.org/results/dashboard/preferences/subscriptions/