From mboxrd@z Thu Jan 1 00:00:00 1970 Return-Path: Received: from mails.dpdk.org (mails.dpdk.org [217.70.189.124]) by inbox.dpdk.org (Postfix) with ESMTP id F051C4621D for ; Thu, 13 Feb 2025 22:34:17 +0100 (CET) Received: from mails.dpdk.org (localhost [127.0.0.1]) by mails.dpdk.org (Postfix) with ESMTP id EB6A9402DA; Thu, 13 Feb 2025 22:34:17 +0100 (CET) Received: from mail-io1-f97.google.com (mail-io1-f97.google.com [209.85.166.97]) by mails.dpdk.org (Postfix) with ESMTP id 42EEE40279 for ; Thu, 13 Feb 2025 22:34:17 +0100 (CET) Received: by mail-io1-f97.google.com with SMTP id ca18e2360f4ac-8556e24b5a1so46524539f.3 for ; Thu, 13 Feb 2025 13:34:17 -0800 (PST) DKIM-Signature: v=1; a=rsa-sha256; c=relaxed/relaxed; d=iol.unh.edu; s=unh-iol; t=1739482456; x=1740087256; darn=dpdk.org; h=references:in-reply-to:cc:to:from:subject:message-id:date:from:to :cc:subject:date:message-id:reply-to; bh=bDywNVu/yJHa6EyvPIUmkSxCSyINxe/ylpWCJ/6513E=; b=Si2zIAngKVo2d7UtaPRTU9n8UwCog1eJHAyMUNPeFTo6DgeG8vmplw9YVo4xrrQwYo DLD2TgBCrY4kqZqPj+6tgn6qUmASJLIAacHfiInnc7hrA4YwTYxEal3CwWpbFGQk1q3U 1osHqQiMUe6ZojCnr0IO2rspEfvLGSOOvIG2Q= X-Google-DKIM-Signature: v=1; a=rsa-sha256; c=relaxed/relaxed; d=1e100.net; s=20230601; t=1739482456; x=1740087256; h=references:in-reply-to:cc:to:from:subject:message-id:date :x-gm-message-state:from:to:cc:subject:date:message-id:reply-to; bh=bDywNVu/yJHa6EyvPIUmkSxCSyINxe/ylpWCJ/6513E=; b=JJhaBw7Bwk3WZljdFrW+e1adkfOoLk+/+jjDuo67btllluh+Ve3tzr/jFsAjwTM2lb 0emYrKncM5a7H1n+7N/Amethkbb2hKzFyfBOG4m/SvDb+4NdZzTxvI27vP1/H1Mn8viu 57jDaPEhfY80oObKTvOQJvNQwNrPT39k83Ib9ycqVT9pwdPzuA00ubBrL0H0yrERw3BF 9heym2KF6AiIsEgSz7hejs6QAEb2KuziijMYASzdom/PUpYXknOXc6H9ENevV+vtLFVP TdRgpgXUF6b5cVmJ3k5EB+yuwLpoUV9ikYlN2dnhVHir9bD8ItVW2TSbbEucXUyD+4TW 8tOQ== X-Gm-Message-State: AOJu0YwFdhoL+hUZRnBRZjOEcWI3IusWkL3bF9n92rvHViDEernsqqud Amx/OVcgo3LslyH+iHGGwFeZF15/wT4dmcpcrXSMcoT4gAPZh4oV7qGIuNTNSe8r4PSH9ko/opX vQi1c4WlXnUJmdnc2olXhpYJBTshMG2ci8ZaCYetGJvdWPyldeWqMlhkJ X-Gm-Gg: ASbGncubuE7ssEhFlOiri8fAl7pIQeZP7zfj0YXijpRRvIxJ+SbIxc616H4QhNPNss5 1nwH995rcsOz4jAnD+TSPJrqRsKl0i/Be8nl+YFYsvmmq4KmiQLvCDWCr6BFQuCba7LPPi3ixZj TGG0z2Cz3hpsUifo1DgfHJXkCsXPWu2sCAh8Z+XZ0JOHDhYGKVb/aJS2ry/MCaDv/ND4neHyFUa /3tww1gYGwq2hllwecQUYVGFoPlwGXOmz6kHn3CiFjFej+y5GuCKo7hILkQo9ZUk+AECouoJsjo 4vlrO+TBvNsn82rQVY+fqbMKXEbgezXpzZOYyeg+jQ== X-Google-Smtp-Source: AGHT+IFUKSs8OvE+TC0d1+2nSwliylq5C4XjefbJX9FcwQ2YhBMBTDYOfgGZZMns2t/4AW050bjNs1o0oGJQ X-Received: by 2002:a6b:f816:0:b0:855:63c8:abb5 with SMTP id ca18e2360f4ac-85563c8ac6fmr334507939f.13.1739482456586; Thu, 13 Feb 2025 13:34:16 -0800 (PST) Received: from postal.iol.unh.edu (postal.iol.unh.edu. [2606:4100:3880:1234::84]) by smtp-relay.gmail.com with ESMTPS id ca18e2360f4ac-85566e30680sm8804539f.7.2025.02.13.13.34.16 (version=TLS1_2 cipher=ECDHE-ECDSA-AES128-GCM-SHA256 bits=128/128); Thu, 13 Feb 2025 13:34:16 -0800 (PST) X-Relaying-Domain: iol.unh.edu Date: Thu, 13 Feb 2025 13:34:16 -0800 (PST) Message-ID: <67ae6558.050a0220.3de12.4d41SMTPIN_ADDED_MISSING@mx.google.com> Received: from [172.17.0.3] (unknown [172.18.0.217]) by postal.iol.unh.edu (Postfix) with ESMTP id 04E986052471; Thu, 13 Feb 2025 16:34:16 -0500 (EST) Subject: |SUCCESS| pw151469-151471 [PATCH] [v2,3/3] net/netvsc: log error on From: dpdklab@iol.unh.edu To: Test Report Cc: dpdk-test-reports@iol.unh.edu In-Reply-To: <1739473105-17797-4-git-send-email-longli@linuxonhyperv.com> References: <1739473105-17797-4-git-send-email-longli@linuxonhyperv.com> Content-Type: text/plain X-BeenThere: test-report@dpdk.org X-Mailman-Version: 2.1.29 Precedence: list List-Id: automatic DPDK test reports List-Unsubscribe: , List-Archive: List-Post: List-Help: List-Subscribe: , Errors-To: test-report-bounces@dpdk.org Test-Label: iol-unit-amd64-testing Test-Status: SUCCESS http://dpdk.org/patch/151471 _Testing PASS_ Submitter: Long Li Date: Thursday, February 13 2025 18:58:25 DPDK git baseline: Repo:dpdk Branch: master CommitID:88e17c88943145bb956b5bf6059a8043dbd33a99 151469-151471 --> testing pass Upstream job id: Generic-Unit-Test-DPDK#314813 Test environment and result as below: +---------------------+----------------+ | Environment | dpdk_unit_test | +=====================+================+ | CentOS Stream 10 | PASS | +---------------------+----------------+ | CentOS Stream 9 | PASS | +---------------------+----------------+ | Fedora 40 | PASS | +---------------------+----------------+ | RHEL9 | PASS | +---------------------+----------------+ | Fedora 40 (Clang) | PASS | +---------------------+----------------+ | Fedora 41 | PASS | +---------------------+----------------+ | Fedora 41 (Clang) | PASS | +---------------------+----------------+ | Debian 12 | PASS | +---------------------+----------------+ | Debian Bullseye | PASS | +---------------------+----------------+ | RHEL8 | PASS | +---------------------+----------------+ | Ubuntu 24.04 | PASS | +---------------------+----------------+ | Ubuntu 22.04 | PASS | +---------------------+----------------+ | Ubuntu 20.04 | PASS | +---------------------+----------------+ | Windows Server 2022 | PASS | +---------------------+----------------+ CentOS Stream 10 Kernel: Depends on container host Compiler: gcc 14.2.1 20241104 (Red Hat 14.2.1-6) CentOS Stream 9 Kernel: Depends on container host Compiler: gcc 11.5.0 20240719 (Red Hat 11.5.0-2) Fedora 40 Kernel: Depends on container host Compiler: gcc 14.2.1 20240912 (Red Hat 14.2.1-3) RHEL9 Kernel: Depends on container host Compiler: gcc 11.5.0 20240719 (Red Hat 11.5.0-2) Fedora 40 (Clang) Kernel: Depends on container host Compiler: clang 18.1.8 (Fedora 18.1.8-1.fc40) Fedora 41 Kernel: Depends on container host Compiler: gcc 14.2.1 20240912 (Red Hat 14.2.1-3) Fedora 41 (Clang) Kernel: Depends on container host Compiler: clang 19.1.5 (Fedora 19.1.5-1.fc41) Debian 12 Kernel: Depends on container host Compiler: gcc (Debian 12.2.0-14) 12.2.0 Debian Bullseye Kernel: Depends on container host Compiler: gcc (Debian 10.2.1-6) 10.2.1 20210110 RHEL8 Kernel: Depends on container host Compiler: gcc 8.5.0 20210514 (Red Hat 8.5.0-22) Ubuntu 24.04 Kernel: Depends on container host Compiler: gcc (Ubuntu 13.3.0-6ubuntu2~24.04) 13.3.0 Ubuntu 22.04 Kernel: Depends on container host Compiler: gcc (Ubuntu 11.4.0-1ubuntu1~22.04) 11.4.0 Ubuntu 20.04 Kernel: Depends on container host Compiler: gcc (Ubuntu 9.4.0-1ubuntu1~20.04.2) 9.4.0 Windows Server 2022 Kernel: 10.0.20348.2031 Compiler: clang 15.0.7, gcc 14.1.0 (MinGW), and MSVC VS 19.39.33521 To view detailed results, visit: https://lab.dpdk.org/results/dashboard/patchsets/32577/ UNH-IOL DPDK Community Lab To manage your email subscriptions, visit: https://lab.dpdk.org/results/dashboard/preferences/subscriptions/