From mboxrd@z Thu Jan 1 00:00:00 1970 Return-Path: Received: from mails.dpdk.org (mails.dpdk.org [217.70.189.124]) by inbox.dpdk.org (Postfix) with ESMTP id EBA0C4621D for ; Thu, 13 Feb 2025 22:44:23 +0100 (CET) Received: from mails.dpdk.org (localhost [127.0.0.1]) by mails.dpdk.org (Postfix) with ESMTP id C7BD7402B9; Thu, 13 Feb 2025 22:44:23 +0100 (CET) Received: from mail-il1-f225.google.com (mail-il1-f225.google.com [209.85.166.225]) by mails.dpdk.org (Postfix) with ESMTP id 3222340279 for ; Thu, 13 Feb 2025 22:44:23 +0100 (CET) Received: by mail-il1-f225.google.com with SMTP id e9e14a558f8ab-3d0465a8d34so10705845ab.0 for ; Thu, 13 Feb 2025 13:44:23 -0800 (PST) DKIM-Signature: v=1; a=rsa-sha256; c=relaxed/relaxed; d=iol.unh.edu; s=unh-iol; t=1739483062; x=1740087862; darn=dpdk.org; h=references:in-reply-to:cc:to:from:subject:message-id:date:from:to :cc:subject:date:message-id:reply-to; bh=OY+kr6Pl/r1dwqnDV3UzVCXycspx/e/zmZparNmF6EM=; b=LekipXt7S6PHld+MPVGjOe4nUIvEOlZioo53iW5Y3JAO/Dkv7Tb4105SftRFHbiCow Y+LgOxQOnRAaoCtLn1IH3A0CTN5fqqiEEUT4eIDXBQwRdmmuvCGaUF8IVVMPoOwTmLtu HGUErZ5f+qCqzbMGzGexC7Pq/T/vRbld/4cSc= X-Google-DKIM-Signature: v=1; a=rsa-sha256; c=relaxed/relaxed; d=1e100.net; s=20230601; t=1739483062; x=1740087862; h=references:in-reply-to:cc:to:from:subject:message-id:date :x-gm-message-state:from:to:cc:subject:date:message-id:reply-to; bh=OY+kr6Pl/r1dwqnDV3UzVCXycspx/e/zmZparNmF6EM=; b=edqfpGZ7b5suXsJzgDiQ+jYuLrp5KaQv2E6yFO45YPVUzVTrxVd63MnIalD2t4w4tW tpNW8kvk4dz9vTAkLTbjxL2GkdZGXjj7dDvE7U3rrf533M1FBrL5excIjUKWtQddQpDO h7aObLbOeVLdL0F4gTqMhNHDOc/wIgHiAXnLnLU+1NnJtzabTSgEfzqelya2IvRKjHoF i46/pypkICb+GI7iVsakZ8PYKvSsAo2FAEF8+FS9OINYiNATGeg89Sh6NkvMSDlb5McU x+5TRj3LL0q/4bzqHruWdHzKUcrKXZLYkorA7iv3S+QdzWv91e6DSqPeDZdwEQBiS2kQ xZkg== X-Gm-Message-State: AOJu0Yx93KxIqU1YOsX4ERnFSU9PzdneOG1rgdJuBmen+Jo+J/7pdTCC 23It7GJm5vuIHeljgol+j9r/wptXG7SZhzAH0ZkjlFGLt5TLqmdHyBkdDyt8xObLQLUA7cc1+tT TFkbgXJkQXY4NAOl7BsX9214V8+HchfNhu8cCnaL3Xpf0FO/X5wKs2HQO X-Gm-Gg: ASbGncu2jDUTQ0pZ7X/s4NPW7pq0cn/xd8NkTdvOXQdsRZae8rpzbeAKh+ShPGNz3qC /S/mXqUIAe9Bmn71LfFgJgd8ESyEaAUm0ULkCRSJ0GoF6SxjkWOxo1XlHReNluRgPwKCKz01661 JPBmG0WIhLjs3YEGOe1+3FGBQ2wB30bWXsYGJTNdZOOQkKI690OCMzUoYpTPyVljLRG8XXS03Jf uVAMz+nXDoEX4Q3/bYfVQrPtKCXpP2zJGQhmIYW3I+Mt/0YDmEG0OR4uV3MbBJVyzDGIDJEfmCY 9bcTE7yXngubPGA9a/vjIQyxDyijsJNQEIpnkHolEQ== X-Google-Smtp-Source: AGHT+IF5PKpfkaNsNhx/mhV4rWFC3tyvcqDBlYyOFJpP2F3LSYV7Ni0PaR7M+VhilJq7YN19/eepZ+CnK6C+ X-Received: by 2002:a05:6e02:32ca:b0:3d0:4bce:cfa8 with SMTP id e9e14a558f8ab-3d17d07782dmr83880805ab.3.1739483062505; Thu, 13 Feb 2025 13:44:22 -0800 (PST) Received: from postal.iol.unh.edu (postal.iol.unh.edu. [2606:4100:3880:1234::84]) by smtp-relay.gmail.com with ESMTPS id e9e14a558f8ab-3d18f9a90e1sm1153125ab.3.2025.02.13.13.44.22 (version=TLS1_2 cipher=ECDHE-ECDSA-AES128-GCM-SHA256 bits=128/128); Thu, 13 Feb 2025 13:44:22 -0800 (PST) X-Relaying-Domain: iol.unh.edu Date: Thu, 13 Feb 2025 13:44:22 -0800 (PST) Message-ID: <67ae67b6.050a0220.34c1ad.645eSMTPIN_ADDED_MISSING@mx.google.com> Received: from [172.17.0.3] (unknown [172.18.0.217]) by postal.iol.unh.edu (Postfix) with ESMTP id 000A76052471; Thu, 13 Feb 2025 16:44:21 -0500 (EST) Subject: |SUCCESS| pw151469-151471 [PATCH] [v2,3/3] net/netvsc: log error on From: dpdklab@iol.unh.edu To: Test Report Cc: dpdk-test-reports@iol.unh.edu In-Reply-To: <1739473105-17797-4-git-send-email-longli@linuxonhyperv.com> References: <1739473105-17797-4-git-send-email-longli@linuxonhyperv.com> Content-Type: text/plain X-BeenThere: test-report@dpdk.org X-Mailman-Version: 2.1.29 Precedence: list List-Id: automatic DPDK test reports List-Unsubscribe: , List-Archive: List-Post: List-Help: List-Subscribe: , Errors-To: test-report-bounces@dpdk.org Test-Label: iol-abi-testing Test-Status: SUCCESS http://dpdk.org/patch/151471 _Testing PASS_ Submitter: Long Li Date: Thursday, February 13 2025 18:58:25 DPDK git baseline: Repo:dpdk Branch: master CommitID:88e17c88943145bb956b5bf6059a8043dbd33a99 151469-151471 --> testing pass Upstream job id: Generic-DPDK-Compile-ABI#116108 Test environment and result as below: +-----------------+----------+ | Environment | abi_test | +=================+==========+ | CentOS Stream 9 | PASS | +-----------------+----------+ | Fedora 41 | PASS | +-----------------+----------+ | Fedora 40 | PASS | +-----------------+----------+ | Ubuntu 24.04 | PASS | +-----------------+----------+ | Ubuntu 22.04 | PASS | +-----------------+----------+ CentOS Stream 9 Kernel: Depends on container host Compiler: gcc 11.5.0 20240719 (Red Hat 11.5.0-2) Fedora 41 Kernel: Depends on container host Compiler: gcc 14.2.1 20240912 (Red Hat 14.2.1-3) Fedora 40 Kernel: Depends on container host Compiler: gcc 14.2.1 20240912 (Red Hat 14.2.1-3) Ubuntu 24.04 Kernel: Depends on container host Compiler: gcc (Ubuntu 13.3.0-6ubuntu2~24.04) 13.3.0 Ubuntu 22.04 Kernel: Depends on container host Compiler: gcc (Ubuntu 11.4.0-1ubuntu1~22.04) 11.4.0 To view detailed results, visit: https://lab.dpdk.org/results/dashboard/patchsets/32577/ UNH-IOL DPDK Community Lab To manage your email subscriptions, visit: https://lab.dpdk.org/results/dashboard/preferences/subscriptions/