From mboxrd@z Thu Jan 1 00:00:00 1970 Return-Path: Received: from mails.dpdk.org (mails.dpdk.org [217.70.189.124]) by inbox.dpdk.org (Postfix) with ESMTP id 555D44621D for ; Thu, 13 Feb 2025 23:53:58 +0100 (CET) Received: from mails.dpdk.org (localhost [127.0.0.1]) by mails.dpdk.org (Postfix) with ESMTP id 28824402B9; Thu, 13 Feb 2025 23:53:58 +0100 (CET) Received: from mail-qv1-f97.google.com (mail-qv1-f97.google.com [209.85.219.97]) by mails.dpdk.org (Postfix) with ESMTP id C4B724003C for ; Thu, 13 Feb 2025 23:53:56 +0100 (CET) Received: by mail-qv1-f97.google.com with SMTP id 6a1803df08f44-6dcdf23b4edso12845266d6.0 for ; Thu, 13 Feb 2025 14:53:56 -0800 (PST) DKIM-Signature: v=1; a=rsa-sha256; c=relaxed/relaxed; d=iol.unh.edu; s=unh-iol; t=1739487236; x=1740092036; darn=dpdk.org; h=references:in-reply-to:cc:to:from:subject:message-id:date:from:to :cc:subject:date:message-id:reply-to; bh=KBN4iTbO5IsMQrs2zCJSh0F6Mtm2UZ2QVK9QtaHpRz4=; b=Bfkf/dOa7OTbyNX9tBi9/d2zNoGJX/Fp7fhJzZpw2ZK68bLxESCPdKeZK8jK9FHYjT kujkLN5e0IiuHwZIad7stgs2vqOg4f9OdDuyawsLXg34BqpxvTRdj89dJwaWxBWEuq54 SxAYb4/F0V1e8LACjowmCRH8miuJXCkf2ZL70= X-Google-DKIM-Signature: v=1; a=rsa-sha256; c=relaxed/relaxed; d=1e100.net; s=20230601; t=1739487236; x=1740092036; h=references:in-reply-to:cc:to:from:subject:message-id:date :x-gm-message-state:from:to:cc:subject:date:message-id:reply-to; bh=KBN4iTbO5IsMQrs2zCJSh0F6Mtm2UZ2QVK9QtaHpRz4=; b=fD4O2nZCJmgLrReq3NpZw6qKs55t8foPbFJr4ysbnx4ONSitEVHcr9GAK0PnWmPZ52 6iOYawkLTjQ4EaV66hbshjqMwvF7tvCFFVFAvd1WxaO5Wu/q0WFB7m7suAqnkRURbTz8 wdrXJ44bHxnUQdGXLE4EgQfDZq9mssoR9/4+/Fgacq/8HxDgrfcd9Zfwf80gzfuxesR1 cOGe2uHDu0MYpJ3hqY4/gdTeH490yAAuDV2RDCer759z4dIyysxFkwuLGXkkErJQUC4/ bBa3VACq45+ShuJQwe7LmAVAE16BPL7G53r0BBfieNKJW9dOz34otPGD40eVid2KBRCK GzzA== X-Gm-Message-State: AOJu0Yx5O+RX6XfPH/HNugg3LE9YjRWjVvcEvAdNs0dKDqqvo9r9MeL2 KyJMNEaEEUybIHWnTZjIB0p33dfPwrMzHOfq9Tjkxnc1hRRDzFsKwlC3OoQjvfIzLYJGdp6zEHL nbElt1tF47ys9eVjUdbyIdUkAGSJMGd4ITczlgbx9 X-Gm-Gg: ASbGncsVg/SX3TeSbe3oqbn4dLjG/s3wHmB4j40KeUYYjvpq9ePc9/qLU/ALffRU9wQ Zm7m1CLgRITM9QmwrrCWUBDLinSfdrd7oLq2hz68DbRXtXL++Bala/5CRvSjGAeTdYVXJA8uEKW 1fOTZUSXpH02VEbnFV70VBjIWxkQirs4D68RSlIYLFMNEKAqA4NsK2UyOXcugD/Up0yhbQrd5I7 vfxZvxwNaeIotKm7F4qP7Af1hL9u0zSHhzMTdldlb/ygeR3g7IuGfqww00X++ppsrfa0P96jeHO GDbEXbNC0wBtobxrS0aXUq4S2Ws7Cw== X-Google-Smtp-Source: AGHT+IHW5j5jXJO5xJJi1lVcZ1XJNX5vI4kTYo46WL7lteaeQ9un6ec9AuG0VZ7CUe8C4eICwoouRatgs3WP X-Received: by 2002:ad4:4ee3:0:b0:6d8:9a85:5b3d with SMTP id 6a1803df08f44-6e46ed77f14mr178111786d6.7.1739487236034; Thu, 13 Feb 2025 14:53:56 -0800 (PST) Received: from postal.iol.unh.edu (postal.iol.unh.edu. [132.177.123.84]) by smtp-relay.gmail.com with ESMTPS id 6a1803df08f44-6e65d7a390fsm1013946d6.65.2025.02.13.14.53.55 (version=TLS1_2 cipher=ECDHE-ECDSA-AES128-GCM-SHA256 bits=128/128); Thu, 13 Feb 2025 14:53:56 -0800 (PST) X-Relaying-Domain: iol.unh.edu Date: Thu, 13 Feb 2025 14:53:56 -0800 (PST) Message-ID: <67ae7804.d40a0220.97182.5608SMTPIN_ADDED_MISSING@mx.google.com> Received: from [172.17.0.3] (unknown [172.18.0.217]) by postal.iol.unh.edu (Postfix) with ESMTP id A66516052471; Thu, 13 Feb 2025 17:53:55 -0500 (EST) Subject: |SUCCESS| pw151472-151478 [PATCH] [v7,7/7] test: update to latencyst From: dpdklab@iol.unh.edu To: Test Report Cc: dpdk-test-reports@iol.unh.edu In-Reply-To: <20250213212151.1693506-8-stephen@networkplumber.org> References: <20250213212151.1693506-8-stephen@networkplumber.org> Content-Type: text/plain X-BeenThere: test-report@dpdk.org X-Mailman-Version: 2.1.29 Precedence: list List-Id: automatic DPDK test reports List-Unsubscribe: , List-Archive: List-Post: List-Help: List-Subscribe: , Errors-To: test-report-bounces@dpdk.org Test-Label: iol-compile-amd64-testing Test-Status: SUCCESS http://dpdk.org/patch/151478 _Testing PASS_ Submitter: Stephen Hemminger Date: Thursday, February 13 2025 21:20:36 DPDK git baseline: Repo:dpdk Branch: master CommitID:e5176f23ae8b31437c3e5eb875c81f95bf3a9942 151472-151478 --> testing pass Upstream job id: Generic-DPDK-Compile-Meson#361490 Test environment and result as below: +---------------------+--------------------+-------------------+------------------+-------------------------+-------------------+----------------------+ | Environment | dpdk_meson_compile | dpdk_compile_spdk | dpdk_compile_ovs | dpdk_llvm_clang_compile | dpdk_msvc_compile | dpdk_mingw64_compile | +=====================+====================+===================+==================+=========================+===================+======================+ | CentOS Stream 9 | PASS | PASS | SKIPPED | SKIPPED | SKIPPED | SKIPPED | +---------------------+--------------------+-------------------+------------------+-------------------------+-------------------+----------------------+ | CentOS Stream 10 | PASS | SKIPPED | SKIPPED | SKIPPED | SKIPPED | SKIPPED | +---------------------+--------------------+-------------------+------------------+-------------------------+-------------------+----------------------+ | Debian Bullseye | PASS | PASS | SKIPPED | SKIPPED | SKIPPED | SKIPPED | +---------------------+--------------------+-------------------+------------------+-------------------------+-------------------+----------------------+ | Debian 12 | PASS | PASS | SKIPPED | SKIPPED | SKIPPED | SKIPPED | +---------------------+--------------------+-------------------+------------------+-------------------------+-------------------+----------------------+ | Fedora 40 (Clang) | PASS | PASS | SKIPPED | SKIPPED | SKIPPED | SKIPPED | +---------------------+--------------------+-------------------+------------------+-------------------------+-------------------+----------------------+ | Fedora 40 | PASS | PASS | SKIPPED | SKIPPED | SKIPPED | SKIPPED | +---------------------+--------------------+-------------------+------------------+-------------------------+-------------------+----------------------+ | Fedora 41 (Clang) | PASS | PASS | PASS | SKIPPED | SKIPPED | SKIPPED | +---------------------+--------------------+-------------------+------------------+-------------------------+-------------------+----------------------+ | Fedora 41 | PASS | PASS | PASS | SKIPPED | SKIPPED | SKIPPED | +---------------------+--------------------+-------------------+------------------+-------------------------+-------------------+----------------------+ | RHEL9 | PASS | SKIPPED | SKIPPED | SKIPPED | SKIPPED | SKIPPED | +---------------------+--------------------+-------------------+------------------+-------------------------+-------------------+----------------------+ | RHEL8 | PASS | SKIPPED | SKIPPED | SKIPPED | SKIPPED | SKIPPED | +---------------------+--------------------+-------------------+------------------+-------------------------+-------------------+----------------------+ | openSUSE Leap 15 | PASS | SKIPPED | SKIPPED | SKIPPED | SKIPPED | SKIPPED | +---------------------+--------------------+-------------------+------------------+-------------------------+-------------------+----------------------+ | Ubuntu 20.04 | PASS | SKIPPED | SKIPPED | SKIPPED | SKIPPED | SKIPPED | +---------------------+--------------------+-------------------+------------------+-------------------------+-------------------+----------------------+ | Ubuntu 22.04 | PASS | PASS | SKIPPED | SKIPPED | SKIPPED | SKIPPED | +---------------------+--------------------+-------------------+------------------+-------------------------+-------------------+----------------------+ | Ubuntu 24.04 | PASS | PASS | PASS | SKIPPED | SKIPPED | SKIPPED | +---------------------+--------------------+-------------------+------------------+-------------------------+-------------------+----------------------+ | Alpine | PASS | SKIPPED | SKIPPED | SKIPPED | SKIPPED | SKIPPED | +---------------------+--------------------+-------------------+------------------+-------------------------+-------------------+----------------------+ | FreeBSD 14.2 | PASS | SKIPPED | SKIPPED | SKIPPED | SKIPPED | SKIPPED | +---------------------+--------------------+-------------------+------------------+-------------------------+-------------------+----------------------+ | FreeBSD 13.4 | PASS | SKIPPED | SKIPPED | SKIPPED | SKIPPED | SKIPPED | +---------------------+--------------------+-------------------+------------------+-------------------------+-------------------+----------------------+ | Windows Server 2022 | SKIPPED | SKIPPED | SKIPPED | PASS | PASS | PASS | +---------------------+--------------------+-------------------+------------------+-------------------------+-------------------+----------------------+ CentOS Stream 9 Kernel: Depends on container host Compiler: gcc 11.5.0 20240719 (Red Hat 11.5.0-2) CentOS Stream 10 Kernel: Depends on container host Compiler: gcc 14.2.1 20241104 (Red Hat 14.2.1-6) Debian Bullseye Kernel: Depends on container host Compiler: gcc (Debian 10.2.1-6) 10.2.1 20210110 Debian 12 Kernel: Depends on container host Compiler: gcc (Debian 12.2.0-14) 12.2.0 Fedora 40 (Clang) Kernel: Depends on container host Compiler: clang 18.1.8 (Fedora 18.1.8-1.fc40) Fedora 40 Kernel: Depends on container host Compiler: gcc 14.2.1 20240912 (Red Hat 14.2.1-3) Fedora 41 (Clang) Kernel: Depends on container host Compiler: clang 19.1.5 (Fedora 19.1.5-1.fc41) Fedora 41 Kernel: Depends on container host Compiler: gcc 14.2.1 20240912 (Red Hat 14.2.1-3) RHEL9 Kernel: Depends on container host Compiler: gcc 11.5.0 20240719 (Red Hat 11.5.0-2) RHEL8 Kernel: Depends on container host Compiler: gcc 8.5.0 20210514 (Red Hat 8.5.0-22) openSUSE Leap 15 Kernel: Depends on container host Compiler: gcc (SUSE Linux) 7.5.0 Ubuntu 20.04 Kernel: Depends on container host Compiler: gcc (Ubuntu 9.4.0-1ubuntu1~20.04.2) 9.4.0 Ubuntu 22.04 Kernel: Depends on container host Compiler: gcc (Ubuntu 11.4.0-1ubuntu1~22.04) 11.4.0 Ubuntu 24.04 Kernel: Depends on container host Compiler: gcc (Ubuntu 13.3.0-6ubuntu2~24.04) 13.3.0 Alpine Kernel: Depends on container host Compiler: gcc (Alpine 14.2.0) 14.2.0 FreeBSD 14.2 Kernel: 14.2-RELEASE Compiler: clang 18.1.6 FreeBSD 13.4 Kernel: 13.4-RELEASE-p1 Compiler: clang 18.1.6 Windows Server 2022 Kernel: 10.0.20348.2031 Compiler: clang 15.0.7, gcc 14.1.0 (MinGW), and MSVC VS 19.39.33521 To view detailed results, visit: https://lab.dpdk.org/results/dashboard/patchsets/32578/ UNH-IOL DPDK Community Lab To manage your email subscriptions, visit: https://lab.dpdk.org/results/dashboard/preferences/subscriptions/