automatic DPDK test reports
 help / color / mirror / Atom feed
* |PENDING| [GIT MASTER] e5176f23ae8b31437c3e5eb875c81f95bf3a9942
@ 2025-02-14  1:16 dpdklab
  0 siblings, 0 replies; 9+ messages in thread
From: dpdklab @ 2025-02-14  1:16 UTC (permalink / raw)
  To: Test Report; +Cc: dpdk-test-reports

_Testing pending_

Branch: dpdk

e5176f23ae8b31437c3e5eb875c81f95bf3a9942 --> testing pending

Upstream job id: Generic-Unit-Test-DPDK#314848

Test environment and result as below:

+-----------------------------+----------------+--------------+------------------------------+---------------------------+
|         Environment         | dpdk_unit_test | lpm_autotest | cryptodev_sw_snow3g_autotest | cryptodev_sw_zuc_autotest |
+=============================+================+==============+==============================+===========================+
| 32-bit Ubuntu 22.04.4 (ARM) | PEND           | SKIPPED      | SKIPPED                      | SKIPPED                   |
+-----------------------------+----------------+--------------+------------------------------+---------------------------+
| CentOS Stream 10 (ARM)      | PEND           | SKIPPED      | SKIPPED                      | SKIPPED                   |
+-----------------------------+----------------+--------------+------------------------------+---------------------------+
| CentOS Stream 9 (ARM)       | PEND           | SKIPPED      | SKIPPED                      | SKIPPED                   |
+-----------------------------+----------------+--------------+------------------------------+---------------------------+
| Debian 12 (arm)             | PEND           | SKIPPED      | PEND                         | PASS                      |
+-----------------------------+----------------+--------------+------------------------------+---------------------------+
| Fedora 40 (ARM Clang)       | PEND           | SKIPPED      | SKIPPED                      | SKIPPED                   |
+-----------------------------+----------------+--------------+------------------------------+---------------------------+
| Fedora 41 (ARM)             | PEND           | SKIPPED      | SKIPPED                      | SKIPPED                   |
+-----------------------------+----------------+--------------+------------------------------+---------------------------+
| Fedora 40 (ARM)             | PEND           | SKIPPED      | SKIPPED                      | SKIPPED                   |
+-----------------------------+----------------+--------------+------------------------------+---------------------------+
| Fedora 41 (ARM Clang)       | PEND           | SKIPPED      | SKIPPED                      | SKIPPED                   |
+-----------------------------+----------------+--------------+------------------------------+---------------------------+
| RHEL9 (ARM)                 | PEND           | SKIPPED      | SKIPPED                      | SKIPPED                   |
+-----------------------------+----------------+--------------+------------------------------+---------------------------+
| Ubuntu 20.04 (ARM)          | PEND           | SKIPPED      | SKIPPED                      | SKIPPED                   |
+-----------------------------+----------------+--------------+------------------------------+---------------------------+
| Ubuntu 22.04 (ARM)          | PEND           | SKIPPED      | SKIPPED                      | SKIPPED                   |
+-----------------------------+----------------+--------------+------------------------------+---------------------------+
| Ubuntu 24.04 (ARM)          | PEND           | SKIPPED      | SKIPPED                      | SKIPPED                   |
+-----------------------------+----------------+--------------+------------------------------+---------------------------+
| Debian 11 (Buster) (ARM)    | PEND           | SKIPPED      | SKIPPED                      | SKIPPED                   |
+-----------------------------+----------------+--------------+------------------------------+---------------------------+
| Ubuntu 20.04 ARM SVE        | SKIPPED        | PEND         | SKIPPED                      | SKIPPED                   |
+-----------------------------+----------------+--------------+------------------------------+---------------------------+


32-bit Ubuntu 22.04.4 (ARM)
	Kernel: 5.15.83+ aarch64
	Compiler: gcc (Ubuntu 11.4.0-1ubuntu1~22.04) 11.4.0

CentOS Stream 10 (ARM)
	Kernel: Depends on container host
	Compiler: gcc 14.2.1 20241104 (Red Hat 14.2.1-6)

CentOS Stream 9 (ARM)
	Kernel: Depends on container host
	Compiler: gcc 11.5.0 20240719 (Red Hat 11.5.0-2)

Debian 12 (arm)
	Kernel: Depends on container host
	Compiler: gcc (Debian 12.2.0-14) 12.2.0

Fedora 40 (ARM Clang)
	Kernel: Depends on container host
	Compiler: clang 18.1.8 (Fedora 18.1.8-1.fc40)

Fedora 41 (ARM)
	Kernel: Depends on container host
	Compiler: gcc 14.2.1 20240912 (Red Hat 14.2.1-3)

Fedora 40 (ARM)
	Kernel: Depends on container host
	Compiler: gcc 14.2.1 20240912 (Red Hat 14.2.1-3)

Fedora 41 (ARM Clang)
	Kernel: Depends on container host
	Compiler: clang 19.1.5 (Fedora 19.1.5-1.fc41)

RHEL9 (ARM)
	Kernel: Depends on container host
	Compiler: gcc 11.5.0 20240719 (Red Hat 11.5.0-2)

Ubuntu 20.04 (ARM)
	Kernel: Depends on container host
	Compiler: gcc (Ubuntu 9.4.0-1ubuntu1~20.04.2) 9.4.0

Ubuntu 22.04 (ARM)
	Kernel: Depends on container host
	Compiler: gcc (Ubuntu 11.4.0-1ubuntu1~22.04) 11.4.0

Ubuntu 24.04 (ARM)
	Kernel: Depends on container host
	Compiler: gcc (Ubuntu 13.3.0-6ubuntu2~24.04) 13.3.0

Debian 11 (Buster) (ARM)
	Kernel: Depends on container host
	Compiler: gcc (Debian 10.2.1-6) 10.2.1 20210110

Ubuntu 20.04 ARM SVE
	Kernel: Depends on container host
	Compiler: gcc (Ubuntu 10.5.0-1ubuntu1~20.04) 10.5.0

To view detailed results, visit:
https://lab.dpdk.org/results/dashboard/tarballs/32572/

UNH-IOL DPDK Community Lab

To manage your email subscriptions, visit: 
https://lab.dpdk.org/results/dashboard/preferences/subscriptions/

^ permalink raw reply	[flat|nested] 9+ messages in thread

* |PENDING| [GIT MASTER] e5176f23ae8b31437c3e5eb875c81f95bf3a9942
@ 2025-02-18  2:03 dpdklab
  0 siblings, 0 replies; 9+ messages in thread
From: dpdklab @ 2025-02-18  2:03 UTC (permalink / raw)
  To: Test Report; +Cc: dpdk-test-reports

_Testing pending_

Branch: dpdk

e5176f23ae8b31437c3e5eb875c81f95bf3a9942 --> testing pending

Upstream job id: Generic-DPDK-Compile-Meson#362384

Test environment and result as below:

+------------------------------------+--------------------+
|            Environment             | dpdk_meson_compile |
+====================================+====================+
| RHEL9 (ARM)                        | PEND               |
+------------------------------------+--------------------+
| Ubuntu 20.04 ARM SVE               | PASS               |
+------------------------------------+--------------------+
| Ubuntu 20.04 ARM GCC Cross Compile | PEND               |
+------------------------------------+--------------------+
| Fedora 40 (ARM Clang)              | PEND               |
+------------------------------------+--------------------+
| Debian 12 with MUSDK               | PEND               |
+------------------------------------+--------------------+
| Fedora 40 (ARM)                    | PEND               |
+------------------------------------+--------------------+
| Fedora 41 (ARM)                    | PEND               |
+------------------------------------+--------------------+
| Fedora 41 (ARM Clang)              | PEND               |
+------------------------------------+--------------------+
| Ubuntu 20.04 (ARM)                 | PEND               |
+------------------------------------+--------------------+


RHEL9 (ARM)
	Kernel: Depends on container host
	Compiler: gcc 11.5.0 20240719 (Red Hat 11.5.0-2)

Ubuntu 20.04 ARM SVE
	Kernel: Depends on container host
	Compiler: gcc (Ubuntu 10.5.0-1ubuntu1~20.04) 10.5.0

Ubuntu 20.04 ARM GCC Cross Compile
	Kernel: Depends on container host
	Compiler: aarch64-linux-gnu-gcc (Ubuntu 9.4.0-1ubuntu1~20.04.2) 9.4.0

Fedora 40 (ARM Clang)
	Kernel: Depends on container host
	Compiler: clang 18.1.8 (Fedora 18.1.8-1.fc40)

Debian 12 with MUSDK
	Kernel: Depends on container host
	Compiler: gcc (Debian 12.2.0-14) 12.2.0

Fedora 40 (ARM)
	Kernel: Depends on container host
	Compiler: gcc 14.2.1 20240912 (Red Hat 14.2.1-3)

Fedora 41 (ARM)
	Kernel: Depends on container host
	Compiler: gcc 14.2.1 20240912 (Red Hat 14.2.1-3)

Fedora 41 (ARM Clang)
	Kernel: Depends on container host
	Compiler: clang 19.1.5 (Fedora 19.1.5-1.fc41)

Ubuntu 20.04 (ARM)
	Kernel: Depends on container host
	Compiler: gcc (Ubuntu 9.4.0-1ubuntu1~20.04.2) 9.4.0

To view detailed results, visit:
https://lab.dpdk.org/results/dashboard/tarballs/32601/

UNH-IOL DPDK Community Lab

To manage your email subscriptions, visit: 
https://lab.dpdk.org/results/dashboard/preferences/subscriptions/

^ permalink raw reply	[flat|nested] 9+ messages in thread

* |PENDING| [GIT MASTER] e5176f23ae8b31437c3e5eb875c81f95bf3a9942
@ 2025-02-18  1:39 dpdklab
  0 siblings, 0 replies; 9+ messages in thread
From: dpdklab @ 2025-02-18  1:39 UTC (permalink / raw)
  To: Test Report; +Cc: dpdk-test-reports

_Testing pending_

Branch: dpdk

e5176f23ae8b31437c3e5eb875c81f95bf3a9942 --> testing pending

Upstream job id: Template-DTS-Pipeline#212984

Test environment and result as below:

+--------------------+----------------------+----------------------+
|    Environment     | dpdk_fips_validation | compressdev_zlib_pmd |
+====================+======================+======================+
| Ubuntu 20.04       | PEND                 | SKIPPED              |
+--------------------+----------------------+----------------------+
| Ubuntu 22.04 (ARM) | SKIPPED              | PASS                 |
+--------------------+----------------------+----------------------+


Ubuntu 20.04
	Kernel: Depends on container host
	Compiler: gcc (Ubuntu 9.4.0-1ubuntu1~20.04.2) 9.4.0

Ubuntu 22.04 (ARM)
	Kernel: 5.15.0-97-generic
	Compiler: gcc gcc (Ubuntu 11.4.0-1ubuntu1~22.04) 11.4.0

To view detailed results, visit:
https://lab.dpdk.org/results/dashboard/tarballs/32601/

UNH-IOL DPDK Community Lab

To manage your email subscriptions, visit: 
https://lab.dpdk.org/results/dashboard/preferences/subscriptions/

^ permalink raw reply	[flat|nested] 9+ messages in thread

* |PENDING| [GIT MASTER] e5176f23ae8b31437c3e5eb875c81f95bf3a9942
@ 2025-02-18  1:28 dpdklab
  0 siblings, 0 replies; 9+ messages in thread
From: dpdklab @ 2025-02-18  1:28 UTC (permalink / raw)
  To: Test Report; +Cc: dpdk-test-reports

_Testing pending_

Branch: dpdk

e5176f23ae8b31437c3e5eb875c81f95bf3a9942 --> testing pending

Upstream job id: Generic-Unit-Test-DPDK#315607

Test environment and result as below:

+---------------------+----------------+
|     Environment     | dpdk_unit_test |
+=====================+================+
| Arch Linux          | PEND           |
+---------------------+----------------+
| CentOS Stream 10    | PASS           |
+---------------------+----------------+
| Fedora 41           | PEND           |
+---------------------+----------------+
| CentOS Stream 9     | PEND           |
+---------------------+----------------+
| RHEL8               | PEND           |
+---------------------+----------------+
| Debian 12           | PEND           |
+---------------------+----------------+
| Fedora 40           | PEND           |
+---------------------+----------------+
| Debian Bullseye     | PEND           |
+---------------------+----------------+
| RHEL9               | PEND           |
+---------------------+----------------+
| Fedora 40 (Clang)   | PEND           |
+---------------------+----------------+
| Fedora 41 (Clang)   | PEND           |
+---------------------+----------------+
| Ubuntu 20.04        | PEND           |
+---------------------+----------------+
| Ubuntu 24.04        | PEND           |
+---------------------+----------------+
| Ubuntu 22.04        | PEND           |
+---------------------+----------------+
| Windows Server 2022 | PEND           |
+---------------------+----------------+


Arch Linux
	Kernel: Depends on container host
	Compiler: gcc 14.2.1 20240910

CentOS Stream 10
	Kernel: Depends on container host
	Compiler: gcc 14.2.1 20241104 (Red Hat 14.2.1-6)

Fedora 41
	Kernel: Depends on container host
	Compiler: gcc 14.2.1 20240912 (Red Hat 14.2.1-3)

CentOS Stream 9
	Kernel: Depends on container host
	Compiler: gcc 11.5.0 20240719 (Red Hat 11.5.0-2)

RHEL8
	Kernel: Depends on container host
	Compiler: gcc 8.5.0 20210514 (Red Hat 8.5.0-22)

Debian 12
	Kernel: Depends on container host
	Compiler: gcc (Debian 12.2.0-14) 12.2.0

Fedora 40
	Kernel: Depends on container host
	Compiler: gcc 14.2.1 20240912 (Red Hat 14.2.1-3)

Debian Bullseye
	Kernel: Depends on container host
	Compiler: gcc (Debian 10.2.1-6) 10.2.1 20210110

RHEL9
	Kernel: Depends on container host
	Compiler: gcc 11.5.0 20240719 (Red Hat 11.5.0-2)

Fedora 40 (Clang)
	Kernel: Depends on container host
	Compiler: clang 18.1.8 (Fedora 18.1.8-1.fc40)

Fedora 41 (Clang)
	Kernel: Depends on container host
	Compiler: clang 19.1.5 (Fedora 19.1.5-1.fc41)

Ubuntu 20.04
	Kernel: Depends on container host
	Compiler: gcc (Ubuntu 9.4.0-1ubuntu1~20.04.2) 9.4.0

Ubuntu 24.04
	Kernel: Depends on container host
	Compiler: gcc (Ubuntu 13.3.0-6ubuntu2~24.04) 13.3.0

Ubuntu 22.04
	Kernel: Depends on container host
	Compiler: gcc (Ubuntu 11.4.0-1ubuntu1~22.04) 11.4.0

Windows Server 2022
	Kernel: 10.0.20348.2031
	Compiler: clang 15.0.7, gcc 14.1.0 (MinGW), and MSVC VS 19.39.33521

To view detailed results, visit:
https://lab.dpdk.org/results/dashboard/tarballs/32601/

UNH-IOL DPDK Community Lab

To manage your email subscriptions, visit: 
https://lab.dpdk.org/results/dashboard/preferences/subscriptions/

^ permalink raw reply	[flat|nested] 9+ messages in thread

* |PENDING| [GIT MASTER] e5176f23ae8b31437c3e5eb875c81f95bf3a9942
@ 2025-02-18  1:26 dpdklab
  0 siblings, 0 replies; 9+ messages in thread
From: dpdklab @ 2025-02-18  1:26 UTC (permalink / raw)
  To: Test Report; +Cc: dpdk-test-reports

_Testing pending_

Branch: dpdk

e5176f23ae8b31437c3e5eb875c81f95bf3a9942 --> testing pending

Upstream job id: Generic-Unit-Test-DPDK#315602

Test environment and result as below:

+-----------------------------+----------------+------------------------------+---------------------------+--------------+
|         Environment         | dpdk_unit_test | cryptodev_sw_snow3g_autotest | cryptodev_sw_zuc_autotest | lpm_autotest |
+=============================+================+==============================+===========================+==============+
| 32-bit Ubuntu 22.04.4 (ARM) | PEND           | SKIPPED                      | SKIPPED                   | SKIPPED      |
+-----------------------------+----------------+------------------------------+---------------------------+--------------+
| CentOS Stream 10 (ARM)      | PEND           | SKIPPED                      | SKIPPED                   | SKIPPED      |
+-----------------------------+----------------+------------------------------+---------------------------+--------------+
| CentOS Stream 9 (ARM)       | PEND           | SKIPPED                      | SKIPPED                   | SKIPPED      |
+-----------------------------+----------------+------------------------------+---------------------------+--------------+
| Fedora 40 (ARM)             | PEND           | SKIPPED                      | SKIPPED                   | SKIPPED      |
+-----------------------------+----------------+------------------------------+---------------------------+--------------+
| Debian 11 (Buster) (ARM)    | PEND           | SKIPPED                      | SKIPPED                   | SKIPPED      |
+-----------------------------+----------------+------------------------------+---------------------------+--------------+
| Fedora 41 (ARM)             | PEND           | SKIPPED                      | SKIPPED                   | SKIPPED      |
+-----------------------------+----------------+------------------------------+---------------------------+--------------+
| Fedora 41 (ARM Clang)       | PEND           | SKIPPED                      | SKIPPED                   | SKIPPED      |
+-----------------------------+----------------+------------------------------+---------------------------+--------------+
| Fedora 40 (ARM Clang)       | PEND           | SKIPPED                      | SKIPPED                   | SKIPPED      |
+-----------------------------+----------------+------------------------------+---------------------------+--------------+
| Debian 12 (arm)             | PEND           | PEND                         | PASS                      | SKIPPED      |
+-----------------------------+----------------+------------------------------+---------------------------+--------------+
| Ubuntu 22.04 (ARM)          | PEND           | SKIPPED                      | SKIPPED                   | SKIPPED      |
+-----------------------------+----------------+------------------------------+---------------------------+--------------+
| Ubuntu 20.04 (ARM)          | PEND           | SKIPPED                      | SKIPPED                   | SKIPPED      |
+-----------------------------+----------------+------------------------------+---------------------------+--------------+
| RHEL9 (ARM)                 | PEND           | SKIPPED                      | SKIPPED                   | SKIPPED      |
+-----------------------------+----------------+------------------------------+---------------------------+--------------+
| Ubuntu 24.04 (ARM)          | PEND           | SKIPPED                      | SKIPPED                   | SKIPPED      |
+-----------------------------+----------------+------------------------------+---------------------------+--------------+
| Ubuntu 20.04 ARM SVE        | SKIPPED        | SKIPPED                      | SKIPPED                   | PEND         |
+-----------------------------+----------------+------------------------------+---------------------------+--------------+


32-bit Ubuntu 22.04.4 (ARM)
	Kernel: 5.15.83+ aarch64
	Compiler: gcc (Ubuntu 11.4.0-1ubuntu1~22.04) 11.4.0

CentOS Stream 10 (ARM)
	Kernel: Depends on container host
	Compiler: gcc 14.2.1 20241104 (Red Hat 14.2.1-6)

CentOS Stream 9 (ARM)
	Kernel: Depends on container host
	Compiler: gcc 11.5.0 20240719 (Red Hat 11.5.0-2)

Fedora 40 (ARM)
	Kernel: Depends on container host
	Compiler: gcc 14.2.1 20240912 (Red Hat 14.2.1-3)

Debian 11 (Buster) (ARM)
	Kernel: Depends on container host
	Compiler: gcc (Debian 10.2.1-6) 10.2.1 20210110

Fedora 41 (ARM)
	Kernel: Depends on container host
	Compiler: gcc 14.2.1 20240912 (Red Hat 14.2.1-3)

Fedora 41 (ARM Clang)
	Kernel: Depends on container host
	Compiler: clang 19.1.5 (Fedora 19.1.5-1.fc41)

Fedora 40 (ARM Clang)
	Kernel: Depends on container host
	Compiler: clang 18.1.8 (Fedora 18.1.8-1.fc40)

Debian 12 (arm)
	Kernel: Depends on container host
	Compiler: gcc (Debian 12.2.0-14) 12.2.0

Ubuntu 22.04 (ARM)
	Kernel: Depends on container host
	Compiler: gcc (Ubuntu 11.4.0-1ubuntu1~22.04) 11.4.0

Ubuntu 20.04 (ARM)
	Kernel: Depends on container host
	Compiler: gcc (Ubuntu 9.4.0-1ubuntu1~20.04.2) 9.4.0

RHEL9 (ARM)
	Kernel: Depends on container host
	Compiler: gcc 11.5.0 20240719 (Red Hat 11.5.0-2)

Ubuntu 24.04 (ARM)
	Kernel: Depends on container host
	Compiler: gcc (Ubuntu 13.3.0-6ubuntu2~24.04) 13.3.0

Ubuntu 20.04 ARM SVE
	Kernel: Depends on container host
	Compiler: gcc (Ubuntu 10.5.0-1ubuntu1~20.04) 10.5.0

To view detailed results, visit:
https://lab.dpdk.org/results/dashboard/tarballs/32601/

UNH-IOL DPDK Community Lab

To manage your email subscriptions, visit: 
https://lab.dpdk.org/results/dashboard/preferences/subscriptions/

^ permalink raw reply	[flat|nested] 9+ messages in thread

* |PENDING| [GIT MASTER] e5176f23ae8b31437c3e5eb875c81f95bf3a9942
@ 2025-02-16  1:33 dpdklab
  0 siblings, 0 replies; 9+ messages in thread
From: dpdklab @ 2025-02-16  1:33 UTC (permalink / raw)
  To: Test Report; +Cc: dpdk-test-reports

_Testing pending_

Branch: dpdk

e5176f23ae8b31437c3e5eb875c81f95bf3a9942 --> testing pending

Upstream job id: Generic-Unit-Test-DPDK#315220

Test environment and result as below:

+-------------------+----------------+
|    Environment    | dpdk_unit_test |
+===================+================+
| CentOS Stream 9   | PASS           |
+-------------------+----------------+
| Debian Bullseye   | PEND           |
+-------------------+----------------+
| CentOS Stream 10  | PEND           |
+-------------------+----------------+
| Debian 12         | PEND           |
+-------------------+----------------+
| Arch Linux        | PEND           |
+-------------------+----------------+
| Fedora 40         | PEND           |
+-------------------+----------------+
| Fedora 40 (Clang) | PEND           |
+-------------------+----------------+
| Fedora 41         | PEND           |
+-------------------+----------------+
| Fedora 41 (Clang) | PEND           |
+-------------------+----------------+
| RHEL8             | PEND           |
+-------------------+----------------+
| Ubuntu 20.04      | PEND           |
+-------------------+----------------+
| RHEL9             | PEND           |
+-------------------+----------------+
| Ubuntu 22.04      | PEND           |
+-------------------+----------------+
| Ubuntu 24.04      | PEND           |
+-------------------+----------------+


CentOS Stream 9
	Kernel: Depends on container host
	Compiler: gcc 11.5.0 20240719 (Red Hat 11.5.0-2)

Debian Bullseye
	Kernel: Depends on container host
	Compiler: gcc (Debian 10.2.1-6) 10.2.1 20210110

CentOS Stream 10
	Kernel: Depends on container host
	Compiler: gcc 14.2.1 20241104 (Red Hat 14.2.1-6)

Debian 12
	Kernel: Depends on container host
	Compiler: gcc (Debian 12.2.0-14) 12.2.0

Arch Linux
	Kernel: Depends on container host
	Compiler: gcc 14.2.1 20240910

Fedora 40
	Kernel: Depends on container host
	Compiler: gcc 14.2.1 20240912 (Red Hat 14.2.1-3)

Fedora 40 (Clang)
	Kernel: Depends on container host
	Compiler: clang 18.1.8 (Fedora 18.1.8-1.fc40)

Fedora 41
	Kernel: Depends on container host
	Compiler: gcc 14.2.1 20240912 (Red Hat 14.2.1-3)

Fedora 41 (Clang)
	Kernel: Depends on container host
	Compiler: clang 19.1.5 (Fedora 19.1.5-1.fc41)

RHEL8
	Kernel: Depends on container host
	Compiler: gcc 8.5.0 20210514 (Red Hat 8.5.0-22)

Ubuntu 20.04
	Kernel: Depends on container host
	Compiler: gcc (Ubuntu 9.4.0-1ubuntu1~20.04.2) 9.4.0

RHEL9
	Kernel: Depends on container host
	Compiler: gcc 11.5.0 20240719 (Red Hat 11.5.0-2)

Ubuntu 22.04
	Kernel: Depends on container host
	Compiler: gcc (Ubuntu 11.4.0-1ubuntu1~22.04) 11.4.0

Ubuntu 24.04
	Kernel: Depends on container host
	Compiler: gcc (Ubuntu 13.3.0-6ubuntu2~24.04) 13.3.0

To view detailed results, visit:
https://lab.dpdk.org/results/dashboard/tarballs/32586/

UNH-IOL DPDK Community Lab

To manage your email subscriptions, visit: 
https://lab.dpdk.org/results/dashboard/preferences/subscriptions/

^ permalink raw reply	[flat|nested] 9+ messages in thread

* |PENDING| [GIT MASTER] e5176f23ae8b31437c3e5eb875c81f95bf3a9942
@ 2025-02-16  1:22 dpdklab
  0 siblings, 0 replies; 9+ messages in thread
From: dpdklab @ 2025-02-16  1:22 UTC (permalink / raw)
  To: Test Report; +Cc: dpdk-test-reports

_Testing pending_

Branch: dpdk

e5176f23ae8b31437c3e5eb875c81f95bf3a9942 --> testing pending

Upstream job id: Generic-Unit-Test-DPDK#315218

Test environment and result as below:

+-----------------------------+----------------+--------------+---------------------------+------------------------------+
|         Environment         | dpdk_unit_test | lpm_autotest | cryptodev_sw_zuc_autotest | cryptodev_sw_snow3g_autotest |
+=============================+================+==============+===========================+==============================+
| 32-bit Ubuntu 22.04.4 (ARM) | PEND           | SKIPPED      | SKIPPED                   | SKIPPED                      |
+-----------------------------+----------------+--------------+---------------------------+------------------------------+
| CentOS Stream 9 (ARM)       | PEND           | SKIPPED      | SKIPPED                   | SKIPPED                      |
+-----------------------------+----------------+--------------+---------------------------+------------------------------+
| CentOS Stream 10 (ARM)      | PEND           | SKIPPED      | SKIPPED                   | SKIPPED                      |
+-----------------------------+----------------+--------------+---------------------------+------------------------------+
| Debian 11 (Buster) (ARM)    | PEND           | SKIPPED      | SKIPPED                   | SKIPPED                      |
+-----------------------------+----------------+--------------+---------------------------+------------------------------+
| Fedora 40 (ARM)             | PEND           | SKIPPED      | SKIPPED                   | SKIPPED                      |
+-----------------------------+----------------+--------------+---------------------------+------------------------------+
| Debian 12 (arm)             | PEND           | SKIPPED      | PEND                      | PASS                         |
+-----------------------------+----------------+--------------+---------------------------+------------------------------+
| Fedora 41 (ARM)             | PEND           | SKIPPED      | SKIPPED                   | SKIPPED                      |
+-----------------------------+----------------+--------------+---------------------------+------------------------------+
| Fedora 40 (ARM Clang)       | PEND           | SKIPPED      | SKIPPED                   | SKIPPED                      |
+-----------------------------+----------------+--------------+---------------------------+------------------------------+
| Fedora 41 (ARM Clang)       | PEND           | SKIPPED      | SKIPPED                   | SKIPPED                      |
+-----------------------------+----------------+--------------+---------------------------+------------------------------+
| Ubuntu 20.04 (ARM)          | PEND           | SKIPPED      | SKIPPED                   | SKIPPED                      |
+-----------------------------+----------------+--------------+---------------------------+------------------------------+
| RHEL9 (ARM)                 | PEND           | SKIPPED      | SKIPPED                   | SKIPPED                      |
+-----------------------------+----------------+--------------+---------------------------+------------------------------+
| Ubuntu 24.04 (ARM)          | PEND           | SKIPPED      | SKIPPED                   | SKIPPED                      |
+-----------------------------+----------------+--------------+---------------------------+------------------------------+
| Ubuntu 22.04 (ARM)          | PEND           | SKIPPED      | SKIPPED                   | SKIPPED                      |
+-----------------------------+----------------+--------------+---------------------------+------------------------------+
| Ubuntu 20.04 ARM SVE        | SKIPPED        | PEND         | SKIPPED                   | SKIPPED                      |
+-----------------------------+----------------+--------------+---------------------------+------------------------------+


32-bit Ubuntu 22.04.4 (ARM)
	Kernel: 5.15.83+ aarch64
	Compiler: gcc (Ubuntu 11.4.0-1ubuntu1~22.04) 11.4.0

CentOS Stream 9 (ARM)
	Kernel: Depends on container host
	Compiler: gcc 11.5.0 20240719 (Red Hat 11.5.0-2)

CentOS Stream 10 (ARM)
	Kernel: Depends on container host
	Compiler: gcc 14.2.1 20241104 (Red Hat 14.2.1-6)

Debian 11 (Buster) (ARM)
	Kernel: Depends on container host
	Compiler: gcc (Debian 10.2.1-6) 10.2.1 20210110

Fedora 40 (ARM)
	Kernel: Depends on container host
	Compiler: gcc 14.2.1 20240912 (Red Hat 14.2.1-3)

Debian 12 (arm)
	Kernel: Depends on container host
	Compiler: gcc (Debian 12.2.0-14) 12.2.0

Fedora 41 (ARM)
	Kernel: Depends on container host
	Compiler: gcc 14.2.1 20240912 (Red Hat 14.2.1-3)

Fedora 40 (ARM Clang)
	Kernel: Depends on container host
	Compiler: clang 18.1.8 (Fedora 18.1.8-1.fc40)

Fedora 41 (ARM Clang)
	Kernel: Depends on container host
	Compiler: clang 19.1.5 (Fedora 19.1.5-1.fc41)

Ubuntu 20.04 (ARM)
	Kernel: Depends on container host
	Compiler: gcc (Ubuntu 9.4.0-1ubuntu1~20.04.2) 9.4.0

RHEL9 (ARM)
	Kernel: Depends on container host
	Compiler: gcc 11.5.0 20240719 (Red Hat 11.5.0-2)

Ubuntu 24.04 (ARM)
	Kernel: Depends on container host
	Compiler: gcc (Ubuntu 13.3.0-6ubuntu2~24.04) 13.3.0

Ubuntu 22.04 (ARM)
	Kernel: Depends on container host
	Compiler: gcc (Ubuntu 11.4.0-1ubuntu1~22.04) 11.4.0

Ubuntu 20.04 ARM SVE
	Kernel: Depends on container host
	Compiler: gcc (Ubuntu 10.5.0-1ubuntu1~20.04) 10.5.0

To view detailed results, visit:
https://lab.dpdk.org/results/dashboard/tarballs/32586/

UNH-IOL DPDK Community Lab

To manage your email subscriptions, visit: 
https://lab.dpdk.org/results/dashboard/preferences/subscriptions/

^ permalink raw reply	[flat|nested] 9+ messages in thread

* |PENDING| [GIT MASTER] e5176f23ae8b31437c3e5eb875c81f95bf3a9942
@ 2025-02-14  1:35 dpdklab
  0 siblings, 0 replies; 9+ messages in thread
From: dpdklab @ 2025-02-14  1:35 UTC (permalink / raw)
  To: Test Report; +Cc: dpdk-test-reports

_Testing pending_

Branch: dpdk

e5176f23ae8b31437c3e5eb875c81f95bf3a9942 --> testing pending

Upstream job id: Generic-DPDK-Compile-ABI#116127

Test environment and result as below:

+-------------------+----------+
|    Environment    | abi_test |
+===================+==========+
| CentOS Stream 9   | PASS     |
+-------------------+----------+
| CentOS Stream 10  | PEND     |
+-------------------+----------+
| Debian Bullseye   | PEND     |
+-------------------+----------+
| Fedora 40         | PEND     |
+-------------------+----------+
| Debian 12         | PEND     |
+-------------------+----------+
| Fedora 40 (Clang) | PEND     |
+-------------------+----------+
| Fedora 41 (Clang) | PEND     |
+-------------------+----------+
| openSUSE Leap 15  | PEND     |
+-------------------+----------+


CentOS Stream 9
	Kernel: Depends on container host
	Compiler: gcc 11.5.0 20240719 (Red Hat 11.5.0-2)

CentOS Stream 10
	Kernel: Depends on container host
	Compiler: gcc 14.2.1 20241104 (Red Hat 14.2.1-6)

Debian Bullseye
	Kernel: Depends on container host
	Compiler: gcc (Debian 10.2.1-6) 10.2.1 20210110

Fedora 40
	Kernel: Depends on container host
	Compiler: gcc 14.2.1 20240912 (Red Hat 14.2.1-3)

Debian 12
	Kernel: Depends on container host
	Compiler: gcc (Debian 12.2.0-14) 12.2.0

Fedora 40 (Clang)
	Kernel: Depends on container host
	Compiler: clang 18.1.8 (Fedora 18.1.8-1.fc40)

Fedora 41 (Clang)
	Kernel: Depends on container host
	Compiler: clang 19.1.5 (Fedora 19.1.5-1.fc41)

openSUSE Leap 15
	Kernel: Depends on container host
	Compiler: gcc (SUSE Linux) 7.5.0

To view detailed results, visit:
https://lab.dpdk.org/results/dashboard/tarballs/32572/

UNH-IOL DPDK Community Lab

To manage your email subscriptions, visit: 
https://lab.dpdk.org/results/dashboard/preferences/subscriptions/

^ permalink raw reply	[flat|nested] 9+ messages in thread

* |PENDING| [GIT MASTER] e5176f23ae8b31437c3e5eb875c81f95bf3a9942
@ 2025-02-14  1:20 dpdklab
  0 siblings, 0 replies; 9+ messages in thread
From: dpdklab @ 2025-02-14  1:20 UTC (permalink / raw)
  To: Test Report; +Cc: dpdk-test-reports

_Testing pending_

Branch: dpdk

e5176f23ae8b31437c3e5eb875c81f95bf3a9942 --> testing pending

Upstream job id: Generic-Unit-Test-DPDK#314851

Test environment and result as below:

+---------------------+----------------+
|     Environment     | dpdk_unit_test |
+=====================+================+
| Windows Server 2022 | PEND           |
+---------------------+----------------+
| CentOS Stream 10    | PEND           |
+---------------------+----------------+
| Arch Linux          | PEND           |
+---------------------+----------------+
| CentOS Stream 9     | PASS           |
+---------------------+----------------+
| Debian Bullseye     | PEND           |
+---------------------+----------------+
| Fedora 40           | PEND           |
+---------------------+----------------+
| Debian 12           | PEND           |
+---------------------+----------------+
| Fedora 41 (Clang)   | PEND           |
+---------------------+----------------+
| Fedora 40 (Clang)   | PEND           |
+---------------------+----------------+
| Fedora 41           | PEND           |
+---------------------+----------------+
| Ubuntu 20.04        | PEND           |
+---------------------+----------------+
| RHEL8               | PEND           |
+---------------------+----------------+
| RHEL9               | PEND           |
+---------------------+----------------+
| Ubuntu 22.04        | PEND           |
+---------------------+----------------+
| Ubuntu 24.04        | PEND           |
+---------------------+----------------+


Windows Server 2022
	Kernel: 10.0.20348.2031
	Compiler: clang 15.0.7, gcc 14.1.0 (MinGW), and MSVC VS 19.39.33521

CentOS Stream 10
	Kernel: Depends on container host
	Compiler: gcc 14.2.1 20241104 (Red Hat 14.2.1-6)

Arch Linux
	Kernel: Depends on container host
	Compiler: gcc 14.2.1 20240910

CentOS Stream 9
	Kernel: Depends on container host
	Compiler: gcc 11.5.0 20240719 (Red Hat 11.5.0-2)

Debian Bullseye
	Kernel: Depends on container host
	Compiler: gcc (Debian 10.2.1-6) 10.2.1 20210110

Fedora 40
	Kernel: Depends on container host
	Compiler: gcc 14.2.1 20240912 (Red Hat 14.2.1-3)

Debian 12
	Kernel: Depends on container host
	Compiler: gcc (Debian 12.2.0-14) 12.2.0

Fedora 41 (Clang)
	Kernel: Depends on container host
	Compiler: clang 19.1.5 (Fedora 19.1.5-1.fc41)

Fedora 40 (Clang)
	Kernel: Depends on container host
	Compiler: clang 18.1.8 (Fedora 18.1.8-1.fc40)

Fedora 41
	Kernel: Depends on container host
	Compiler: gcc 14.2.1 20240912 (Red Hat 14.2.1-3)

Ubuntu 20.04
	Kernel: Depends on container host
	Compiler: gcc (Ubuntu 9.4.0-1ubuntu1~20.04.2) 9.4.0

RHEL8
	Kernel: Depends on container host
	Compiler: gcc 8.5.0 20210514 (Red Hat 8.5.0-22)

RHEL9
	Kernel: Depends on container host
	Compiler: gcc 11.5.0 20240719 (Red Hat 11.5.0-2)

Ubuntu 22.04
	Kernel: Depends on container host
	Compiler: gcc (Ubuntu 11.4.0-1ubuntu1~22.04) 11.4.0

Ubuntu 24.04
	Kernel: Depends on container host
	Compiler: gcc (Ubuntu 13.3.0-6ubuntu2~24.04) 13.3.0

To view detailed results, visit:
https://lab.dpdk.org/results/dashboard/tarballs/32572/

UNH-IOL DPDK Community Lab

To manage your email subscriptions, visit: 
https://lab.dpdk.org/results/dashboard/preferences/subscriptions/

^ permalink raw reply	[flat|nested] 9+ messages in thread

end of thread, other threads:[~2025-02-18  2:03 UTC | newest]

Thread overview: 9+ messages (download: mbox.gz / follow: Atom feed)
-- links below jump to the message on this page --
2025-02-14  1:16 |PENDING| [GIT MASTER] e5176f23ae8b31437c3e5eb875c81f95bf3a9942 dpdklab
2025-02-14  1:20 dpdklab
2025-02-14  1:35 dpdklab
2025-02-16  1:22 dpdklab
2025-02-16  1:33 dpdklab
2025-02-18  1:26 dpdklab
2025-02-18  1:28 dpdklab
2025-02-18  1:39 dpdklab
2025-02-18  2:03 dpdklab

This is a public inbox, see mirroring instructions
for how to clone and mirror all data and code used for this inbox;
as well as URLs for NNTP newsgroup(s).