From mboxrd@z Thu Jan 1 00:00:00 1970 Return-Path: Received: from mails.dpdk.org (mails.dpdk.org [217.70.189.124]) by inbox.dpdk.org (Postfix) with ESMTP id 92AA14621E for ; Fri, 14 Feb 2025 02:28:10 +0100 (CET) Received: from mails.dpdk.org (localhost [127.0.0.1]) by mails.dpdk.org (Postfix) with ESMTP id 6BFA2402AD; Fri, 14 Feb 2025 02:28:10 +0100 (CET) Received: from mail-pj1-f97.google.com (mail-pj1-f97.google.com [209.85.216.97]) by mails.dpdk.org (Postfix) with ESMTP id 048B34028E for ; Fri, 14 Feb 2025 02:28:08 +0100 (CET) Received: by mail-pj1-f97.google.com with SMTP id 98e67ed59e1d1-2fc292b3570so897055a91.1 for ; Thu, 13 Feb 2025 17:28:08 -0800 (PST) DKIM-Signature: v=1; a=rsa-sha256; c=relaxed/relaxed; d=iol.unh.edu; s=unh-iol; t=1739496488; x=1740101288; darn=dpdk.org; h=cc:to:from:subject:message-id:date:from:to:cc:subject:date :message-id:reply-to; bh=Mc5x+D1P9KABE+qjgC9flet/gOh1bXPDWHA6jTgo8Po=; b=BRi9j1FAUF1ubYyoaHVKATm+NTphUOF6e5B8yHPblsBvQkiklSvbiKnSDPBwnIKEKt I6S623QWmym1+nY2caOjX3/ymrbt4K+Nw+Pl6tfbhpCWpXR7QJ/sRf5/Uf76QRGbiMu2 4XmHBIq68rW8MjNsufc11Rmqt/n7A/lHs/Pl8= X-Google-DKIM-Signature: v=1; a=rsa-sha256; c=relaxed/relaxed; d=1e100.net; s=20230601; t=1739496488; x=1740101288; h=cc:to:from:subject:message-id:date:x-gm-message-state:from:to:cc :subject:date:message-id:reply-to; bh=Mc5x+D1P9KABE+qjgC9flet/gOh1bXPDWHA6jTgo8Po=; b=niaevIhrgeckhKQSaSkLMIyoJqjvwfQ2TvaFNeRilNEMN6yHAiagxugXQSDKsFEGwX 5H7JJpt8c0lE34xrrGpDPSyGb4CKvSq6W0gJEK5Abm8A9EI5RrjHI9Yvtcd6GGQJk2h9 PQUEih1RaAhb7snAjHePGZ+OckJLX4pmIM5gtGI/URfdu1rxOZOwsysbbOPhiD5fPbV5 jXq8cPuKhytXJpokZeQP+e/TVMRAIil8IHRKQIxZDmL8Lt8hO2uEQRnhlwxgEz71Suqo /Pd838gMwhFbPn3RAcy/+lFfzaLamhqXu+1DC16kKnQDWAT64UnerjLTrIsymVziLZhG fYYA== X-Gm-Message-State: AOJu0YyD7BYV2rGc7DT5xdgKjYqsewASC1YpAkZKHPD2Ogf3lbrbvSR+ /+UGThqh/pGBEqUYP1gmFXh2I8dgk/xrGhWLGGr6Qlk6D6lK7Zkf1kkyDivltDgqyXuA6Xnulkz On/rIi0abq65eEfg06MW8RqnYVsEr3Vd540vgQ4CT X-Gm-Gg: ASbGncuXZHINDxhHoFrdK4igUfZ73+ONgZytss5HFboEYtsUwHEMkwv/WHD8KvY2ZUS nIvSXRWrKjpKiPGattGv9Ra2kpMnTgpFC46OMBhck5j0yis9W7+wW402zaU/7dK36IvtGMGtDek 77MHZKSIsDYyMfiYFDLto5hcfwlDqcmPIZHanLs9/R5tfGVOwlNyU/k6E+x7B9CnPNdr1VCqPx1 kbSxBS3xSytM6EuPNl1MgYFXXG+JfRLZ3O7ynl+0TPhYcKNDZ08vSHAIhPi8LnYbjzpc6jdbTmX NXQL/GsHCK5TplD0djC/ZKjHck/JFA== X-Google-Smtp-Source: AGHT+IF2aJ6gm8W4H6lcu5/QJ6Jff1VSpyFlFhTjhX0cSS8o9yc23obdkawMqU+q4d8iViw0voHmoTunamy9 X-Received: by 2002:a05:6a00:6c92:b0:730:9467:b4af with SMTP id d2e1a72fcca58-7323c2121a7mr7583741b3a.23.1739496488030; Thu, 13 Feb 2025 17:28:08 -0800 (PST) Received: from postal.iol.unh.edu (postal.iol.unh.edu. [132.177.123.84]) by smtp-relay.gmail.com with ESMTPS id d2e1a72fcca58-73242551538sm158567b3a.4.2025.02.13.17.28.07 (version=TLS1_2 cipher=ECDHE-ECDSA-AES128-GCM-SHA256 bits=128/128); Thu, 13 Feb 2025 17:28:08 -0800 (PST) X-Relaying-Domain: iol.unh.edu Date: Thu, 13 Feb 2025 17:28:08 -0800 (PST) Message-ID: <67ae9c28.050a0220.3b7a92.8a73SMTPIN_ADDED_MISSING@mx.google.com> Received: from [172.17.0.4] (unknown [172.18.0.217]) by postal.iol.unh.edu (Postfix) with ESMTP id 2D38B6052471; Thu, 13 Feb 2025 20:28:07 -0500 (EST) Subject: |SUCCESS| [GIT MASTER] e5176f23ae8b31437c3e5eb875c81f95bf3a9942 From: dpdklab@iol.unh.edu To: Test Report Cc: dpdk-test-reports@iol.unh.edu Content-Type: text/plain X-BeenThere: test-report@dpdk.org X-Mailman-Version: 2.1.29 Precedence: list List-Id: automatic DPDK test reports List-Unsubscribe: , List-Archive: List-Post: List-Help: List-Subscribe: , Errors-To: test-report-bounces@dpdk.org _Testing PASS_ Branch: dpdk e5176f23ae8b31437c3e5eb875c81f95bf3a9942 --> testing pass Upstream job id: Generic-DPDK-Compile-Meson#361503 Test environment and result as below: +------------------------------------+--------------------+ | Environment | dpdk_meson_compile | +====================================+====================+ | RHEL9 (ARM) | PASS | +------------------------------------+--------------------+ | Ubuntu 20.04 ARM GCC Cross Compile | PASS | +------------------------------------+--------------------+ | Ubuntu 20.04 ARM SVE | PASS | +------------------------------------+--------------------+ | Debian 12 with MUSDK | PASS | +------------------------------------+--------------------+ RHEL9 (ARM) Kernel: Depends on container host Compiler: gcc 11.5.0 20240719 (Red Hat 11.5.0-2) Ubuntu 20.04 ARM GCC Cross Compile Kernel: Depends on container host Compiler: aarch64-linux-gnu-gcc (Ubuntu 9.4.0-1ubuntu1~20.04.2) 9.4.0 Ubuntu 20.04 ARM SVE Kernel: Depends on container host Compiler: gcc (Ubuntu 10.5.0-1ubuntu1~20.04) 10.5.0 Debian 12 with MUSDK Kernel: Depends on container host Compiler: gcc (Debian 12.2.0-14) 12.2.0 To view detailed results, visit: https://lab.dpdk.org/results/dashboard/tarballs/32572/ UNH-IOL DPDK Community Lab To manage your email subscriptions, visit: https://lab.dpdk.org/results/dashboard/preferences/subscriptions/