automatic DPDK test reports
 help / color / mirror / Atom feed
* |SUCCESS| [GIT MASTER] e5176f23ae8b31437c3e5eb875c81f95bf3a9942
@ 2025-02-14  1:45 dpdklab
  0 siblings, 0 replies; 44+ messages in thread
From: dpdklab @ 2025-02-14  1:45 UTC (permalink / raw)
  To: Test Report; +Cc: dpdk-test-reports

_Performance Testing PASS_

Branch: dpdk

e5176f23ae8b31437c3e5eb875c81f95bf3a9942 --> performance testing pass

Upstream job id: Template-DTS-Pipeline#212588

Test environment and result as below:

Ubuntu 22.04
Kernel: 5.15.0-100-generic
Compiler: gcc (Ubuntu 11.4.0-1ubuntu1~22.04) 11.4.0
NIC: Broadcom Inc. and subsidiaries BCM57414 NetXtreme-E 10Gb/25Gb RDMA Ethernet Controller 16d7 25 Mbps
Fail/Total: 0/3

Detail performance results: 
+------------+---------+----------+-------------+------------------------------+
| frame_size | txd/rxd | num_cpus | num_threads |  throughput difference from  |
|            |         |          |             |           expected           |
+============+=========+==========+=============+==============================+
| 64         | 128     | 1        | 1           | 0.5%                         |
+------------+---------+----------+-------------+------------------------------+
| 64         | 512     | 1        | 1           | 0.4%                         |
+------------+---------+----------+-------------+------------------------------+
| 64         | 2048    | 1        | 1           | 0.3%                         |
+------------+---------+----------+-------------+------------------------------+

Ubuntu 22.04 ARM
Kernel: 5.15.83+
Compiler: gcc 11.4.0
NIC: Arm Broadcom Inc. brcm_57414 25000 Mbps
Fail/Total: 0/2

Detail performance results: 
+------------+---------+----------+-------------+------------------------------+
| frame_size | txd/rxd | num_cpus | num_threads |  throughput difference from  |
|            |         |          |             |           expected           |
+============+=========+==========+=============+==============================+
| 64         | 512     | 1        | 1           | 0.2%                         |
+------------+---------+----------+-------------+------------------------------+
| 64         | 2048    | 1        | 1           | 0.2%                         |
+------------+---------+----------+-------------+------------------------------+

To view detailed results, visit:
https://lab.dpdk.org/results/dashboard/tarballs/32572/

UNH-IOL DPDK Community Lab

To manage your email subscriptions, visit: 
https://lab.dpdk.org/results/dashboard/preferences/subscriptions/

^ permalink raw reply	[flat|nested] 44+ messages in thread

* |SUCCESS| [GIT MASTER] e5176f23ae8b31437c3e5eb875c81f95bf3a9942
@ 2025-02-19  5:16 dpdklab
  0 siblings, 0 replies; 44+ messages in thread
From: dpdklab @ 2025-02-19  5:16 UTC (permalink / raw)
  To: Test Report; +Cc: dpdk-test-reports

_Performance Testing PASS_

Branch: dpdk

e5176f23ae8b31437c3e5eb875c81f95bf3a9942 --> performance testing pass

Upstream job id: Template-DTS-Pipeline#212974

Test environment and result as below:

Ubuntu 22.04
Kernel: 5.15.0-131-generic
Compiler: gcc (Ubuntu 11.4.0-1ubuntu1~22.04) 11.4.0
NIC: Intel Corporation Ethernet Converged Network Adapter 82599ES 10000 Mbps
Fail/Total: 0/6

Detail performance results: 
+----------+-------------+---------+------------+------------------------------+
| num_cpus | num_threads | txd/rxd | frame_size |  throughput difference from  |
|          |             |         |            |           expected           |
+==========+=============+=========+============+==============================+
| 1        | 2           | 128     | 64         | 0.0%                         |
+----------+-------------+---------+------------+------------------------------+
| 1        | 2           | 512     | 64         | 0.2%                         |
+----------+-------------+---------+------------+------------------------------+
| 1        | 2           | 2048    | 64         | -0.3%                        |
+----------+-------------+---------+------------+------------------------------+
| 1        | 1           | 128     | 64         | -0.2%                        |
+----------+-------------+---------+------------+------------------------------+
| 1        | 1           | 512     | 64         | -0.2%                        |
+----------+-------------+---------+------------+------------------------------+
| 1        | 1           | 2048    | 64         | 0.0%                         |
+----------+-------------+---------+------------+------------------------------+

Ubuntu 20.04
Kernel: 5.4.0-122-generic
Compiler: gcc 9.4.0
NIC: Intel Corporation Ethernet Converged Network Adapter XL710-QDA2 40000 Mbps
Fail/Total: 0/4

Detail performance results: 
+----------+-------------+---------+------------+------------------------------+
| num_cpus | num_threads | txd/rxd | frame_size |  throughput difference from  |
|          |             |         |            |           expected           |
+==========+=============+=========+============+==============================+
| 1        | 2           | 512     | 64         | 0.2%                         |
+----------+-------------+---------+------------+------------------------------+
| 1        | 2           | 2048    | 64         | 1.1%                         |
+----------+-------------+---------+------------+------------------------------+
| 1        | 1           | 512     | 64         | -3.5%                        |
+----------+-------------+---------+------------+------------------------------+
| 1        | 1           | 2048    | 64         | -2.8%                        |
+----------+-------------+---------+------------+------------------------------+

To view detailed results, visit:
https://lab.dpdk.org/results/dashboard/tarballs/32601/

UNH-IOL DPDK Community Lab

To manage your email subscriptions, visit: 
https://lab.dpdk.org/results/dashboard/preferences/subscriptions/

^ permalink raw reply	[flat|nested] 44+ messages in thread

* |SUCCESS| [GIT MASTER] e5176f23ae8b31437c3e5eb875c81f95bf3a9942
@ 2025-02-19  5:00 dpdklab
  0 siblings, 0 replies; 44+ messages in thread
From: dpdklab @ 2025-02-19  5:00 UTC (permalink / raw)
  To: Test Report; +Cc: dpdk-test-reports

_Functional Testing PASS_

Branch: dpdk

e5176f23ae8b31437c3e5eb875c81f95bf3a9942 --> functional testing pass

Upstream job id: Template-DTS-Pipeline#212978

Test environment and result as below:

Ubuntu 22.04
Kernel: 5.15.0-131-generic
Compiler: gcc (Ubuntu 11.4.0-1ubuntu1~22.04) 11.4.0
NIC: Intel Corporation Ethernet Converged Network Adapter 82599ES 10000 Mbps

Aggregate Results by Test Suite
+-----------------------------+--------+
|         Test Suite          | Result |
+=============================+========+
| unit_tests_mbuf             |  PASS  |
+-----------------------------+--------+
| vhost_virtio_user_interrupt |  PASS  |
+-----------------------------+--------+
| virtio_smoke                |  PASS  |
+-----------------------------+--------+


Ubuntu 20.04
Kernel: 5.4.0-122-generic
Compiler: gcc 9.4.0
NIC: Intel Corporation Ethernet Converged Network Adapter XL710-QDA2 40000 Mbps

Aggregate Results by Test Suite
+-----------------------------+--------+
|         Test Suite          | Result |
+=============================+========+
| unit_tests_mbuf             |  PASS  |
+-----------------------------+--------+
| vhost_virtio_user_interrupt |  PASS  |
+-----------------------------+--------+
| virtio_smoke                |  PASS  |
+-----------------------------+--------+


Arm Ampere Altra - Ubuntu 22.04
Kernel: 5.15.83+
Compiler: gcc 11.4
NIC: Intel Corporation QAT 8970 0 Mbps

Aggregate Results by Test Suite
+----------------------------+--------+
|         Test Suite         | Result |
+============================+========+
| crypto_perf_cryptodev_perf |  PASS  |
+----------------------------+--------+


To view detailed results, visit:
https://lab.dpdk.org/results/dashboard/tarballs/32601/

UNH-IOL DPDK Community Lab

To manage your email subscriptions, visit: 
https://lab.dpdk.org/results/dashboard/preferences/subscriptions/

^ permalink raw reply	[flat|nested] 44+ messages in thread

* |SUCCESS| [GIT MASTER] e5176f23ae8b31437c3e5eb875c81f95bf3a9942
@ 2025-02-18 22:29 dpdklab
  0 siblings, 0 replies; 44+ messages in thread
From: dpdklab @ 2025-02-18 22:29 UTC (permalink / raw)
  To: Test Report; +Cc: dpdk-test-reports

_Functional Testing PASS_

Branch: dpdk

e5176f23ae8b31437c3e5eb875c81f95bf3a9942 --> functional testing pass

Upstream job id: Template-DTS-Pipeline#212771

Test environment and result as below:

Ubuntu 22.04
Kernel: 5.15.0-131-generic
Compiler: gcc (Ubuntu 11.4.0-1ubuntu1~22.04) 11.4.0
NIC: Intel Corporation Ethernet Converged Network Adapter 82599ES 10000 Mbps

Aggregate Results by Test Suite
+-----------------------------+--------+
|         Test Suite          | Result |
+=============================+========+
| unit_tests_mbuf             |  PASS  |
+-----------------------------+--------+
| vhost_virtio_user_interrupt |  PASS  |
+-----------------------------+--------+
| virtio_smoke                |  PASS  |
+-----------------------------+--------+


Ubuntu 20.04
Kernel: 5.4.0-122-generic
Compiler: gcc 9.4.0
NIC: Intel Corporation Ethernet Converged Network Adapter XL710-QDA2 40000 Mbps

Aggregate Results by Test Suite
+-----------------------------+--------+
|         Test Suite          | Result |
+=============================+========+
| unit_tests_mbuf             |  PASS  |
+-----------------------------+--------+
| vhost_virtio_user_interrupt |  PASS  |
+-----------------------------+--------+
| virtio_smoke                |  PASS  |
+-----------------------------+--------+


Arm Ampere Altra - Ubuntu 22.04
Kernel: 5.15.83+
Compiler: gcc 11.4
NIC: Intel Corporation QAT 8970 0 Mbps

Aggregate Results by Test Suite
+----------------------------+--------+
|         Test Suite         | Result |
+============================+========+
| crypto_perf_cryptodev_perf |  PASS  |
+----------------------------+--------+


To view detailed results, visit:
https://lab.dpdk.org/results/dashboard/tarballs/32586/

UNH-IOL DPDK Community Lab

To manage your email subscriptions, visit: 
https://lab.dpdk.org/results/dashboard/preferences/subscriptions/

^ permalink raw reply	[flat|nested] 44+ messages in thread

* |SUCCESS| [GIT MASTER] e5176f23ae8b31437c3e5eb875c81f95bf3a9942
@ 2025-02-18 22:16 dpdklab
  0 siblings, 0 replies; 44+ messages in thread
From: dpdklab @ 2025-02-18 22:16 UTC (permalink / raw)
  To: Test Report; +Cc: dpdk-test-reports

_Performance Testing PASS_

Branch: dpdk

e5176f23ae8b31437c3e5eb875c81f95bf3a9942 --> performance testing pass

Upstream job id: Template-DTS-Pipeline#212767

Test environment and result as below:

Ubuntu 20.04
Kernel: 5.4.0-122-generic
Compiler: gcc 9.4.0
NIC: Intel Corporation Ethernet Converged Network Adapter XL710-QDA2 40000 Mbps
Fail/Total: 0/4

Detail performance results: 
+----------+-------------+---------+------------+------------------------------+
| num_cpus | num_threads | txd/rxd | frame_size |  throughput difference from  |
|          |             |         |            |           expected           |
+==========+=============+=========+============+==============================+
| 1        | 2           | 512     | 64         | -0.2%                        |
+----------+-------------+---------+------------+------------------------------+
| 1        | 2           | 2048    | 64         | -1.3%                        |
+----------+-------------+---------+------------+------------------------------+
| 1        | 1           | 512     | 64         | 3.8%                         |
+----------+-------------+---------+------------+------------------------------+
| 1        | 1           | 2048    | 64         | 0.3%                         |
+----------+-------------+---------+------------+------------------------------+

Ubuntu 22.04
Kernel: 5.15.0-131-generic
Compiler: gcc (Ubuntu 11.4.0-1ubuntu1~22.04) 11.4.0
NIC: Intel Corporation Ethernet Converged Network Adapter 82599ES 10000 Mbps
Fail/Total: 0/6

Detail performance results: 
+----------+-------------+---------+------------+------------------------------+
| num_cpus | num_threads | txd/rxd | frame_size |  throughput difference from  |
|          |             |         |            |           expected           |
+==========+=============+=========+============+==============================+
| 1        | 2           | 128     | 64         | 0.0%                         |
+----------+-------------+---------+------------+------------------------------+
| 1        | 2           | 512     | 64         | 0.0%                         |
+----------+-------------+---------+------------+------------------------------+
| 1        | 2           | 2048    | 64         | -0.2%                        |
+----------+-------------+---------+------------+------------------------------+
| 1        | 1           | 128     | 64         | 0.3%                         |
+----------+-------------+---------+------------+------------------------------+
| 1        | 1           | 512     | 64         | 0.0%                         |
+----------+-------------+---------+------------+------------------------------+
| 1        | 1           | 2048    | 64         | -0.3%                        |
+----------+-------------+---------+------------+------------------------------+

To view detailed results, visit:
https://lab.dpdk.org/results/dashboard/tarballs/32586/

UNH-IOL DPDK Community Lab

To manage your email subscriptions, visit: 
https://lab.dpdk.org/results/dashboard/preferences/subscriptions/

^ permalink raw reply	[flat|nested] 44+ messages in thread

* |SUCCESS| [GIT MASTER] e5176f23ae8b31437c3e5eb875c81f95bf3a9942
@ 2025-02-18 15:56 dpdklab
  0 siblings, 0 replies; 44+ messages in thread
From: dpdklab @ 2025-02-18 15:56 UTC (permalink / raw)
  To: Test Report; +Cc: dpdk-test-reports

_Functional Testing PASS_

Branch: dpdk

e5176f23ae8b31437c3e5eb875c81f95bf3a9942 --> functional testing pass

Upstream job id: Template-DTS-Pipeline#212589

Test environment and result as below:

Ubuntu 22.04
Kernel: 5.15.0-131-generic
Compiler: gcc (Ubuntu 11.4.0-1ubuntu1~22.04) 11.4.0
NIC: Intel Corporation Ethernet Converged Network Adapter 82599ES 10000 Mbps

Aggregate Results by Test Suite
+-----------------------------+--------+
|         Test Suite          | Result |
+=============================+========+
| unit_tests_mbuf             |  PASS  |
+-----------------------------+--------+
| vhost_virtio_user_interrupt |  PASS  |
+-----------------------------+--------+
| virtio_smoke                |  PASS  |
+-----------------------------+--------+


Ubuntu 20.04
Kernel: 5.4.0-122-generic
Compiler: gcc 9.4.0
NIC: Intel Corporation Ethernet Converged Network Adapter XL710-QDA2 40000 Mbps

Aggregate Results by Test Suite
+-----------------------------+--------+
|         Test Suite          | Result |
+=============================+========+
| unit_tests_mbuf             |  PASS  |
+-----------------------------+--------+
| vhost_virtio_user_interrupt |  PASS  |
+-----------------------------+--------+
| virtio_smoke                |  PASS  |
+-----------------------------+--------+


Arm Ampere Altra - Ubuntu 22.04
Kernel: 5.15.83+
Compiler: gcc 11.4
NIC: Intel Corporation QAT 8970 0 Mbps

Aggregate Results by Test Suite
+----------------------------+--------+
|         Test Suite         | Result |
+============================+========+
| crypto_perf_cryptodev_perf |  PASS  |
+----------------------------+--------+


To view detailed results, visit:
https://lab.dpdk.org/results/dashboard/tarballs/32572/

UNH-IOL DPDK Community Lab

To manage your email subscriptions, visit: 
https://lab.dpdk.org/results/dashboard/preferences/subscriptions/

^ permalink raw reply	[flat|nested] 44+ messages in thread

* |SUCCESS| [GIT MASTER] e5176f23ae8b31437c3e5eb875c81f95bf3a9942
@ 2025-02-18 15:42 dpdklab
  0 siblings, 0 replies; 44+ messages in thread
From: dpdklab @ 2025-02-18 15:42 UTC (permalink / raw)
  To: Test Report; +Cc: dpdk-test-reports

_Performance Testing PASS_

Branch: dpdk

e5176f23ae8b31437c3e5eb875c81f95bf3a9942 --> performance testing pass

Upstream job id: Template-DTS-Pipeline#212585

Test environment and result as below:

Ubuntu 20.04
Kernel: 5.4.0-122-generic
Compiler: gcc 9.4.0
NIC: Intel Corporation Ethernet Converged Network Adapter XL710-QDA2 40000 Mbps
Fail/Total: 0/4

Detail performance results: 
+----------+-------------+---------+------------+------------------------------+
| num_cpus | num_threads | txd/rxd | frame_size |  throughput difference from  |
|          |             |         |            |           expected           |
+==========+=============+=========+============+==============================+
| 1        | 2           | 512     | 64         | -0.4%                        |
+----------+-------------+---------+------------+------------------------------+
| 1        | 2           | 2048    | 64         | 0.3%                         |
+----------+-------------+---------+------------+------------------------------+
| 1        | 1           | 512     | 64         | 0.2%                         |
+----------+-------------+---------+------------+------------------------------+
| 1        | 1           | 2048    | 64         | 4.9%                         |
+----------+-------------+---------+------------+------------------------------+

Ubuntu 22.04
Kernel: 5.15.0-131-generic
Compiler: gcc (Ubuntu 11.4.0-1ubuntu1~22.04) 11.4.0
NIC: Intel Corporation Ethernet Converged Network Adapter 82599ES 10000 Mbps
Fail/Total: 0/6

Detail performance results: 
+----------+-------------+---------+------------+------------------------------+
| num_cpus | num_threads | txd/rxd | frame_size |  throughput difference from  |
|          |             |         |            |           expected           |
+==========+=============+=========+============+==============================+
| 1        | 2           | 128     | 64         | -1.2%                        |
+----------+-------------+---------+------------+------------------------------+
| 1        | 2           | 512     | 64         | -0.2%                        |
+----------+-------------+---------+------------+------------------------------+
| 1        | 2           | 2048    | 64         | -0.0%                        |
+----------+-------------+---------+------------+------------------------------+
| 1        | 1           | 128     | 64         | 0.4%                         |
+----------+-------------+---------+------------+------------------------------+
| 1        | 1           | 512     | 64         | 0.5%                         |
+----------+-------------+---------+------------+------------------------------+
| 1        | 1           | 2048    | 64         | 0.3%                         |
+----------+-------------+---------+------------+------------------------------+

To view detailed results, visit:
https://lab.dpdk.org/results/dashboard/tarballs/32572/

UNH-IOL DPDK Community Lab

To manage your email subscriptions, visit: 
https://lab.dpdk.org/results/dashboard/preferences/subscriptions/

^ permalink raw reply	[flat|nested] 44+ messages in thread

* |SUCCESS| [GIT MASTER] e5176f23ae8b31437c3e5eb875c81f95bf3a9942
@ 2025-02-18  4:37 dpdklab
  0 siblings, 0 replies; 44+ messages in thread
From: dpdklab @ 2025-02-18  4:37 UTC (permalink / raw)
  To: Test Report; +Cc: dpdk-test-reports

_Testing PASS_

Branch: dpdk

e5176f23ae8b31437c3e5eb875c81f95bf3a9942 --> testing pass

Upstream job id: Generic-DPDK-Compile-Meson#362394

Test environment and result as below:

+----------------------------------------+--------------------+
|              Environment               | dpdk_meson_compile |
+========================================+====================+
| RHEL9 (ARM)                            | PASS               |
+----------------------------------------+--------------------+
| Ubuntu 20.04 ARM SVE                   | PASS               |
+----------------------------------------+--------------------+
| Ubuntu 20.04 ARM GCC Cross Compile     | PASS               |
+----------------------------------------+--------------------+
| Fedora 40 (ARM Clang)                  | PASS               |
+----------------------------------------+--------------------+
| Debian 12 with MUSDK                   | PASS               |
+----------------------------------------+--------------------+
| Fedora 40 (ARM)                        | PASS               |
+----------------------------------------+--------------------+
| Fedora 41 (ARM)                        | PASS               |
+----------------------------------------+--------------------+
| Fedora 41 (ARM Clang)                  | PASS               |
+----------------------------------------+--------------------+
| Ubuntu 20.04 (ARM)                     | PASS               |
+----------------------------------------+--------------------+
| Ubuntu 22.04 (ARM)                     | PASS               |
+----------------------------------------+--------------------+
| Ubuntu 24.04 (ARM)                     | PASS               |
+----------------------------------------+--------------------+
| CentOS Stream 9 (ARM)                  | PASS               |
+----------------------------------------+--------------------+
| Ubuntu 20.04 aarch32 GCC Cross Compile | PASS               |
+----------------------------------------+--------------------+
| Debian 12 (arm)                        | PASS               |
+----------------------------------------+--------------------+
| CentOS Stream 10 (ARM)                 | PASS               |
+----------------------------------------+--------------------+
| Debian 11 (Buster) (ARM)               | PASS               |
+----------------------------------------+--------------------+
| Ubuntu 20.04 ARM Clang Cross Compile   | PASS               |
+----------------------------------------+--------------------+


RHEL9 (ARM)
	Kernel: Depends on container host
	Compiler: gcc 11.5.0 20240719 (Red Hat 11.5.0-2)

Ubuntu 20.04 ARM SVE
	Kernel: Depends on container host
	Compiler: gcc (Ubuntu 10.5.0-1ubuntu1~20.04) 10.5.0

Ubuntu 20.04 ARM GCC Cross Compile
	Kernel: Depends on container host
	Compiler: aarch64-linux-gnu-gcc (Ubuntu 9.4.0-1ubuntu1~20.04.2) 9.4.0

Fedora 40 (ARM Clang)
	Kernel: Depends on container host
	Compiler: clang 18.1.8 (Fedora 18.1.8-1.fc40)

Debian 12 with MUSDK
	Kernel: Depends on container host
	Compiler: gcc (Debian 12.2.0-14) 12.2.0

Fedora 40 (ARM)
	Kernel: Depends on container host
	Compiler: gcc 14.2.1 20240912 (Red Hat 14.2.1-3)

Fedora 41 (ARM)
	Kernel: Depends on container host
	Compiler: gcc 14.2.1 20240912 (Red Hat 14.2.1-3)

Fedora 41 (ARM Clang)
	Kernel: Depends on container host
	Compiler: clang 19.1.5 (Fedora 19.1.5-1.fc41)

Ubuntu 20.04 (ARM)
	Kernel: Depends on container host
	Compiler: gcc (Ubuntu 9.4.0-1ubuntu1~20.04.2) 9.4.0

Ubuntu 22.04 (ARM)
	Kernel: Depends on container host
	Compiler: gcc (Ubuntu 11.4.0-1ubuntu1~22.04) 11.4.0

Ubuntu 24.04 (ARM)
	Kernel: Depends on container host
	Compiler: gcc (Ubuntu 13.3.0-6ubuntu2~24.04) 13.3.0

CentOS Stream 9 (ARM)
	Kernel: Depends on container host
	Compiler: gcc 11.5.0 20240719 (Red Hat 11.5.0-2)

Ubuntu 20.04 aarch32 GCC Cross Compile
	Kernel: Depends on container host
	Compiler: gcc 9.4.0

Debian 12 (arm)
	Kernel: Depends on container host
	Compiler: gcc (Debian 12.2.0-14) 12.2.0

CentOS Stream 10 (ARM)
	Kernel: Depends on container host
	Compiler: gcc 14.2.1 20241104 (Red Hat 14.2.1-6)

Debian 11 (Buster) (ARM)
	Kernel: Depends on container host
	Compiler: gcc (Debian 10.2.1-6) 10.2.1 20210110

Ubuntu 20.04 ARM Clang Cross Compile
	Kernel: Depends on container host
	Compiler: clang 10.0.0-4ubuntu1

To view detailed results, visit:
https://lab.dpdk.org/results/dashboard/tarballs/32601/

UNH-IOL DPDK Community Lab

To manage your email subscriptions, visit: 
https://lab.dpdk.org/results/dashboard/preferences/subscriptions/

^ permalink raw reply	[flat|nested] 44+ messages in thread

* |SUCCESS| [GIT MASTER] e5176f23ae8b31437c3e5eb875c81f95bf3a9942
@ 2025-02-18  2:37 dpdklab
  0 siblings, 0 replies; 44+ messages in thread
From: dpdklab @ 2025-02-18  2:37 UTC (permalink / raw)
  To: Test Report; +Cc: dpdk-test-reports

_Testing PASS_

Branch: dpdk

e5176f23ae8b31437c3e5eb875c81f95bf3a9942 --> testing pass

Upstream job id: Generic-DPDK-Compile-Meson#362380

Test environment and result as below:

+---------------------+--------------------+-------------------+------------------+-------------------------+-------------------+----------------------+
|     Environment     | dpdk_meson_compile | dpdk_compile_spdk | dpdk_compile_ovs | dpdk_llvm_clang_compile | dpdk_msvc_compile | dpdk_mingw64_compile |
+=====================+====================+===================+==================+=========================+===================+======================+
| CentOS Stream 10    | PASS               | SKIPPED           | SKIPPED          | SKIPPED                 | SKIPPED           | SKIPPED              |
+---------------------+--------------------+-------------------+------------------+-------------------------+-------------------+----------------------+
| Debian 12           | PASS               | PASS              | SKIPPED          | SKIPPED                 | SKIPPED           | SKIPPED              |
+---------------------+--------------------+-------------------+------------------+-------------------------+-------------------+----------------------+
| Debian Bullseye     | PASS               | PASS              | SKIPPED          | SKIPPED                 | SKIPPED           | SKIPPED              |
+---------------------+--------------------+-------------------+------------------+-------------------------+-------------------+----------------------+
| Fedora 40           | PASS               | PASS              | SKIPPED          | SKIPPED                 | SKIPPED           | SKIPPED              |
+---------------------+--------------------+-------------------+------------------+-------------------------+-------------------+----------------------+
| Fedora 41           | PASS               | PASS              | PASS             | SKIPPED                 | SKIPPED           | SKIPPED              |
+---------------------+--------------------+-------------------+------------------+-------------------------+-------------------+----------------------+
| RHEL9               | PASS               | SKIPPED           | SKIPPED          | SKIPPED                 | SKIPPED           | SKIPPED              |
+---------------------+--------------------+-------------------+------------------+-------------------------+-------------------+----------------------+
| Fedora 40 (Clang)   | PASS               | PASS              | SKIPPED          | SKIPPED                 | SKIPPED           | SKIPPED              |
+---------------------+--------------------+-------------------+------------------+-------------------------+-------------------+----------------------+
| RHEL8               | PASS               | SKIPPED           | SKIPPED          | SKIPPED                 | SKIPPED           | SKIPPED              |
+---------------------+--------------------+-------------------+------------------+-------------------------+-------------------+----------------------+
| Fedora 41 (Clang)   | PASS               | PASS              | PASS             | SKIPPED                 | SKIPPED           | SKIPPED              |
+---------------------+--------------------+-------------------+------------------+-------------------------+-------------------+----------------------+
| openSUSE Leap 15    | PASS               | SKIPPED           | SKIPPED          | SKIPPED                 | SKIPPED           | SKIPPED              |
+---------------------+--------------------+-------------------+------------------+-------------------------+-------------------+----------------------+
| Ubuntu 22.04        | PASS               | PASS              | SKIPPED          | SKIPPED                 | SKIPPED           | SKIPPED              |
+---------------------+--------------------+-------------------+------------------+-------------------------+-------------------+----------------------+
| Ubuntu 20.04        | PASS               | SKIPPED           | SKIPPED          | SKIPPED                 | SKIPPED           | SKIPPED              |
+---------------------+--------------------+-------------------+------------------+-------------------------+-------------------+----------------------+
| Ubuntu 24.04        | PASS               | PASS              | PASS             | SKIPPED                 | SKIPPED           | SKIPPED              |
+---------------------+--------------------+-------------------+------------------+-------------------------+-------------------+----------------------+
| Alpine              | PASS               | SKIPPED           | SKIPPED          | SKIPPED                 | SKIPPED           | SKIPPED              |
+---------------------+--------------------+-------------------+------------------+-------------------------+-------------------+----------------------+
| Arch Linux          | PASS               | SKIPPED           | SKIPPED          | SKIPPED                 | SKIPPED           | SKIPPED              |
+---------------------+--------------------+-------------------+------------------+-------------------------+-------------------+----------------------+
| FreeBSD 13.4        | PASS               | SKIPPED           | SKIPPED          | SKIPPED                 | SKIPPED           | SKIPPED              |
+---------------------+--------------------+-------------------+------------------+-------------------------+-------------------+----------------------+
| FreeBSD 14.2        | PASS               | SKIPPED           | SKIPPED          | SKIPPED                 | SKIPPED           | SKIPPED              |
+---------------------+--------------------+-------------------+------------------+-------------------------+-------------------+----------------------+
| CentOS Stream 9     | PASS               | PASS              | SKIPPED          | SKIPPED                 | SKIPPED           | SKIPPED              |
+---------------------+--------------------+-------------------+------------------+-------------------------+-------------------+----------------------+
| Windows Server 2022 | SKIPPED            | SKIPPED           | SKIPPED          | PASS                    | PASS              | PASS                 |
+---------------------+--------------------+-------------------+------------------+-------------------------+-------------------+----------------------+


CentOS Stream 10
	Kernel: Depends on container host
	Compiler: gcc 14.2.1 20241104 (Red Hat 14.2.1-6)

Debian 12
	Kernel: Depends on container host
	Compiler: gcc (Debian 12.2.0-14) 12.2.0

Debian Bullseye
	Kernel: Depends on container host
	Compiler: gcc (Debian 10.2.1-6) 10.2.1 20210110

Fedora 40
	Kernel: Depends on container host
	Compiler: gcc 14.2.1 20240912 (Red Hat 14.2.1-3)

Fedora 41
	Kernel: Depends on container host
	Compiler: gcc 14.2.1 20240912 (Red Hat 14.2.1-3)

RHEL9
	Kernel: Depends on container host
	Compiler: gcc 11.5.0 20240719 (Red Hat 11.5.0-2)

Fedora 40 (Clang)
	Kernel: Depends on container host
	Compiler: clang 18.1.8 (Fedora 18.1.8-1.fc40)

RHEL8
	Kernel: Depends on container host
	Compiler: gcc 8.5.0 20210514 (Red Hat 8.5.0-22)

Fedora 41 (Clang)
	Kernel: Depends on container host
	Compiler: clang 19.1.5 (Fedora 19.1.5-1.fc41)

openSUSE Leap 15
	Kernel: Depends on container host
	Compiler: gcc (SUSE Linux) 7.5.0

Ubuntu 22.04
	Kernel: Depends on container host
	Compiler: gcc (Ubuntu 11.4.0-1ubuntu1~22.04) 11.4.0

Ubuntu 20.04
	Kernel: Depends on container host
	Compiler: gcc (Ubuntu 9.4.0-1ubuntu1~20.04.2) 9.4.0

Ubuntu 24.04
	Kernel: Depends on container host
	Compiler: gcc (Ubuntu 13.3.0-6ubuntu2~24.04) 13.3.0

Alpine
	Kernel: Depends on container host
	Compiler: gcc (Alpine 14.2.0) 14.2.0

Arch Linux
	Kernel: Depends on container host
	Compiler: gcc 14.2.1 20240910

FreeBSD 13.4
	Kernel: 13.4-RELEASE-p1
	Compiler: clang 18.1.6

FreeBSD 14.2
	Kernel: 14.2-RELEASE
	Compiler: clang 18.1.6

CentOS Stream 9
	Kernel: Depends on container host
	Compiler: gcc 11.5.0 20240719 (Red Hat 11.5.0-2)

Windows Server 2022
	Kernel: 10.0.20348.2031
	Compiler: clang 15.0.7, gcc 14.1.0 (MinGW), and MSVC VS 19.39.33521

To view detailed results, visit:
https://lab.dpdk.org/results/dashboard/tarballs/32601/

UNH-IOL DPDK Community Lab

To manage your email subscriptions, visit: 
https://lab.dpdk.org/results/dashboard/preferences/subscriptions/

^ permalink raw reply	[flat|nested] 44+ messages in thread

* |SUCCESS| [GIT MASTER] e5176f23ae8b31437c3e5eb875c81f95bf3a9942
@ 2025-02-18  2:19 dpdklab
  0 siblings, 0 replies; 44+ messages in thread
From: dpdklab @ 2025-02-18  2:19 UTC (permalink / raw)
  To: Test Report; +Cc: dpdk-test-reports

_Testing PASS_

Branch: dpdk

e5176f23ae8b31437c3e5eb875c81f95bf3a9942 --> testing pass

Upstream job id: Generic-DPDK-Compile-ABI#116481

Test environment and result as below:

+-------------------+----------+
|    Environment    | abi_test |
+===================+==========+
| Arch Linux        | PASS     |
+-------------------+----------+
| CentOS Stream 9   | PASS     |
+-------------------+----------+
| Fedora 40         | PASS     |
+-------------------+----------+
| Debian 12         | PASS     |
+-------------------+----------+
| CentOS Stream 10  | PASS     |
+-------------------+----------+
| Fedora 40 (Clang) | PASS     |
+-------------------+----------+
| Debian Bullseye   | PASS     |
+-------------------+----------+
| Fedora 41 (Clang) | PASS     |
+-------------------+----------+
| Ubuntu 24.04      | PASS     |
+-------------------+----------+
| RHEL8             | PASS     |
+-------------------+----------+
| RHEL9             | PASS     |
+-------------------+----------+
| Ubuntu 22.04      | PASS     |
+-------------------+----------+
| Fedora 41         | PASS     |
+-------------------+----------+
| openSUSE Leap 15  | PASS     |
+-------------------+----------+


Arch Linux
	Kernel: Depends on container host
	Compiler: gcc 14.2.1 20240910

CentOS Stream 9
	Kernel: Depends on container host
	Compiler: gcc 11.5.0 20240719 (Red Hat 11.5.0-2)

Fedora 40
	Kernel: Depends on container host
	Compiler: gcc 14.2.1 20240912 (Red Hat 14.2.1-3)

Debian 12
	Kernel: Depends on container host
	Compiler: gcc (Debian 12.2.0-14) 12.2.0

CentOS Stream 10
	Kernel: Depends on container host
	Compiler: gcc 14.2.1 20241104 (Red Hat 14.2.1-6)

Fedora 40 (Clang)
	Kernel: Depends on container host
	Compiler: clang 18.1.8 (Fedora 18.1.8-1.fc40)

Debian Bullseye
	Kernel: Depends on container host
	Compiler: gcc (Debian 10.2.1-6) 10.2.1 20210110

Fedora 41 (Clang)
	Kernel: Depends on container host
	Compiler: clang 19.1.5 (Fedora 19.1.5-1.fc41)

Ubuntu 24.04
	Kernel: Depends on container host
	Compiler: gcc (Ubuntu 13.3.0-6ubuntu2~24.04) 13.3.0

RHEL8
	Kernel: Depends on container host
	Compiler: gcc 8.5.0 20210514 (Red Hat 8.5.0-22)

RHEL9
	Kernel: Depends on container host
	Compiler: gcc 11.5.0 20240719 (Red Hat 11.5.0-2)

Ubuntu 22.04
	Kernel: Depends on container host
	Compiler: gcc (Ubuntu 11.4.0-1ubuntu1~22.04) 11.4.0

Fedora 41
	Kernel: Depends on container host
	Compiler: gcc 14.2.1 20240912 (Red Hat 14.2.1-3)

openSUSE Leap 15
	Kernel: Depends on container host
	Compiler: gcc (SUSE Linux) 7.5.0

To view detailed results, visit:
https://lab.dpdk.org/results/dashboard/tarballs/32601/

UNH-IOL DPDK Community Lab

To manage your email subscriptions, visit: 
https://lab.dpdk.org/results/dashboard/preferences/subscriptions/

^ permalink raw reply	[flat|nested] 44+ messages in thread

* |SUCCESS| [GIT MASTER] e5176f23ae8b31437c3e5eb875c81f95bf3a9942
@ 2025-02-18  2:15 dpdklab
  0 siblings, 0 replies; 44+ messages in thread
From: dpdklab @ 2025-02-18  2:15 UTC (permalink / raw)
  To: Test Report; +Cc: dpdk-test-reports

_Testing PASS_

Branch: dpdk

e5176f23ae8b31437c3e5eb875c81f95bf3a9942 --> testing pass

Upstream job id: Generic-Unit-Test-DPDK#315627

Test environment and result as below:

+-----------------------------+----------------+------------------------------+---------------------------+--------------+
|         Environment         | dpdk_unit_test | cryptodev_sw_snow3g_autotest | cryptodev_sw_zuc_autotest | lpm_autotest |
+=============================+================+==============================+===========================+==============+
| 32-bit Ubuntu 22.04.4 (ARM) | PASS           | SKIPPED                      | SKIPPED                   | SKIPPED      |
+-----------------------------+----------------+------------------------------+---------------------------+--------------+
| CentOS Stream 10 (ARM)      | PASS           | SKIPPED                      | SKIPPED                   | SKIPPED      |
+-----------------------------+----------------+------------------------------+---------------------------+--------------+
| CentOS Stream 9 (ARM)       | PASS           | SKIPPED                      | SKIPPED                   | SKIPPED      |
+-----------------------------+----------------+------------------------------+---------------------------+--------------+
| Fedora 40 (ARM)             | PASS           | SKIPPED                      | SKIPPED                   | SKIPPED      |
+-----------------------------+----------------+------------------------------+---------------------------+--------------+
| Debian 11 (Buster) (ARM)    | PASS           | SKIPPED                      | SKIPPED                   | SKIPPED      |
+-----------------------------+----------------+------------------------------+---------------------------+--------------+
| Fedora 41 (ARM)             | PASS           | SKIPPED                      | SKIPPED                   | SKIPPED      |
+-----------------------------+----------------+------------------------------+---------------------------+--------------+
| Fedora 41 (ARM Clang)       | PASS           | SKIPPED                      | SKIPPED                   | SKIPPED      |
+-----------------------------+----------------+------------------------------+---------------------------+--------------+
| Fedora 40 (ARM Clang)       | PASS           | SKIPPED                      | SKIPPED                   | SKIPPED      |
+-----------------------------+----------------+------------------------------+---------------------------+--------------+
| Debian 12 (arm)             | PASS           | PASS                         | PASS                      | SKIPPED      |
+-----------------------------+----------------+------------------------------+---------------------------+--------------+
| Ubuntu 22.04 (ARM)          | PASS           | SKIPPED                      | SKIPPED                   | SKIPPED      |
+-----------------------------+----------------+------------------------------+---------------------------+--------------+
| Ubuntu 20.04 (ARM)          | PASS           | SKIPPED                      | SKIPPED                   | SKIPPED      |
+-----------------------------+----------------+------------------------------+---------------------------+--------------+
| RHEL9 (ARM)                 | PASS           | SKIPPED                      | SKIPPED                   | SKIPPED      |
+-----------------------------+----------------+------------------------------+---------------------------+--------------+
| Ubuntu 24.04 (ARM)          | PASS           | SKIPPED                      | SKIPPED                   | SKIPPED      |
+-----------------------------+----------------+------------------------------+---------------------------+--------------+
| Ubuntu 20.04 ARM SVE        | SKIPPED        | SKIPPED                      | SKIPPED                   | PASS         |
+-----------------------------+----------------+------------------------------+---------------------------+--------------+


32-bit Ubuntu 22.04.4 (ARM)
	Kernel: 5.15.83+ aarch64
	Compiler: gcc (Ubuntu 11.4.0-1ubuntu1~22.04) 11.4.0

CentOS Stream 10 (ARM)
	Kernel: Depends on container host
	Compiler: gcc 14.2.1 20241104 (Red Hat 14.2.1-6)

CentOS Stream 9 (ARM)
	Kernel: Depends on container host
	Compiler: gcc 11.5.0 20240719 (Red Hat 11.5.0-2)

Fedora 40 (ARM)
	Kernel: Depends on container host
	Compiler: gcc 14.2.1 20240912 (Red Hat 14.2.1-3)

Debian 11 (Buster) (ARM)
	Kernel: Depends on container host
	Compiler: gcc (Debian 10.2.1-6) 10.2.1 20210110

Fedora 41 (ARM)
	Kernel: Depends on container host
	Compiler: gcc 14.2.1 20240912 (Red Hat 14.2.1-3)

Fedora 41 (ARM Clang)
	Kernel: Depends on container host
	Compiler: clang 19.1.5 (Fedora 19.1.5-1.fc41)

Fedora 40 (ARM Clang)
	Kernel: Depends on container host
	Compiler: clang 18.1.8 (Fedora 18.1.8-1.fc40)

Debian 12 (arm)
	Kernel: Depends on container host
	Compiler: gcc (Debian 12.2.0-14) 12.2.0

Ubuntu 22.04 (ARM)
	Kernel: Depends on container host
	Compiler: gcc (Ubuntu 11.4.0-1ubuntu1~22.04) 11.4.0

Ubuntu 20.04 (ARM)
	Kernel: Depends on container host
	Compiler: gcc (Ubuntu 9.4.0-1ubuntu1~20.04.2) 9.4.0

RHEL9 (ARM)
	Kernel: Depends on container host
	Compiler: gcc 11.5.0 20240719 (Red Hat 11.5.0-2)

Ubuntu 24.04 (ARM)
	Kernel: Depends on container host
	Compiler: gcc (Ubuntu 13.3.0-6ubuntu2~24.04) 13.3.0

Ubuntu 20.04 ARM SVE
	Kernel: Depends on container host
	Compiler: gcc (Ubuntu 10.5.0-1ubuntu1~20.04) 10.5.0

To view detailed results, visit:
https://lab.dpdk.org/results/dashboard/tarballs/32601/

UNH-IOL DPDK Community Lab

To manage your email subscriptions, visit: 
https://lab.dpdk.org/results/dashboard/preferences/subscriptions/

^ permalink raw reply	[flat|nested] 44+ messages in thread

* |SUCCESS| [GIT MASTER] e5176f23ae8b31437c3e5eb875c81f95bf3a9942
@ 2025-02-18  2:11 dpdklab
  0 siblings, 0 replies; 44+ messages in thread
From: dpdklab @ 2025-02-18  2:11 UTC (permalink / raw)
  To: Test Report; +Cc: dpdk-test-reports

_Testing PASS_

Branch: dpdk

e5176f23ae8b31437c3e5eb875c81f95bf3a9942 --> testing pass

Upstream job id: Generic-Unit-Test-DPDK#315619

Test environment and result as below:

+---------------------+----------------+
|     Environment     | dpdk_unit_test |
+=====================+================+
| Arch Linux          | PASS           |
+---------------------+----------------+
| CentOS Stream 10    | PASS           |
+---------------------+----------------+
| Fedora 41           | PASS           |
+---------------------+----------------+
| CentOS Stream 9     | PASS           |
+---------------------+----------------+
| RHEL8               | PASS           |
+---------------------+----------------+
| Debian 12           | PASS           |
+---------------------+----------------+
| Fedora 40           | PASS           |
+---------------------+----------------+
| Debian Bullseye     | PASS           |
+---------------------+----------------+
| RHEL9               | PASS           |
+---------------------+----------------+
| Fedora 40 (Clang)   | PASS           |
+---------------------+----------------+
| Fedora 41 (Clang)   | PASS           |
+---------------------+----------------+
| Ubuntu 20.04        | PASS           |
+---------------------+----------------+
| Ubuntu 24.04        | PASS           |
+---------------------+----------------+
| Ubuntu 22.04        | PASS           |
+---------------------+----------------+
| Windows Server 2022 | PASS           |
+---------------------+----------------+


Arch Linux
	Kernel: Depends on container host
	Compiler: gcc 14.2.1 20240910

CentOS Stream 10
	Kernel: Depends on container host
	Compiler: gcc 14.2.1 20241104 (Red Hat 14.2.1-6)

Fedora 41
	Kernel: Depends on container host
	Compiler: gcc 14.2.1 20240912 (Red Hat 14.2.1-3)

CentOS Stream 9
	Kernel: Depends on container host
	Compiler: gcc 11.5.0 20240719 (Red Hat 11.5.0-2)

RHEL8
	Kernel: Depends on container host
	Compiler: gcc 8.5.0 20210514 (Red Hat 8.5.0-22)

Debian 12
	Kernel: Depends on container host
	Compiler: gcc (Debian 12.2.0-14) 12.2.0

Fedora 40
	Kernel: Depends on container host
	Compiler: gcc 14.2.1 20240912 (Red Hat 14.2.1-3)

Debian Bullseye
	Kernel: Depends on container host
	Compiler: gcc (Debian 10.2.1-6) 10.2.1 20210110

RHEL9
	Kernel: Depends on container host
	Compiler: gcc 11.5.0 20240719 (Red Hat 11.5.0-2)

Fedora 40 (Clang)
	Kernel: Depends on container host
	Compiler: clang 18.1.8 (Fedora 18.1.8-1.fc40)

Fedora 41 (Clang)
	Kernel: Depends on container host
	Compiler: clang 19.1.5 (Fedora 19.1.5-1.fc41)

Ubuntu 20.04
	Kernel: Depends on container host
	Compiler: gcc (Ubuntu 9.4.0-1ubuntu1~20.04.2) 9.4.0

Ubuntu 24.04
	Kernel: Depends on container host
	Compiler: gcc (Ubuntu 13.3.0-6ubuntu2~24.04) 13.3.0

Ubuntu 22.04
	Kernel: Depends on container host
	Compiler: gcc (Ubuntu 11.4.0-1ubuntu1~22.04) 11.4.0

Windows Server 2022
	Kernel: 10.0.20348.2031
	Compiler: clang 15.0.7, gcc 14.1.0 (MinGW), and MSVC VS 19.39.33521

To view detailed results, visit:
https://lab.dpdk.org/results/dashboard/tarballs/32601/

UNH-IOL DPDK Community Lab

To manage your email subscriptions, visit: 
https://lab.dpdk.org/results/dashboard/preferences/subscriptions/

^ permalink raw reply	[flat|nested] 44+ messages in thread

* |SUCCESS| [GIT MASTER] e5176f23ae8b31437c3e5eb875c81f95bf3a9942
@ 2025-02-18  2:09 dpdklab
  0 siblings, 0 replies; 44+ messages in thread
From: dpdklab @ 2025-02-18  2:09 UTC (permalink / raw)
  To: Test Report; +Cc: dpdk-test-reports

_Functional Testing PASS_

Branch: dpdk

e5176f23ae8b31437c3e5eb875c81f95bf3a9942 --> functional testing pass

Upstream job id: Template-DTS-Pipeline#212981

Test environment and result as below:

Ubuntu 22.04
Kernel: 5.15.0-131-generic
Compiler: gcc (Ubuntu 11.4.0-1ubuntu1~22.04) 11.4.0
NIC: Intel Corporation Ethernet Converged Network Adapter 82599ES 10000 Mbps

Aggregate Results by Test Suite
+-----------------------------+--------+
|         Test Suite          | Result |
+=============================+========+
| unit_tests_mbuf             |  PASS  |
+-----------------------------+--------+
| vhost_virtio_user_interrupt |  PASS  |
+-----------------------------+--------+
| virtio_smoke                |  PASS  |
+-----------------------------+--------+


Arm Ampere Altra - Ubuntu 22.04
Kernel: 5.15.83+
Compiler: gcc 11.4
NIC: Intel Corporation QAT 8970 0 Mbps

Aggregate Results by Test Suite
+----------------------------+--------+
|         Test Suite         | Result |
+============================+========+
| crypto_perf_cryptodev_perf |  PASS  |
+----------------------------+--------+


To view detailed results, visit:
https://lab.dpdk.org/results/dashboard/tarballs/32601/

UNH-IOL DPDK Community Lab

To manage your email subscriptions, visit: 
https://lab.dpdk.org/results/dashboard/preferences/subscriptions/

^ permalink raw reply	[flat|nested] 44+ messages in thread

* |SUCCESS| [GIT MASTER] e5176f23ae8b31437c3e5eb875c81f95bf3a9942
@ 2025-02-18  2:03 dpdklab
  0 siblings, 0 replies; 44+ messages in thread
From: dpdklab @ 2025-02-18  2:03 UTC (permalink / raw)
  To: Test Report; +Cc: dpdk-test-reports

_Testing PASS_

Branch: dpdk

e5176f23ae8b31437c3e5eb875c81f95bf3a9942 --> testing pass

Upstream job id: Template-DTS-Pipeline#212983

Test environment and result as below:

+--------------------+----------------------+----------------------+
|    Environment     | dpdk_fips_validation | compressdev_zlib_pmd |
+====================+======================+======================+
| Ubuntu 20.04       | PASS                 | SKIPPED              |
+--------------------+----------------------+----------------------+
| Ubuntu 22.04 (ARM) | SKIPPED              | PASS                 |
+--------------------+----------------------+----------------------+
| Ubuntu 22.04       | SKIPPED              | PASS                 |
+--------------------+----------------------+----------------------+


Ubuntu 20.04
	Kernel: Depends on container host
	Compiler: gcc (Ubuntu 9.4.0-1ubuntu1~20.04.2) 9.4.0

Ubuntu 22.04 (ARM)
	Kernel: 5.15.0-97-generic
	Compiler: gcc gcc (Ubuntu 11.4.0-1ubuntu1~22.04) 11.4.0

Ubuntu 22.04
	Kernel: 5.15.0-100-generic
	Compiler: gcc gcc (Ubuntu 11.4.0-1ubuntu1~22.04) 11.4.0

To view detailed results, visit:
https://lab.dpdk.org/results/dashboard/tarballs/32601/

UNH-IOL DPDK Community Lab

To manage your email subscriptions, visit: 
https://lab.dpdk.org/results/dashboard/preferences/subscriptions/

^ permalink raw reply	[flat|nested] 44+ messages in thread

* |SUCCESS| [GIT MASTER] e5176f23ae8b31437c3e5eb875c81f95bf3a9942
@ 2025-02-18  1:58 dpdklab
  0 siblings, 0 replies; 44+ messages in thread
From: dpdklab @ 2025-02-18  1:58 UTC (permalink / raw)
  To: Test Report; +Cc: dpdk-test-reports

_Testing PASS_

Branch: dpdk

e5176f23ae8b31437c3e5eb875c81f95bf3a9942 --> testing pass

Upstream job id: ACVP-FIPS-testing#8938

Test environment and result as below:

+--------------------+----------------------+----------------------+
|    Environment     | dpdk_fips_validation | compressdev_zlib_pmd |
+====================+======================+======================+
| Ubuntu 20.04       | PASS                 | SKIPPED              |
+--------------------+----------------------+----------------------+
| Ubuntu 22.04 (ARM) | SKIPPED              | PASS                 |
+--------------------+----------------------+----------------------+


Ubuntu 20.04
	Kernel: Depends on container host
	Compiler: gcc (Ubuntu 9.4.0-1ubuntu1~20.04.2) 9.4.0

Ubuntu 22.04 (ARM)
	Kernel: 5.15.0-97-generic
	Compiler: gcc gcc (Ubuntu 11.4.0-1ubuntu1~22.04) 11.4.0

To view detailed results, visit:
https://lab.dpdk.org/results/dashboard/tarballs/32601/

UNH-IOL DPDK Community Lab

To manage your email subscriptions, visit: 
https://lab.dpdk.org/results/dashboard/preferences/subscriptions/

^ permalink raw reply	[flat|nested] 44+ messages in thread

* |SUCCESS| [GIT MASTER] e5176f23ae8b31437c3e5eb875c81f95bf3a9942
@ 2025-02-18  1:55 dpdklab
  0 siblings, 0 replies; 44+ messages in thread
From: dpdklab @ 2025-02-18  1:55 UTC (permalink / raw)
  To: Test Report; +Cc: dpdk-test-reports

_Functional Testing PASS_

Branch: dpdk

e5176f23ae8b31437c3e5eb875c81f95bf3a9942 --> functional testing pass

Upstream job id: Template-DTS-Pipeline#212979

Test environment and result as below:

Ubuntu 22.04
Kernel: 5.15.0-131-generic
Compiler: gcc (Ubuntu 11.4.0-1ubuntu1~22.04) 11.4.0
NIC: Intel Corporation Ethernet Converged Network Adapter 82599ES 10000 Mbps

Aggregate Results by Test Suite
+-----------------------------+--------+
|         Test Suite          | Result |
+=============================+========+
| unit_tests_mbuf             |  PASS  |
+-----------------------------+--------+
| vhost_virtio_user_interrupt |  PASS  |
+-----------------------------+--------+
| virtio_smoke                |  PASS  |
+-----------------------------+--------+


To view detailed results, visit:
https://lab.dpdk.org/results/dashboard/tarballs/32601/

UNH-IOL DPDK Community Lab

To manage your email subscriptions, visit: 
https://lab.dpdk.org/results/dashboard/preferences/subscriptions/

^ permalink raw reply	[flat|nested] 44+ messages in thread

* |SUCCESS| [GIT MASTER] e5176f23ae8b31437c3e5eb875c81f95bf3a9942
@ 2025-02-18  1:46 dpdklab
  0 siblings, 0 replies; 44+ messages in thread
From: dpdklab @ 2025-02-18  1:46 UTC (permalink / raw)
  To: Test Report; +Cc: dpdk-test-reports

_Functional Testing PASS_

Branch: dpdk

e5176f23ae8b31437c3e5eb875c81f95bf3a9942 --> functional testing pass

Upstream job id: Template-DTS-Pipeline#212982

Test environment and result as below:

Ubuntu 20.04.6
Kernel: 5.4.105
Compiler: gcc 9.4
NIC: Marvell CN106XX 50000 Mbps
Target: arm64-native-linuxapp-gcc

Aggregate Results by Test Suite
+-----------------+--------+
|   Test Suite    | Result |
+=================+========+
| cmdline         |  PASS  |
+-----------------+--------+
| dynamic_queue   |  PASS  |
+-----------------+--------+
| ipv4_reassembly |  PASS  |
+-----------------+--------+
| rxtx_callbacks  |  PASS  |
+-----------------+--------+
| tso             |  PASS  |
+-----------------+--------+


To view detailed results, visit:
https://lab.dpdk.org/results/dashboard/tarballs/32601/

UNH-IOL DPDK Community Lab

To manage your email subscriptions, visit: 
https://lab.dpdk.org/results/dashboard/preferences/subscriptions/

^ permalink raw reply	[flat|nested] 44+ messages in thread

* |SUCCESS| [GIT MASTER] e5176f23ae8b31437c3e5eb875c81f95bf3a9942
@ 2025-02-18  1:45 dpdklab
  0 siblings, 0 replies; 44+ messages in thread
From: dpdklab @ 2025-02-18  1:45 UTC (permalink / raw)
  To: Ali Alnubani, Test Report; +Cc: dpdk-test-reports

_Performance Testing PASS_

Branch: dpdk

e5176f23ae8b31437c3e5eb875c81f95bf3a9942 --> performance testing pass

Upstream job id: Template-DTS-Pipeline#212973

Test environment and result as below:

Ubuntu 24.04
Kernel: 6.8.0-45-generic
Compiler: gcc 13.2.0
NIC: NVIDIA Mellanox ConnectX-7 100000 Mbps
Fail/Total: 0/6

Detail performance results: 
+------------+---------+----------+-------------+------------------------------+
| frame_size | txd/rxd | num_cpus | num_threads |  throughput difference from  |
|            |         |          |             |           expected           |
+============+=========+==========+=============+==============================+
| 64         | 1024    | 1        | 1           | 0.2%                         |
+------------+---------+----------+-------------+------------------------------+
| 128        | 1024    | 1        | 1           | 0.6%                         |
+------------+---------+----------+-------------+------------------------------+
| 256        | 1024    | 1        | 1           | 1.0%                         |
+------------+---------+----------+-------------+------------------------------+
| 512        | 1024    | 1        | 1           | -0.1%                        |
+------------+---------+----------+-------------+------------------------------+
| 1024       | 1024    | 1        | 1           | -0.1%                        |
+------------+---------+----------+-------------+------------------------------+
| 1518       | 1024    | 1        | 1           | -0.0%                        |
+------------+---------+----------+-------------+------------------------------+

Ubuntu 24.04
Kernel: 6.8.0-45-generic
Compiler: gcc 13.2.0
NIC: Mellanox ConnectX-6 Lx 25000 Mbps
Fail/Total: 0/6

Detail performance results: 
+------------+---------+----------+-------------+------------------------------+
| frame_size | txd/rxd | num_cpus | num_threads |  throughput difference from  |
|            |         |          |             |           expected           |
+============+=========+==========+=============+==============================+
| 64         | 1024    | 1        | 1           | -0.1%                        |
+------------+---------+----------+-------------+------------------------------+
| 128        | 1024    | 1        | 1           | 0.1%                         |
+------------+---------+----------+-------------+------------------------------+
| 256        | 1024    | 1        | 1           | 0.0%                         |
+------------+---------+----------+-------------+------------------------------+
| 512        | 1024    | 1        | 1           | 0.1%                         |
+------------+---------+----------+-------------+------------------------------+
| 1024       | 1024    | 1        | 1           | -0.0%                        |
+------------+---------+----------+-------------+------------------------------+
| 1518       | 1024    | 1        | 1           | -0.2%                        |
+------------+---------+----------+-------------+------------------------------+

To view detailed results, visit:
https://lab.dpdk.org/results/dashboard/tarballs/32601/

UNH-IOL DPDK Community Lab

To manage your email subscriptions, visit: 
https://lab.dpdk.org/results/dashboard/preferences/subscriptions/

^ permalink raw reply	[flat|nested] 44+ messages in thread

* |SUCCESS| [GIT MASTER] e5176f23ae8b31437c3e5eb875c81f95bf3a9942
@ 2025-02-18  1:28 dpdklab
  0 siblings, 0 replies; 44+ messages in thread
From: dpdklab @ 2025-02-18  1:28 UTC (permalink / raw)
  To: Test Report; +Cc: dpdk-test-reports

_Performance Testing PASS_

Branch: dpdk

e5176f23ae8b31437c3e5eb875c81f95bf3a9942 --> performance testing pass

Upstream job id: Template-DTS-Pipeline#212976

Test environment and result as below:

Ubuntu 22.04
Kernel: 5.15.0-100-generic
Compiler: gcc (Ubuntu 11.4.0-1ubuntu1~22.04) 11.4.0
NIC: Broadcom Inc. and subsidiaries BCM57414 NetXtreme-E 10Gb/25Gb RDMA Ethernet Controller 16d7 25 Mbps
Fail/Total: 0/3

Detail performance results: 
+------------+---------+----------+-------------+------------------------------+
| frame_size | txd/rxd | num_cpus | num_threads |  throughput difference from  |
|            |         |          |             |           expected           |
+============+=========+==========+=============+==============================+
| 64         | 128     | 1        | 1           | 0.1%                         |
+------------+---------+----------+-------------+------------------------------+
| 64         | 512     | 1        | 1           | -0.8%                        |
+------------+---------+----------+-------------+------------------------------+
| 64         | 2048    | 1        | 1           | -0.8%                        |
+------------+---------+----------+-------------+------------------------------+

Ubuntu 22.04 ARM
Kernel: 5.15.83+
Compiler: gcc 11.4.0
NIC: Arm Broadcom Inc. brcm_57414 25000 Mbps
Fail/Total: 0/2

Detail performance results: 
+------------+---------+----------+-------------+------------------------------+
| frame_size | txd/rxd | num_cpus | num_threads |  throughput difference from  |
|            |         |          |             |           expected           |
+============+=========+==========+=============+==============================+
| 64         | 512     | 1        | 1           | -0.2%                        |
+------------+---------+----------+-------------+------------------------------+
| 64         | 2048    | 1        | 1           | 0.2%                         |
+------------+---------+----------+-------------+------------------------------+

To view detailed results, visit:
https://lab.dpdk.org/results/dashboard/tarballs/32601/

UNH-IOL DPDK Community Lab

To manage your email subscriptions, visit: 
https://lab.dpdk.org/results/dashboard/preferences/subscriptions/

^ permalink raw reply	[flat|nested] 44+ messages in thread

* |SUCCESS| [GIT MASTER] e5176f23ae8b31437c3e5eb875c81f95bf3a9942
@ 2025-02-16  2:53 dpdklab
  0 siblings, 0 replies; 44+ messages in thread
From: dpdklab @ 2025-02-16  2:53 UTC (permalink / raw)
  To: Test Report; +Cc: dpdk-test-reports

_Testing PASS_

Branch: dpdk

e5176f23ae8b31437c3e5eb875c81f95bf3a9942 --> testing pass

Upstream job id: Generic-DPDK-Compile-Meson#361925

Test environment and result as below:

+----------------------------------------+--------------------+
|              Environment               | dpdk_meson_compile |
+========================================+====================+
| RHEL9 (ARM)                            | PASS               |
+----------------------------------------+--------------------+
| Ubuntu 20.04 ARM GCC Cross Compile     | PASS               |
+----------------------------------------+--------------------+
| Debian 12 with MUSDK                   | PASS               |
+----------------------------------------+--------------------+
| Ubuntu 20.04 ARM SVE                   | PASS               |
+----------------------------------------+--------------------+
| Fedora 40 (ARM Clang)                  | PASS               |
+----------------------------------------+--------------------+
| Fedora 41 (ARM)                        | PASS               |
+----------------------------------------+--------------------+
| Fedora 41 (ARM Clang)                  | PASS               |
+----------------------------------------+--------------------+
| Debian 11 (Buster) (ARM)               | PASS               |
+----------------------------------------+--------------------+
| Ubuntu 22.04 (ARM)                     | PASS               |
+----------------------------------------+--------------------+
| CentOS Stream 10 (ARM)                 | PASS               |
+----------------------------------------+--------------------+
| Ubuntu 24.04 (ARM)                     | PASS               |
+----------------------------------------+--------------------+
| CentOS Stream 9 (ARM)                  | PASS               |
+----------------------------------------+--------------------+
| Debian 12 (arm)                        | PASS               |
+----------------------------------------+--------------------+
| Ubuntu 20.04 aarch32 GCC Cross Compile | PASS               |
+----------------------------------------+--------------------+
| Ubuntu 20.04 ARM Clang Cross Compile   | PASS               |
+----------------------------------------+--------------------+
| Fedora 40 (ARM)                        | PASS               |
+----------------------------------------+--------------------+
| Ubuntu 20.04 (ARM)                     | PASS               |
+----------------------------------------+--------------------+


RHEL9 (ARM)
	Kernel: Depends on container host
	Compiler: gcc 11.5.0 20240719 (Red Hat 11.5.0-2)

Ubuntu 20.04 ARM GCC Cross Compile
	Kernel: Depends on container host
	Compiler: aarch64-linux-gnu-gcc (Ubuntu 9.4.0-1ubuntu1~20.04.2) 9.4.0

Debian 12 with MUSDK
	Kernel: Depends on container host
	Compiler: gcc (Debian 12.2.0-14) 12.2.0

Ubuntu 20.04 ARM SVE
	Kernel: Depends on container host
	Compiler: gcc (Ubuntu 10.5.0-1ubuntu1~20.04) 10.5.0

Fedora 40 (ARM Clang)
	Kernel: Depends on container host
	Compiler: clang 18.1.8 (Fedora 18.1.8-1.fc40)

Fedora 41 (ARM)
	Kernel: Depends on container host
	Compiler: gcc 14.2.1 20240912 (Red Hat 14.2.1-3)

Fedora 41 (ARM Clang)
	Kernel: Depends on container host
	Compiler: clang 19.1.5 (Fedora 19.1.5-1.fc41)

Debian 11 (Buster) (ARM)
	Kernel: Depends on container host
	Compiler: gcc (Debian 10.2.1-6) 10.2.1 20210110

Ubuntu 22.04 (ARM)
	Kernel: Depends on container host
	Compiler: gcc (Ubuntu 11.4.0-1ubuntu1~22.04) 11.4.0

CentOS Stream 10 (ARM)
	Kernel: Depends on container host
	Compiler: gcc 14.2.1 20241104 (Red Hat 14.2.1-6)

Ubuntu 24.04 (ARM)
	Kernel: Depends on container host
	Compiler: gcc (Ubuntu 13.3.0-6ubuntu2~24.04) 13.3.0

CentOS Stream 9 (ARM)
	Kernel: Depends on container host
	Compiler: gcc 11.5.0 20240719 (Red Hat 11.5.0-2)

Debian 12 (arm)
	Kernel: Depends on container host
	Compiler: gcc (Debian 12.2.0-14) 12.2.0

Ubuntu 20.04 aarch32 GCC Cross Compile
	Kernel: Depends on container host
	Compiler: gcc 9.4.0

Ubuntu 20.04 ARM Clang Cross Compile
	Kernel: Depends on container host
	Compiler: clang 10.0.0-4ubuntu1

Fedora 40 (ARM)
	Kernel: Depends on container host
	Compiler: gcc 14.2.1 20240912 (Red Hat 14.2.1-3)

Ubuntu 20.04 (ARM)
	Kernel: Depends on container host
	Compiler: gcc (Ubuntu 9.4.0-1ubuntu1~20.04.2) 9.4.0

To view detailed results, visit:
https://lab.dpdk.org/results/dashboard/tarballs/32586/

UNH-IOL DPDK Community Lab

To manage your email subscriptions, visit: 
https://lab.dpdk.org/results/dashboard/preferences/subscriptions/

^ permalink raw reply	[flat|nested] 44+ messages in thread

* |SUCCESS| [GIT MASTER] e5176f23ae8b31437c3e5eb875c81f95bf3a9942
@ 2025-02-16  2:47 dpdklab
  0 siblings, 0 replies; 44+ messages in thread
From: dpdklab @ 2025-02-16  2:47 UTC (permalink / raw)
  To: Test Report; +Cc: dpdk-test-reports

_Testing PASS_

Branch: dpdk

e5176f23ae8b31437c3e5eb875c81f95bf3a9942 --> testing pass

Upstream job id: Generic-DPDK-Compile-Meson#361940

Test environment and result as below:

+---------------------+--------------------+-------------------+------------------+-------------------+----------------------+
|     Environment     | dpdk_meson_compile | dpdk_compile_spdk | dpdk_compile_ovs | dpdk_msvc_compile | dpdk_mingw64_compile |
+=====================+====================+===================+==================+===================+======================+
| CentOS Stream 9     | PASS               | PASS              | SKIPPED          | SKIPPED           | SKIPPED              |
+---------------------+--------------------+-------------------+------------------+-------------------+----------------------+
| Debian Bullseye     | PASS               | PASS              | SKIPPED          | SKIPPED           | SKIPPED              |
+---------------------+--------------------+-------------------+------------------+-------------------+----------------------+
| CentOS Stream 10    | PASS               | SKIPPED           | SKIPPED          | SKIPPED           | SKIPPED              |
+---------------------+--------------------+-------------------+------------------+-------------------+----------------------+
| Fedora 40 (Clang)   | PASS               | PASS              | SKIPPED          | SKIPPED           | SKIPPED              |
+---------------------+--------------------+-------------------+------------------+-------------------+----------------------+
| Fedora 41           | PASS               | PASS              | PASS             | SKIPPED           | SKIPPED              |
+---------------------+--------------------+-------------------+------------------+-------------------+----------------------+
| Fedora 41 (Clang)   | PASS               | PASS              | PASS             | SKIPPED           | SKIPPED              |
+---------------------+--------------------+-------------------+------------------+-------------------+----------------------+
| Debian 12           | PASS               | PASS              | SKIPPED          | SKIPPED           | SKIPPED              |
+---------------------+--------------------+-------------------+------------------+-------------------+----------------------+
| openSUSE Leap 15    | PASS               | SKIPPED           | SKIPPED          | SKIPPED           | SKIPPED              |
+---------------------+--------------------+-------------------+------------------+-------------------+----------------------+
| Ubuntu 24.04        | PASS               | PASS              | PASS             | SKIPPED           | SKIPPED              |
+---------------------+--------------------+-------------------+------------------+-------------------+----------------------+
| RHEL8               | PASS               | SKIPPED           | SKIPPED          | SKIPPED           | SKIPPED              |
+---------------------+--------------------+-------------------+------------------+-------------------+----------------------+
| Ubuntu 20.04        | PASS               | SKIPPED           | SKIPPED          | SKIPPED           | SKIPPED              |
+---------------------+--------------------+-------------------+------------------+-------------------+----------------------+
| Ubuntu 22.04        | PASS               | PASS              | SKIPPED          | SKIPPED           | SKIPPED              |
+---------------------+--------------------+-------------------+------------------+-------------------+----------------------+
| RHEL9               | PASS               | SKIPPED           | SKIPPED          | SKIPPED           | SKIPPED              |
+---------------------+--------------------+-------------------+------------------+-------------------+----------------------+
| Arch Linux          | PASS               | SKIPPED           | SKIPPED          | SKIPPED           | SKIPPED              |
+---------------------+--------------------+-------------------+------------------+-------------------+----------------------+
| Alpine              | PASS               | SKIPPED           | SKIPPED          | SKIPPED           | SKIPPED              |
+---------------------+--------------------+-------------------+------------------+-------------------+----------------------+
| FreeBSD 13.4        | PASS               | SKIPPED           | SKIPPED          | SKIPPED           | SKIPPED              |
+---------------------+--------------------+-------------------+------------------+-------------------+----------------------+
| FreeBSD 14.2        | PASS               | SKIPPED           | SKIPPED          | SKIPPED           | SKIPPED              |
+---------------------+--------------------+-------------------+------------------+-------------------+----------------------+
| Fedora 40           | PASS               | PASS              | SKIPPED          | SKIPPED           | SKIPPED              |
+---------------------+--------------------+-------------------+------------------+-------------------+----------------------+
| Windows Server 2022 | SKIPPED            | SKIPPED           | SKIPPED          | PASS              | PASS                 |
+---------------------+--------------------+-------------------+------------------+-------------------+----------------------+


CentOS Stream 9
	Kernel: Depends on container host
	Compiler: gcc 11.5.0 20240719 (Red Hat 11.5.0-2)

Debian Bullseye
	Kernel: Depends on container host
	Compiler: gcc (Debian 10.2.1-6) 10.2.1 20210110

CentOS Stream 10
	Kernel: Depends on container host
	Compiler: gcc 14.2.1 20241104 (Red Hat 14.2.1-6)

Fedora 40 (Clang)
	Kernel: Depends on container host
	Compiler: clang 18.1.8 (Fedora 18.1.8-1.fc40)

Fedora 41
	Kernel: Depends on container host
	Compiler: gcc 14.2.1 20240912 (Red Hat 14.2.1-3)

Fedora 41 (Clang)
	Kernel: Depends on container host
	Compiler: clang 19.1.5 (Fedora 19.1.5-1.fc41)

Debian 12
	Kernel: Depends on container host
	Compiler: gcc (Debian 12.2.0-14) 12.2.0

openSUSE Leap 15
	Kernel: Depends on container host
	Compiler: gcc (SUSE Linux) 7.5.0

Ubuntu 24.04
	Kernel: Depends on container host
	Compiler: gcc (Ubuntu 13.3.0-6ubuntu2~24.04) 13.3.0

RHEL8
	Kernel: Depends on container host
	Compiler: gcc 8.5.0 20210514 (Red Hat 8.5.0-22)

Ubuntu 20.04
	Kernel: Depends on container host
	Compiler: gcc (Ubuntu 9.4.0-1ubuntu1~20.04.2) 9.4.0

Ubuntu 22.04
	Kernel: Depends on container host
	Compiler: gcc (Ubuntu 11.4.0-1ubuntu1~22.04) 11.4.0

RHEL9
	Kernel: Depends on container host
	Compiler: gcc 11.5.0 20240719 (Red Hat 11.5.0-2)

Arch Linux
	Kernel: Depends on container host
	Compiler: gcc 14.2.1 20240910

Alpine
	Kernel: Depends on container host
	Compiler: gcc (Alpine 14.2.0) 14.2.0

FreeBSD 13.4
	Kernel: 13.4-RELEASE-p1
	Compiler: clang 18.1.6

FreeBSD 14.2
	Kernel: 14.2-RELEASE
	Compiler: clang 18.1.6

Fedora 40
	Kernel: Depends on container host
	Compiler: gcc 14.2.1 20240912 (Red Hat 14.2.1-3)

Windows Server 2022
	Kernel: 10.0.20348.2031
	Compiler: clang 15.0.7, gcc 14.1.0 (MinGW), and MSVC VS 19.39.33521

To view detailed results, visit:
https://lab.dpdk.org/results/dashboard/tarballs/32586/

UNH-IOL DPDK Community Lab

To manage your email subscriptions, visit: 
https://lab.dpdk.org/results/dashboard/preferences/subscriptions/

^ permalink raw reply	[flat|nested] 44+ messages in thread

* |SUCCESS| [GIT MASTER] e5176f23ae8b31437c3e5eb875c81f95bf3a9942
@ 2025-02-16  2:40 dpdklab
  0 siblings, 0 replies; 44+ messages in thread
From: dpdklab @ 2025-02-16  2:40 UTC (permalink / raw)
  To: Test Report; +Cc: dpdk-test-reports

_Testing PASS_

Branch: dpdk

e5176f23ae8b31437c3e5eb875c81f95bf3a9942 --> testing pass

Upstream job id: ACVP-FIPS-testing#8922

Test environment and result as below:

+--------------------+----------------------+----------------------+
|    Environment     | compressdev_zlib_pmd | dpdk_fips_validation |
+====================+======================+======================+
| Ubuntu 22.04 (ARM) | PASS                 | SKIPPED              |
+--------------------+----------------------+----------------------+
| Ubuntu 22.04       | PASS                 | SKIPPED              |
+--------------------+----------------------+----------------------+
| Ubuntu 20.04       | SKIPPED              | PASS                 |
+--------------------+----------------------+----------------------+


Ubuntu 22.04 (ARM)
	Kernel: 5.15.0-97-generic
	Compiler: gcc gcc (Ubuntu 11.4.0-1ubuntu1~22.04) 11.4.0

Ubuntu 22.04
	Kernel: 5.15.0-100-generic
	Compiler: gcc gcc (Ubuntu 11.4.0-1ubuntu1~22.04) 11.4.0

Ubuntu 20.04
	Kernel: Depends on container host
	Compiler: gcc (Ubuntu 9.4.0-1ubuntu1~20.04.2) 9.4.0

To view detailed results, visit:
https://lab.dpdk.org/results/dashboard/tarballs/32586/

UNH-IOL DPDK Community Lab

To manage your email subscriptions, visit: 
https://lab.dpdk.org/results/dashboard/preferences/subscriptions/

^ permalink raw reply	[flat|nested] 44+ messages in thread

* |SUCCESS| [GIT MASTER] e5176f23ae8b31437c3e5eb875c81f95bf3a9942
@ 2025-02-16  2:37 dpdklab
  0 siblings, 0 replies; 44+ messages in thread
From: dpdklab @ 2025-02-16  2:37 UTC (permalink / raw)
  To: Test Report; +Cc: dpdk-test-reports

_Testing PASS_

Branch: dpdk

e5176f23ae8b31437c3e5eb875c81f95bf3a9942 --> testing pass

Upstream job id: Generic-DPDK-Compile-ABI#116298

Test environment and result as below:

+-------------------+----------+
|    Environment    | abi_test |
+===================+==========+
| Debian Bullseye   | PASS     |
+-------------------+----------+
| CentOS Stream 9   | PASS     |
+-------------------+----------+
| Debian 12         | PASS     |
+-------------------+----------+
| Fedora 40 (Clang) | PASS     |
+-------------------+----------+
| Fedora 40         | PASS     |
+-------------------+----------+
| openSUSE Leap 15  | PASS     |
+-------------------+----------+
| CentOS Stream 10  | PASS     |
+-------------------+----------+
| Fedora 41         | PASS     |
+-------------------+----------+
| Fedora 41 (Clang) | PASS     |
+-------------------+----------+
| Arch Linux        | PASS     |
+-------------------+----------+
| RHEL8             | PASS     |
+-------------------+----------+
| Ubuntu 24.04      | PASS     |
+-------------------+----------+
| Ubuntu 22.04      | PASS     |
+-------------------+----------+
| RHEL9             | PASS     |
+-------------------+----------+


Debian Bullseye
	Kernel: Depends on container host
	Compiler: gcc (Debian 10.2.1-6) 10.2.1 20210110

CentOS Stream 9
	Kernel: Depends on container host
	Compiler: gcc 11.5.0 20240719 (Red Hat 11.5.0-2)

Debian 12
	Kernel: Depends on container host
	Compiler: gcc (Debian 12.2.0-14) 12.2.0

Fedora 40 (Clang)
	Kernel: Depends on container host
	Compiler: clang 18.1.8 (Fedora 18.1.8-1.fc40)

Fedora 40
	Kernel: Depends on container host
	Compiler: gcc 14.2.1 20240912 (Red Hat 14.2.1-3)

openSUSE Leap 15
	Kernel: Depends on container host
	Compiler: gcc (SUSE Linux) 7.5.0

CentOS Stream 10
	Kernel: Depends on container host
	Compiler: gcc 14.2.1 20241104 (Red Hat 14.2.1-6)

Fedora 41
	Kernel: Depends on container host
	Compiler: gcc 14.2.1 20240912 (Red Hat 14.2.1-3)

Fedora 41 (Clang)
	Kernel: Depends on container host
	Compiler: clang 19.1.5 (Fedora 19.1.5-1.fc41)

Arch Linux
	Kernel: Depends on container host
	Compiler: gcc 14.2.1 20240910

RHEL8
	Kernel: Depends on container host
	Compiler: gcc 8.5.0 20210514 (Red Hat 8.5.0-22)

Ubuntu 24.04
	Kernel: Depends on container host
	Compiler: gcc (Ubuntu 13.3.0-6ubuntu2~24.04) 13.3.0

Ubuntu 22.04
	Kernel: Depends on container host
	Compiler: gcc (Ubuntu 11.4.0-1ubuntu1~22.04) 11.4.0

RHEL9
	Kernel: Depends on container host
	Compiler: gcc 11.5.0 20240719 (Red Hat 11.5.0-2)

To view detailed results, visit:
https://lab.dpdk.org/results/dashboard/tarballs/32586/

UNH-IOL DPDK Community Lab

To manage your email subscriptions, visit: 
https://lab.dpdk.org/results/dashboard/preferences/subscriptions/

^ permalink raw reply	[flat|nested] 44+ messages in thread

* |SUCCESS| [GIT MASTER] e5176f23ae8b31437c3e5eb875c81f95bf3a9942
@ 2025-02-16  2:24 dpdklab
  0 siblings, 0 replies; 44+ messages in thread
From: dpdklab @ 2025-02-16  2:24 UTC (permalink / raw)
  To: Test Report; +Cc: dpdk-test-reports

_Testing PASS_

Branch: dpdk

e5176f23ae8b31437c3e5eb875c81f95bf3a9942 --> testing pass

Upstream job id: Generic-Unit-Test-DPDK#315234

Test environment and result as below:

+---------------------+----------------+
|     Environment     | dpdk_unit_test |
+=====================+================+
| CentOS Stream 9     | PASS           |
+---------------------+----------------+
| Debian Bullseye     | PASS           |
+---------------------+----------------+
| CentOS Stream 10    | PASS           |
+---------------------+----------------+
| Debian 12           | PASS           |
+---------------------+----------------+
| Arch Linux          | PASS           |
+---------------------+----------------+
| Fedora 40           | PASS           |
+---------------------+----------------+
| Fedora 40 (Clang)   | PASS           |
+---------------------+----------------+
| Fedora 41           | PASS           |
+---------------------+----------------+
| Fedora 41 (Clang)   | PASS           |
+---------------------+----------------+
| RHEL8               | PASS           |
+---------------------+----------------+
| Ubuntu 20.04        | PASS           |
+---------------------+----------------+
| RHEL9               | PASS           |
+---------------------+----------------+
| Ubuntu 22.04        | PASS           |
+---------------------+----------------+
| Ubuntu 24.04        | PASS           |
+---------------------+----------------+
| Windows Server 2022 | PASS           |
+---------------------+----------------+


CentOS Stream 9
	Kernel: Depends on container host
	Compiler: gcc 11.5.0 20240719 (Red Hat 11.5.0-2)

Debian Bullseye
	Kernel: Depends on container host
	Compiler: gcc (Debian 10.2.1-6) 10.2.1 20210110

CentOS Stream 10
	Kernel: Depends on container host
	Compiler: gcc 14.2.1 20241104 (Red Hat 14.2.1-6)

Debian 12
	Kernel: Depends on container host
	Compiler: gcc (Debian 12.2.0-14) 12.2.0

Arch Linux
	Kernel: Depends on container host
	Compiler: gcc 14.2.1 20240910

Fedora 40
	Kernel: Depends on container host
	Compiler: gcc 14.2.1 20240912 (Red Hat 14.2.1-3)

Fedora 40 (Clang)
	Kernel: Depends on container host
	Compiler: clang 18.1.8 (Fedora 18.1.8-1.fc40)

Fedora 41
	Kernel: Depends on container host
	Compiler: gcc 14.2.1 20240912 (Red Hat 14.2.1-3)

Fedora 41 (Clang)
	Kernel: Depends on container host
	Compiler: clang 19.1.5 (Fedora 19.1.5-1.fc41)

RHEL8
	Kernel: Depends on container host
	Compiler: gcc 8.5.0 20210514 (Red Hat 8.5.0-22)

Ubuntu 20.04
	Kernel: Depends on container host
	Compiler: gcc (Ubuntu 9.4.0-1ubuntu1~20.04.2) 9.4.0

RHEL9
	Kernel: Depends on container host
	Compiler: gcc 11.5.0 20240719 (Red Hat 11.5.0-2)

Ubuntu 22.04
	Kernel: Depends on container host
	Compiler: gcc (Ubuntu 11.4.0-1ubuntu1~22.04) 11.4.0

Ubuntu 24.04
	Kernel: Depends on container host
	Compiler: gcc (Ubuntu 13.3.0-6ubuntu2~24.04) 13.3.0

Windows Server 2022
	Kernel: 10.0.20348.2031
	Compiler: clang 15.0.7, gcc 14.1.0 (MinGW), and MSVC VS 19.39.33521

To view detailed results, visit:
https://lab.dpdk.org/results/dashboard/tarballs/32586/

UNH-IOL DPDK Community Lab

To manage your email subscriptions, visit: 
https://lab.dpdk.org/results/dashboard/preferences/subscriptions/

^ permalink raw reply	[flat|nested] 44+ messages in thread

* |SUCCESS| [GIT MASTER] e5176f23ae8b31437c3e5eb875c81f95bf3a9942
@ 2025-02-16  2:07 dpdklab
  0 siblings, 0 replies; 44+ messages in thread
From: dpdklab @ 2025-02-16  2:07 UTC (permalink / raw)
  To: Test Report; +Cc: dpdk-test-reports

_Functional Testing PASS_

Branch: dpdk

e5176f23ae8b31437c3e5eb875c81f95bf3a9942 --> functional testing pass

Upstream job id: Template-DTS-Pipeline#212774

Test environment and result as below:

Ubuntu 22.04
Kernel: 5.15.0-131-generic
Compiler: gcc (Ubuntu 11.4.0-1ubuntu1~22.04) 11.4.0
NIC: Intel Corporation Ethernet Converged Network Adapter 82599ES 10000 Mbps

Aggregate Results by Test Suite
+-----------------------------+--------+
|         Test Suite          | Result |
+=============================+========+
| unit_tests_mbuf             |  PASS  |
+-----------------------------+--------+
| vhost_virtio_user_interrupt |  PASS  |
+-----------------------------+--------+
| virtio_smoke                |  PASS  |
+-----------------------------+--------+


Arm Ampere Altra - Ubuntu 22.04
Kernel: 5.15.83+
Compiler: gcc 11.4
NIC: Intel Corporation QAT 8970 0 Mbps

Aggregate Results by Test Suite
+----------------------------+--------+
|         Test Suite         | Result |
+============================+========+
| crypto_perf_cryptodev_perf |  PASS  |
+----------------------------+--------+


To view detailed results, visit:
https://lab.dpdk.org/results/dashboard/tarballs/32586/

UNH-IOL DPDK Community Lab

To manage your email subscriptions, visit: 
https://lab.dpdk.org/results/dashboard/preferences/subscriptions/

^ permalink raw reply	[flat|nested] 44+ messages in thread

* |SUCCESS| [GIT MASTER] e5176f23ae8b31437c3e5eb875c81f95bf3a9942
@ 2025-02-16  1:58 dpdklab
  0 siblings, 0 replies; 44+ messages in thread
From: dpdklab @ 2025-02-16  1:58 UTC (permalink / raw)
  To: Test Report; +Cc: dpdk-test-reports

_Testing PASS_

Branch: dpdk

e5176f23ae8b31437c3e5eb875c81f95bf3a9942 --> testing pass

Upstream job id: Generic-Unit-Test-DPDK#315235

Test environment and result as below:

+-----------------------------+----------------+--------------+---------------------------+------------------------------+
|         Environment         | dpdk_unit_test | lpm_autotest | cryptodev_sw_zuc_autotest | cryptodev_sw_snow3g_autotest |
+=============================+================+==============+===========================+==============================+
| 32-bit Ubuntu 22.04.4 (ARM) | PASS           | SKIPPED      | SKIPPED                   | SKIPPED                      |
+-----------------------------+----------------+--------------+---------------------------+------------------------------+
| CentOS Stream 9 (ARM)       | PASS           | SKIPPED      | SKIPPED                   | SKIPPED                      |
+-----------------------------+----------------+--------------+---------------------------+------------------------------+
| CentOS Stream 10 (ARM)      | PASS           | SKIPPED      | SKIPPED                   | SKIPPED                      |
+-----------------------------+----------------+--------------+---------------------------+------------------------------+
| Debian 11 (Buster) (ARM)    | PASS           | SKIPPED      | SKIPPED                   | SKIPPED                      |
+-----------------------------+----------------+--------------+---------------------------+------------------------------+
| Fedora 40 (ARM)             | PASS           | SKIPPED      | SKIPPED                   | SKIPPED                      |
+-----------------------------+----------------+--------------+---------------------------+------------------------------+
| Debian 12 (arm)             | PASS           | SKIPPED      | PASS                      | PASS                         |
+-----------------------------+----------------+--------------+---------------------------+------------------------------+
| Fedora 41 (ARM)             | PASS           | SKIPPED      | SKIPPED                   | SKIPPED                      |
+-----------------------------+----------------+--------------+---------------------------+------------------------------+
| Fedora 40 (ARM Clang)       | PASS           | SKIPPED      | SKIPPED                   | SKIPPED                      |
+-----------------------------+----------------+--------------+---------------------------+------------------------------+
| Fedora 41 (ARM Clang)       | PASS           | SKIPPED      | SKIPPED                   | SKIPPED                      |
+-----------------------------+----------------+--------------+---------------------------+------------------------------+
| Ubuntu 20.04 (ARM)          | PASS           | SKIPPED      | SKIPPED                   | SKIPPED                      |
+-----------------------------+----------------+--------------+---------------------------+------------------------------+
| RHEL9 (ARM)                 | PASS           | SKIPPED      | SKIPPED                   | SKIPPED                      |
+-----------------------------+----------------+--------------+---------------------------+------------------------------+
| Ubuntu 24.04 (ARM)          | PASS           | SKIPPED      | SKIPPED                   | SKIPPED                      |
+-----------------------------+----------------+--------------+---------------------------+------------------------------+
| Ubuntu 22.04 (ARM)          | PASS           | SKIPPED      | SKIPPED                   | SKIPPED                      |
+-----------------------------+----------------+--------------+---------------------------+------------------------------+
| Ubuntu 20.04 ARM SVE        | SKIPPED        | PASS         | SKIPPED                   | SKIPPED                      |
+-----------------------------+----------------+--------------+---------------------------+------------------------------+


32-bit Ubuntu 22.04.4 (ARM)
	Kernel: 5.15.83+ aarch64
	Compiler: gcc (Ubuntu 11.4.0-1ubuntu1~22.04) 11.4.0

CentOS Stream 9 (ARM)
	Kernel: Depends on container host
	Compiler: gcc 11.5.0 20240719 (Red Hat 11.5.0-2)

CentOS Stream 10 (ARM)
	Kernel: Depends on container host
	Compiler: gcc 14.2.1 20241104 (Red Hat 14.2.1-6)

Debian 11 (Buster) (ARM)
	Kernel: Depends on container host
	Compiler: gcc (Debian 10.2.1-6) 10.2.1 20210110

Fedora 40 (ARM)
	Kernel: Depends on container host
	Compiler: gcc 14.2.1 20240912 (Red Hat 14.2.1-3)

Debian 12 (arm)
	Kernel: Depends on container host
	Compiler: gcc (Debian 12.2.0-14) 12.2.0

Fedora 41 (ARM)
	Kernel: Depends on container host
	Compiler: gcc 14.2.1 20240912 (Red Hat 14.2.1-3)

Fedora 40 (ARM Clang)
	Kernel: Depends on container host
	Compiler: clang 18.1.8 (Fedora 18.1.8-1.fc40)

Fedora 41 (ARM Clang)
	Kernel: Depends on container host
	Compiler: clang 19.1.5 (Fedora 19.1.5-1.fc41)

Ubuntu 20.04 (ARM)
	Kernel: Depends on container host
	Compiler: gcc (Ubuntu 9.4.0-1ubuntu1~20.04.2) 9.4.0

RHEL9 (ARM)
	Kernel: Depends on container host
	Compiler: gcc 11.5.0 20240719 (Red Hat 11.5.0-2)

Ubuntu 24.04 (ARM)
	Kernel: Depends on container host
	Compiler: gcc (Ubuntu 13.3.0-6ubuntu2~24.04) 13.3.0

Ubuntu 22.04 (ARM)
	Kernel: Depends on container host
	Compiler: gcc (Ubuntu 11.4.0-1ubuntu1~22.04) 11.4.0

Ubuntu 20.04 ARM SVE
	Kernel: Depends on container host
	Compiler: gcc (Ubuntu 10.5.0-1ubuntu1~20.04) 10.5.0

To view detailed results, visit:
https://lab.dpdk.org/results/dashboard/tarballs/32586/

UNH-IOL DPDK Community Lab

To manage your email subscriptions, visit: 
https://lab.dpdk.org/results/dashboard/preferences/subscriptions/

^ permalink raw reply	[flat|nested] 44+ messages in thread

* |SUCCESS| [GIT MASTER] e5176f23ae8b31437c3e5eb875c81f95bf3a9942
@ 2025-02-16  1:57 dpdklab
  0 siblings, 0 replies; 44+ messages in thread
From: dpdklab @ 2025-02-16  1:57 UTC (permalink / raw)
  To: Test Report; +Cc: dpdk-test-reports

_Testing PASS_

Branch: dpdk

e5176f23ae8b31437c3e5eb875c81f95bf3a9942 --> testing pass

Upstream job id: Generic-Unit-Test-DPDK#315231

Test environment and result as below:

+-----------------------------+----------------+--------------+---------------------------+------------------------------+
|         Environment         | dpdk_unit_test | lpm_autotest | cryptodev_sw_zuc_autotest | cryptodev_sw_snow3g_autotest |
+=============================+================+==============+===========================+==============================+
| 32-bit Ubuntu 22.04.4 (ARM) | PASS           | SKIPPED      | SKIPPED                   | SKIPPED                      |
+-----------------------------+----------------+--------------+---------------------------+------------------------------+
| CentOS Stream 9 (ARM)       | PASS           | SKIPPED      | SKIPPED                   | SKIPPED                      |
+-----------------------------+----------------+--------------+---------------------------+------------------------------+
| CentOS Stream 10 (ARM)      | PASS           | SKIPPED      | SKIPPED                   | SKIPPED                      |
+-----------------------------+----------------+--------------+---------------------------+------------------------------+
| Debian 11 (Buster) (ARM)    | PASS           | SKIPPED      | SKIPPED                   | SKIPPED                      |
+-----------------------------+----------------+--------------+---------------------------+------------------------------+
| Fedora 40 (ARM)             | PASS           | SKIPPED      | SKIPPED                   | SKIPPED                      |
+-----------------------------+----------------+--------------+---------------------------+------------------------------+
| Debian 12 (arm)             | PASS           | SKIPPED      | PASS                      | PASS                         |
+-----------------------------+----------------+--------------+---------------------------+------------------------------+
| Fedora 41 (ARM)             | PASS           | SKIPPED      | SKIPPED                   | SKIPPED                      |
+-----------------------------+----------------+--------------+---------------------------+------------------------------+
| Fedora 40 (ARM Clang)       | PASS           | SKIPPED      | SKIPPED                   | SKIPPED                      |
+-----------------------------+----------------+--------------+---------------------------+------------------------------+
| Fedora 41 (ARM Clang)       | PASS           | SKIPPED      | SKIPPED                   | SKIPPED                      |
+-----------------------------+----------------+--------------+---------------------------+------------------------------+
| Ubuntu 20.04 (ARM)          | PASS           | SKIPPED      | SKIPPED                   | SKIPPED                      |
+-----------------------------+----------------+--------------+---------------------------+------------------------------+
| RHEL9 (ARM)                 | PASS           | SKIPPED      | SKIPPED                   | SKIPPED                      |
+-----------------------------+----------------+--------------+---------------------------+------------------------------+
| Ubuntu 24.04 (ARM)          | PASS           | SKIPPED      | SKIPPED                   | SKIPPED                      |
+-----------------------------+----------------+--------------+---------------------------+------------------------------+
| Ubuntu 22.04 (ARM)          | PASS           | SKIPPED      | SKIPPED                   | SKIPPED                      |
+-----------------------------+----------------+--------------+---------------------------+------------------------------+
| Ubuntu 20.04 ARM SVE        | SKIPPED        | PASS         | SKIPPED                   | SKIPPED                      |
+-----------------------------+----------------+--------------+---------------------------+------------------------------+


32-bit Ubuntu 22.04.4 (ARM)
	Kernel: 5.15.83+ aarch64
	Compiler: gcc (Ubuntu 11.4.0-1ubuntu1~22.04) 11.4.0

CentOS Stream 9 (ARM)
	Kernel: Depends on container host
	Compiler: gcc 11.5.0 20240719 (Red Hat 11.5.0-2)

CentOS Stream 10 (ARM)
	Kernel: Depends on container host
	Compiler: gcc 14.2.1 20241104 (Red Hat 14.2.1-6)

Debian 11 (Buster) (ARM)
	Kernel: Depends on container host
	Compiler: gcc (Debian 10.2.1-6) 10.2.1 20210110

Fedora 40 (ARM)
	Kernel: Depends on container host
	Compiler: gcc 14.2.1 20240912 (Red Hat 14.2.1-3)

Debian 12 (arm)
	Kernel: Depends on container host
	Compiler: gcc (Debian 12.2.0-14) 12.2.0

Fedora 41 (ARM)
	Kernel: Depends on container host
	Compiler: gcc 14.2.1 20240912 (Red Hat 14.2.1-3)

Fedora 40 (ARM Clang)
	Kernel: Depends on container host
	Compiler: clang 18.1.8 (Fedora 18.1.8-1.fc40)

Fedora 41 (ARM Clang)
	Kernel: Depends on container host
	Compiler: clang 19.1.5 (Fedora 19.1.5-1.fc41)

Ubuntu 20.04 (ARM)
	Kernel: Depends on container host
	Compiler: gcc (Ubuntu 9.4.0-1ubuntu1~20.04.2) 9.4.0

RHEL9 (ARM)
	Kernel: Depends on container host
	Compiler: gcc 11.5.0 20240719 (Red Hat 11.5.0-2)

Ubuntu 24.04 (ARM)
	Kernel: Depends on container host
	Compiler: gcc (Ubuntu 13.3.0-6ubuntu2~24.04) 13.3.0

Ubuntu 22.04 (ARM)
	Kernel: Depends on container host
	Compiler: gcc (Ubuntu 11.4.0-1ubuntu1~22.04) 11.4.0

Ubuntu 20.04 ARM SVE
	Kernel: Depends on container host
	Compiler: gcc (Ubuntu 10.5.0-1ubuntu1~20.04) 10.5.0

To view detailed results, visit:
https://lab.dpdk.org/results/dashboard/tarballs/32586/

UNH-IOL DPDK Community Lab

To manage your email subscriptions, visit: 
https://lab.dpdk.org/results/dashboard/preferences/subscriptions/

^ permalink raw reply	[flat|nested] 44+ messages in thread

* |SUCCESS| [GIT MASTER] e5176f23ae8b31437c3e5eb875c81f95bf3a9942
@ 2025-02-16  1:57 dpdklab
  0 siblings, 0 replies; 44+ messages in thread
From: dpdklab @ 2025-02-16  1:57 UTC (permalink / raw)
  To: Test Report; +Cc: dpdk-test-reports

_Functional Testing PASS_

Branch: dpdk

e5176f23ae8b31437c3e5eb875c81f95bf3a9942 --> functional testing pass

Upstream job id: Template-DTS-Pipeline#212772

Test environment and result as below:

Ubuntu 22.04
Kernel: 5.15.0-131-generic
Compiler: gcc (Ubuntu 11.4.0-1ubuntu1~22.04) 11.4.0
NIC: Intel Corporation Ethernet Converged Network Adapter 82599ES 10000 Mbps

Aggregate Results by Test Suite
+-----------------------------+--------+
|         Test Suite          | Result |
+=============================+========+
| unit_tests_mbuf             |  PASS  |
+-----------------------------+--------+
| vhost_virtio_user_interrupt |  PASS  |
+-----------------------------+--------+
| virtio_smoke                |  PASS  |
+-----------------------------+--------+


To view detailed results, visit:
https://lab.dpdk.org/results/dashboard/tarballs/32586/

UNH-IOL DPDK Community Lab

To manage your email subscriptions, visit: 
https://lab.dpdk.org/results/dashboard/preferences/subscriptions/

^ permalink raw reply	[flat|nested] 44+ messages in thread

* |SUCCESS| [GIT MASTER] e5176f23ae8b31437c3e5eb875c81f95bf3a9942
@ 2025-02-16  1:47 dpdklab
  0 siblings, 0 replies; 44+ messages in thread
From: dpdklab @ 2025-02-16  1:47 UTC (permalink / raw)
  To: Test Report; +Cc: dpdk-test-reports

_Functional Testing PASS_

Branch: dpdk

e5176f23ae8b31437c3e5eb875c81f95bf3a9942 --> functional testing pass

Upstream job id: Template-DTS-Pipeline#212775

Test environment and result as below:

Ubuntu 20.04.6
Kernel: 5.4.105
Compiler: gcc 9.4
NIC: Marvell CN106XX 50000 Mbps
Target: arm64-native-linuxapp-gcc

Aggregate Results by Test Suite
+-----------------+--------+
|   Test Suite    | Result |
+=================+========+
| cmdline         |  PASS  |
+-----------------+--------+
| dynamic_queue   |  PASS  |
+-----------------+--------+
| ipv4_reassembly |  PASS  |
+-----------------+--------+
| rxtx_callbacks  |  PASS  |
+-----------------+--------+
| tso             |  PASS  |
+-----------------+--------+


To view detailed results, visit:
https://lab.dpdk.org/results/dashboard/tarballs/32586/

UNH-IOL DPDK Community Lab

To manage your email subscriptions, visit: 
https://lab.dpdk.org/results/dashboard/preferences/subscriptions/

^ permalink raw reply	[flat|nested] 44+ messages in thread

* |SUCCESS| [GIT MASTER] e5176f23ae8b31437c3e5eb875c81f95bf3a9942
@ 2025-02-16  1:41 dpdklab
  0 siblings, 0 replies; 44+ messages in thread
From: dpdklab @ 2025-02-16  1:41 UTC (permalink / raw)
  To: Test Report, Ali Alnubani; +Cc: dpdk-test-reports

_Performance Testing PASS_

Branch: dpdk

e5176f23ae8b31437c3e5eb875c81f95bf3a9942 --> performance testing pass

Upstream job id: Template-DTS-Pipeline#212765

Test environment and result as below:

Ubuntu 24.04
Kernel: 6.8.0-45-generic
Compiler: gcc 13.2.0
NIC: Mellanox ConnectX-6 Lx 25000 Mbps
Fail/Total: 0/6

Detail performance results: 
+------------+---------+----------+-------------+------------------------------+
| frame_size | txd/rxd | num_cpus | num_threads |  throughput difference from  |
|            |         |          |             |           expected           |
+============+=========+==========+=============+==============================+
| 64         | 1024    | 1        | 1           | -0.0%                        |
+------------+---------+----------+-------------+------------------------------+
| 128        | 1024    | 1        | 1           | -0.1%                        |
+------------+---------+----------+-------------+------------------------------+
| 256        | 1024    | 1        | 1           | -0.1%                        |
+------------+---------+----------+-------------+------------------------------+
| 512        | 1024    | 1        | 1           | -0.1%                        |
+------------+---------+----------+-------------+------------------------------+
| 1024       | 1024    | 1        | 1           | 0.2%                         |
+------------+---------+----------+-------------+------------------------------+
| 1518       | 1024    | 1        | 1           | 0.2%                         |
+------------+---------+----------+-------------+------------------------------+

Ubuntu 24.04
Kernel: 6.8.0-45-generic
Compiler: gcc 13.2.0
NIC: NVIDIA Mellanox ConnectX-7 100000 Mbps
Fail/Total: 0/6

Detail performance results: 
+------------+---------+----------+-------------+------------------------------+
| frame_size | txd/rxd | num_cpus | num_threads |  throughput difference from  |
|            |         |          |             |           expected           |
+============+=========+==========+=============+==============================+
| 64         | 1024    | 1        | 1           | 0.5%                         |
+------------+---------+----------+-------------+------------------------------+
| 128        | 1024    | 1        | 1           | -0.6%                        |
+------------+---------+----------+-------------+------------------------------+
| 256        | 1024    | 1        | 1           | -0.9%                        |
+------------+---------+----------+-------------+------------------------------+
| 512        | 1024    | 1        | 1           | -0.0%                        |
+------------+---------+----------+-------------+------------------------------+
| 1024       | 1024    | 1        | 1           | 0.1%                         |
+------------+---------+----------+-------------+------------------------------+
| 1518       | 1024    | 1        | 1           | 0.1%                         |
+------------+---------+----------+-------------+------------------------------+

To view detailed results, visit:
https://lab.dpdk.org/results/dashboard/tarballs/32586/

UNH-IOL DPDK Community Lab

To manage your email subscriptions, visit: 
https://lab.dpdk.org/results/dashboard/preferences/subscriptions/

^ permalink raw reply	[flat|nested] 44+ messages in thread

* |SUCCESS| [GIT MASTER] e5176f23ae8b31437c3e5eb875c81f95bf3a9942
@ 2025-02-16  1:32 dpdklab
  0 siblings, 0 replies; 44+ messages in thread
From: dpdklab @ 2025-02-16  1:32 UTC (permalink / raw)
  To: Test Report; +Cc: dpdk-test-reports

_Testing PASS_

Branch: dpdk

e5176f23ae8b31437c3e5eb875c81f95bf3a9942 --> testing pass

Upstream job id: Template-DTS-Pipeline#212777

Test environment and result as below:

+--------------------+----------------------+
|    Environment     | compressdev_zlib_pmd |
+====================+======================+
| Ubuntu 22.04 (ARM) | PASS                 |
+--------------------+----------------------+


Ubuntu 22.04 (ARM)
	Kernel: 5.15.0-97-generic
	Compiler: gcc gcc (Ubuntu 11.4.0-1ubuntu1~22.04) 11.4.0

To view detailed results, visit:
https://lab.dpdk.org/results/dashboard/tarballs/32586/

UNH-IOL DPDK Community Lab

To manage your email subscriptions, visit: 
https://lab.dpdk.org/results/dashboard/preferences/subscriptions/

^ permalink raw reply	[flat|nested] 44+ messages in thread

* |SUCCESS| [GIT MASTER] e5176f23ae8b31437c3e5eb875c81f95bf3a9942
@ 2025-02-16  1:26 dpdklab
  0 siblings, 0 replies; 44+ messages in thread
From: dpdklab @ 2025-02-16  1:26 UTC (permalink / raw)
  To: Test Report; +Cc: dpdk-test-reports

_Performance Testing PASS_

Branch: dpdk

e5176f23ae8b31437c3e5eb875c81f95bf3a9942 --> performance testing pass

Upstream job id: Template-DTS-Pipeline#212769

Test environment and result as below:

Ubuntu 22.04
Kernel: 5.15.0-100-generic
Compiler: gcc (Ubuntu 11.4.0-1ubuntu1~22.04) 11.4.0
NIC: Broadcom Inc. and subsidiaries BCM57414 NetXtreme-E 10Gb/25Gb RDMA Ethernet Controller 16d7 25 Mbps
Fail/Total: 0/3

Detail performance results: 
+------------+---------+----------+-------------+------------------------------+
| frame_size | txd/rxd | num_cpus | num_threads |  throughput difference from  |
|            |         |          |             |           expected           |
+============+=========+==========+=============+==============================+
| 64         | 128     | 1        | 1           | 0.1%                         |
+------------+---------+----------+-------------+------------------------------+
| 64         | 512     | 1        | 1           | 0.3%                         |
+------------+---------+----------+-------------+------------------------------+
| 64         | 2048    | 1        | 1           | -1.0%                        |
+------------+---------+----------+-------------+------------------------------+

Ubuntu 22.04 ARM
Kernel: 5.15.83+
Compiler: gcc 11.4.0
NIC: Arm Broadcom Inc. brcm_57414 25000 Mbps
Fail/Total: 0/2

Detail performance results: 
+------------+---------+----------+-------------+------------------------------+
| frame_size | txd/rxd | num_cpus | num_threads |  throughput difference from  |
|            |         |          |             |           expected           |
+============+=========+==========+=============+==============================+
| 64         | 512     | 1        | 1           | -0.3%                        |
+------------+---------+----------+-------------+------------------------------+
| 64         | 2048    | 1        | 1           | -0.6%                        |
+------------+---------+----------+-------------+------------------------------+

To view detailed results, visit:
https://lab.dpdk.org/results/dashboard/tarballs/32586/

UNH-IOL DPDK Community Lab

To manage your email subscriptions, visit: 
https://lab.dpdk.org/results/dashboard/preferences/subscriptions/

^ permalink raw reply	[flat|nested] 44+ messages in thread

* |SUCCESS| [GIT MASTER] e5176f23ae8b31437c3e5eb875c81f95bf3a9942
@ 2025-02-14  6:13 dpdklab
  0 siblings, 0 replies; 44+ messages in thread
From: dpdklab @ 2025-02-14  6:13 UTC (permalink / raw)
  To: Test Report; +Cc: dpdk-test-reports

_Testing PASS_

Branch: dpdk

e5176f23ae8b31437c3e5eb875c81f95bf3a9942 --> testing pass

Upstream job id: Generic-DPDK-Compile-Meson#361513

Test environment and result as below:

+----------------------------------------+--------------------+
|              Environment               | dpdk_meson_compile |
+========================================+====================+
| RHEL9 (ARM)                            | PASS               |
+----------------------------------------+--------------------+
| Ubuntu 20.04 ARM GCC Cross Compile     | PASS               |
+----------------------------------------+--------------------+
| Ubuntu 20.04 ARM SVE                   | PASS               |
+----------------------------------------+--------------------+
| Debian 12 with MUSDK                   | PASS               |
+----------------------------------------+--------------------+
| Fedora 40 (ARM)                        | PASS               |
+----------------------------------------+--------------------+
| Fedora 40 (ARM Clang)                  | PASS               |
+----------------------------------------+--------------------+
| Fedora 41 (ARM Clang)                  | PASS               |
+----------------------------------------+--------------------+
| Fedora 41 (ARM)                        | PASS               |
+----------------------------------------+--------------------+
| Ubuntu 20.04 (ARM)                     | PASS               |
+----------------------------------------+--------------------+
| Ubuntu 24.04 (ARM)                     | PASS               |
+----------------------------------------+--------------------+
| CentOS Stream 9 (ARM)                  | PASS               |
+----------------------------------------+--------------------+
| CentOS Stream 10 (ARM)                 | PASS               |
+----------------------------------------+--------------------+
| Debian 11 (Buster) (ARM)               | PASS               |
+----------------------------------------+--------------------+
| Debian 12 (arm)                        | PASS               |
+----------------------------------------+--------------------+
| Ubuntu 20.04 ARM Clang Cross Compile   | PASS               |
+----------------------------------------+--------------------+
| Ubuntu 20.04 aarch32 GCC Cross Compile | PASS               |
+----------------------------------------+--------------------+
| Ubuntu 22.04 (ARM)                     | PASS               |
+----------------------------------------+--------------------+


RHEL9 (ARM)
	Kernel: Depends on container host
	Compiler: gcc 11.5.0 20240719 (Red Hat 11.5.0-2)

Ubuntu 20.04 ARM GCC Cross Compile
	Kernel: Depends on container host
	Compiler: aarch64-linux-gnu-gcc (Ubuntu 9.4.0-1ubuntu1~20.04.2) 9.4.0

Ubuntu 20.04 ARM SVE
	Kernel: Depends on container host
	Compiler: gcc (Ubuntu 10.5.0-1ubuntu1~20.04) 10.5.0

Debian 12 with MUSDK
	Kernel: Depends on container host
	Compiler: gcc (Debian 12.2.0-14) 12.2.0

Fedora 40 (ARM)
	Kernel: Depends on container host
	Compiler: gcc 14.2.1 20240912 (Red Hat 14.2.1-3)

Fedora 40 (ARM Clang)
	Kernel: Depends on container host
	Compiler: clang 18.1.8 (Fedora 18.1.8-1.fc40)

Fedora 41 (ARM Clang)
	Kernel: Depends on container host
	Compiler: clang 19.1.5 (Fedora 19.1.5-1.fc41)

Fedora 41 (ARM)
	Kernel: Depends on container host
	Compiler: gcc 14.2.1 20240912 (Red Hat 14.2.1-3)

Ubuntu 20.04 (ARM)
	Kernel: Depends on container host
	Compiler: gcc (Ubuntu 9.4.0-1ubuntu1~20.04.2) 9.4.0

Ubuntu 24.04 (ARM)
	Kernel: Depends on container host
	Compiler: gcc (Ubuntu 13.3.0-6ubuntu2~24.04) 13.3.0

CentOS Stream 9 (ARM)
	Kernel: Depends on container host
	Compiler: gcc 11.5.0 20240719 (Red Hat 11.5.0-2)

CentOS Stream 10 (ARM)
	Kernel: Depends on container host
	Compiler: gcc 14.2.1 20241104 (Red Hat 14.2.1-6)

Debian 11 (Buster) (ARM)
	Kernel: Depends on container host
	Compiler: gcc (Debian 10.2.1-6) 10.2.1 20210110

Debian 12 (arm)
	Kernel: Depends on container host
	Compiler: gcc (Debian 12.2.0-14) 12.2.0

Ubuntu 20.04 ARM Clang Cross Compile
	Kernel: Depends on container host
	Compiler: clang 10.0.0-4ubuntu1

Ubuntu 20.04 aarch32 GCC Cross Compile
	Kernel: Depends on container host
	Compiler: gcc 9.4.0

Ubuntu 22.04 (ARM)
	Kernel: Depends on container host
	Compiler: gcc (Ubuntu 11.4.0-1ubuntu1~22.04) 11.4.0

To view detailed results, visit:
https://lab.dpdk.org/results/dashboard/tarballs/32572/

UNH-IOL DPDK Community Lab

To manage your email subscriptions, visit: 
https://lab.dpdk.org/results/dashboard/preferences/subscriptions/

^ permalink raw reply	[flat|nested] 44+ messages in thread

* |SUCCESS| [GIT MASTER] e5176f23ae8b31437c3e5eb875c81f95bf3a9942
@ 2025-02-14  3:15 dpdklab
  0 siblings, 0 replies; 44+ messages in thread
From: dpdklab @ 2025-02-14  3:15 UTC (permalink / raw)
  To: Test Report; +Cc: dpdk-test-reports

_Testing PASS_

Branch: dpdk

e5176f23ae8b31437c3e5eb875c81f95bf3a9942 --> testing pass

Upstream job id: Generic-DPDK-Compile-Meson#361532

Test environment and result as below:

+---------------------+--------------------+-------------------+------------------+-------------------------+-------------------+----------------------+
|     Environment     | dpdk_meson_compile | dpdk_compile_spdk | dpdk_compile_ovs | dpdk_llvm_clang_compile | dpdk_msvc_compile | dpdk_mingw64_compile |
+=====================+====================+===================+==================+=========================+===================+======================+
| Debian Bullseye     | PASS               | PASS              | SKIPPED          | SKIPPED                 | SKIPPED           | SKIPPED              |
+---------------------+--------------------+-------------------+------------------+-------------------------+-------------------+----------------------+
| CentOS Stream 9     | PASS               | PASS              | SKIPPED          | SKIPPED                 | SKIPPED           | SKIPPED              |
+---------------------+--------------------+-------------------+------------------+-------------------------+-------------------+----------------------+
| Debian 12           | PASS               | PASS              | SKIPPED          | SKIPPED                 | SKIPPED           | SKIPPED              |
+---------------------+--------------------+-------------------+------------------+-------------------------+-------------------+----------------------+
| Fedora 40 (Clang)   | PASS               | PASS              | SKIPPED          | SKIPPED                 | SKIPPED           | SKIPPED              |
+---------------------+--------------------+-------------------+------------------+-------------------------+-------------------+----------------------+
| Fedora 40           | PASS               | PASS              | SKIPPED          | SKIPPED                 | SKIPPED           | SKIPPED              |
+---------------------+--------------------+-------------------+------------------+-------------------------+-------------------+----------------------+
| Fedora 41 (Clang)   | PASS               | PASS              | PASS             | SKIPPED                 | SKIPPED           | SKIPPED              |
+---------------------+--------------------+-------------------+------------------+-------------------------+-------------------+----------------------+
| Fedora 41           | PASS               | PASS              | PASS             | SKIPPED                 | SKIPPED           | SKIPPED              |
+---------------------+--------------------+-------------------+------------------+-------------------------+-------------------+----------------------+
| openSUSE Leap 15    | PASS               | SKIPPED           | SKIPPED          | SKIPPED                 | SKIPPED           | SKIPPED              |
+---------------------+--------------------+-------------------+------------------+-------------------------+-------------------+----------------------+
| RHEL8               | PASS               | SKIPPED           | SKIPPED          | SKIPPED                 | SKIPPED           | SKIPPED              |
+---------------------+--------------------+-------------------+------------------+-------------------------+-------------------+----------------------+
| Ubuntu 20.04        | PASS               | SKIPPED           | SKIPPED          | SKIPPED                 | SKIPPED           | SKIPPED              |
+---------------------+--------------------+-------------------+------------------+-------------------------+-------------------+----------------------+
| RHEL9               | PASS               | SKIPPED           | SKIPPED          | SKIPPED                 | SKIPPED           | SKIPPED              |
+---------------------+--------------------+-------------------+------------------+-------------------------+-------------------+----------------------+
| Ubuntu 22.04        | PASS               | PASS              | SKIPPED          | SKIPPED                 | SKIPPED           | SKIPPED              |
+---------------------+--------------------+-------------------+------------------+-------------------------+-------------------+----------------------+
| Ubuntu 24.04        | PASS               | PASS              | PASS             | SKIPPED                 | SKIPPED           | SKIPPED              |
+---------------------+--------------------+-------------------+------------------+-------------------------+-------------------+----------------------+
| Arch Linux          | PASS               | SKIPPED           | SKIPPED          | SKIPPED                 | SKIPPED           | SKIPPED              |
+---------------------+--------------------+-------------------+------------------+-------------------------+-------------------+----------------------+
| Alpine              | PASS               | SKIPPED           | SKIPPED          | SKIPPED                 | SKIPPED           | SKIPPED              |
+---------------------+--------------------+-------------------+------------------+-------------------------+-------------------+----------------------+
| FreeBSD 13.4        | PASS               | SKIPPED           | SKIPPED          | SKIPPED                 | SKIPPED           | SKIPPED              |
+---------------------+--------------------+-------------------+------------------+-------------------------+-------------------+----------------------+
| FreeBSD 14.2        | PASS               | SKIPPED           | SKIPPED          | SKIPPED                 | SKIPPED           | SKIPPED              |
+---------------------+--------------------+-------------------+------------------+-------------------------+-------------------+----------------------+
| CentOS Stream 10    | PASS               | SKIPPED           | SKIPPED          | SKIPPED                 | SKIPPED           | SKIPPED              |
+---------------------+--------------------+-------------------+------------------+-------------------------+-------------------+----------------------+
| Windows Server 2022 | SKIPPED            | SKIPPED           | SKIPPED          | PASS                    | PASS              | PASS                 |
+---------------------+--------------------+-------------------+------------------+-------------------------+-------------------+----------------------+


Debian Bullseye
	Kernel: Depends on container host
	Compiler: gcc (Debian 10.2.1-6) 10.2.1 20210110

CentOS Stream 9
	Kernel: Depends on container host
	Compiler: gcc 11.5.0 20240719 (Red Hat 11.5.0-2)

Debian 12
	Kernel: Depends on container host
	Compiler: gcc (Debian 12.2.0-14) 12.2.0

Fedora 40 (Clang)
	Kernel: Depends on container host
	Compiler: clang 18.1.8 (Fedora 18.1.8-1.fc40)

Fedora 40
	Kernel: Depends on container host
	Compiler: gcc 14.2.1 20240912 (Red Hat 14.2.1-3)

Fedora 41 (Clang)
	Kernel: Depends on container host
	Compiler: clang 19.1.5 (Fedora 19.1.5-1.fc41)

Fedora 41
	Kernel: Depends on container host
	Compiler: gcc 14.2.1 20240912 (Red Hat 14.2.1-3)

openSUSE Leap 15
	Kernel: Depends on container host
	Compiler: gcc (SUSE Linux) 7.5.0

RHEL8
	Kernel: Depends on container host
	Compiler: gcc 8.5.0 20210514 (Red Hat 8.5.0-22)

Ubuntu 20.04
	Kernel: Depends on container host
	Compiler: gcc (Ubuntu 9.4.0-1ubuntu1~20.04.2) 9.4.0

RHEL9
	Kernel: Depends on container host
	Compiler: gcc 11.5.0 20240719 (Red Hat 11.5.0-2)

Ubuntu 22.04
	Kernel: Depends on container host
	Compiler: gcc (Ubuntu 11.4.0-1ubuntu1~22.04) 11.4.0

Ubuntu 24.04
	Kernel: Depends on container host
	Compiler: gcc (Ubuntu 13.3.0-6ubuntu2~24.04) 13.3.0

Arch Linux
	Kernel: Depends on container host
	Compiler: gcc 14.2.1 20240910

Alpine
	Kernel: Depends on container host
	Compiler: gcc (Alpine 14.2.0) 14.2.0

FreeBSD 13.4
	Kernel: 13.4-RELEASE-p1
	Compiler: clang 18.1.6

FreeBSD 14.2
	Kernel: 14.2-RELEASE
	Compiler: clang 18.1.6

CentOS Stream 10
	Kernel: Depends on container host
	Compiler: gcc 14.2.1 20241104 (Red Hat 14.2.1-6)

Windows Server 2022
	Kernel: 10.0.20348.2031
	Compiler: clang 15.0.7, gcc 14.1.0 (MinGW), and MSVC VS 19.39.33521

To view detailed results, visit:
https://lab.dpdk.org/results/dashboard/tarballs/32572/

UNH-IOL DPDK Community Lab

To manage your email subscriptions, visit: 
https://lab.dpdk.org/results/dashboard/preferences/subscriptions/

^ permalink raw reply	[flat|nested] 44+ messages in thread

* |SUCCESS| [GIT MASTER] e5176f23ae8b31437c3e5eb875c81f95bf3a9942
@ 2025-02-14  2:45 dpdklab
  0 siblings, 0 replies; 44+ messages in thread
From: dpdklab @ 2025-02-14  2:45 UTC (permalink / raw)
  To: Test Report; +Cc: dpdk-test-reports

_Testing PASS_

Branch: dpdk

e5176f23ae8b31437c3e5eb875c81f95bf3a9942 --> testing pass

Upstream job id: Generic-DPDK-Compile-ABI#116140

Test environment and result as below:

+-------------------+----------+
|    Environment    | abi_test |
+===================+==========+
| CentOS Stream 9   | PASS     |
+-------------------+----------+
| CentOS Stream 10  | PASS     |
+-------------------+----------+
| Debian Bullseye   | PASS     |
+-------------------+----------+
| Fedora 40         | PASS     |
+-------------------+----------+
| Debian 12         | PASS     |
+-------------------+----------+
| Fedora 40 (Clang) | PASS     |
+-------------------+----------+
| Fedora 41 (Clang) | PASS     |
+-------------------+----------+
| openSUSE Leap 15  | PASS     |
+-------------------+----------+
| Fedora 41         | PASS     |
+-------------------+----------+
| RHEL8             | PASS     |
+-------------------+----------+
| Ubuntu 22.04      | PASS     |
+-------------------+----------+
| RHEL9             | PASS     |
+-------------------+----------+
| Ubuntu 24.04      | PASS     |
+-------------------+----------+
| Arch Linux        | PASS     |
+-------------------+----------+


CentOS Stream 9
	Kernel: Depends on container host
	Compiler: gcc 11.5.0 20240719 (Red Hat 11.5.0-2)

CentOS Stream 10
	Kernel: Depends on container host
	Compiler: gcc 14.2.1 20241104 (Red Hat 14.2.1-6)

Debian Bullseye
	Kernel: Depends on container host
	Compiler: gcc (Debian 10.2.1-6) 10.2.1 20210110

Fedora 40
	Kernel: Depends on container host
	Compiler: gcc 14.2.1 20240912 (Red Hat 14.2.1-3)

Debian 12
	Kernel: Depends on container host
	Compiler: gcc (Debian 12.2.0-14) 12.2.0

Fedora 40 (Clang)
	Kernel: Depends on container host
	Compiler: clang 18.1.8 (Fedora 18.1.8-1.fc40)

Fedora 41 (Clang)
	Kernel: Depends on container host
	Compiler: clang 19.1.5 (Fedora 19.1.5-1.fc41)

openSUSE Leap 15
	Kernel: Depends on container host
	Compiler: gcc (SUSE Linux) 7.5.0

Fedora 41
	Kernel: Depends on container host
	Compiler: gcc 14.2.1 20240912 (Red Hat 14.2.1-3)

RHEL8
	Kernel: Depends on container host
	Compiler: gcc 8.5.0 20210514 (Red Hat 8.5.0-22)

Ubuntu 22.04
	Kernel: Depends on container host
	Compiler: gcc (Ubuntu 11.4.0-1ubuntu1~22.04) 11.4.0

RHEL9
	Kernel: Depends on container host
	Compiler: gcc 11.5.0 20240719 (Red Hat 11.5.0-2)

Ubuntu 24.04
	Kernel: Depends on container host
	Compiler: gcc (Ubuntu 13.3.0-6ubuntu2~24.04) 13.3.0

Arch Linux
	Kernel: Depends on container host
	Compiler: gcc 14.2.1 20240910

To view detailed results, visit:
https://lab.dpdk.org/results/dashboard/tarballs/32572/

UNH-IOL DPDK Community Lab

To manage your email subscriptions, visit: 
https://lab.dpdk.org/results/dashboard/preferences/subscriptions/

^ permalink raw reply	[flat|nested] 44+ messages in thread

* |SUCCESS| [GIT MASTER] e5176f23ae8b31437c3e5eb875c81f95bf3a9942
@ 2025-02-14  2:21 dpdklab
  0 siblings, 0 replies; 44+ messages in thread
From: dpdklab @ 2025-02-14  2:21 UTC (permalink / raw)
  To: Test Report; +Cc: dpdk-test-reports

_Functional Testing PASS_

Branch: dpdk

e5176f23ae8b31437c3e5eb875c81f95bf3a9942 --> functional testing pass

Upstream job id: Template-DTS-Pipeline#212593

Test environment and result as below:

Ubuntu 20.04.6
Kernel: 5.4.105
Compiler: gcc 9.4
NIC: Marvell CN106XX 50000 Mbps
Target: arm64-native-linuxapp-gcc

Aggregate Results by Test Suite
+-----------------+--------+
|   Test Suite    | Result |
+=================+========+
| cmdline         |  PASS  |
+-----------------+--------+
| dynamic_queue   |  PASS  |
+-----------------+--------+
| ipv4_reassembly |  PASS  |
+-----------------+--------+
| rxtx_callbacks  |  PASS  |
+-----------------+--------+
| tso             |  PASS  |
+-----------------+--------+


To view detailed results, visit:
https://lab.dpdk.org/results/dashboard/tarballs/32572/

UNH-IOL DPDK Community Lab

To manage your email subscriptions, visit: 
https://lab.dpdk.org/results/dashboard/preferences/subscriptions/

^ permalink raw reply	[flat|nested] 44+ messages in thread

* |SUCCESS| [GIT MASTER] e5176f23ae8b31437c3e5eb875c81f95bf3a9942
@ 2025-02-14  2:15 dpdklab
  0 siblings, 0 replies; 44+ messages in thread
From: dpdklab @ 2025-02-14  2:15 UTC (permalink / raw)
  To: Test Report; +Cc: dpdk-test-reports

_Functional Testing PASS_

Branch: dpdk

e5176f23ae8b31437c3e5eb875c81f95bf3a9942 --> functional testing pass

Upstream job id: Template-DTS-Pipeline#212592

Test environment and result as below:

Ubuntu 22.04
Kernel: 5.15.0-131-generic
Compiler: gcc (Ubuntu 11.4.0-1ubuntu1~22.04) 11.4.0
NIC: Intel Corporation Ethernet Converged Network Adapter 82599ES 10000 Mbps

Aggregate Results by Test Suite
+-----------------------------+--------+
|         Test Suite          | Result |
+=============================+========+
| unit_tests_mbuf             |  PASS  |
+-----------------------------+--------+
| vhost_virtio_user_interrupt |  PASS  |
+-----------------------------+--------+
| virtio_smoke                |  PASS  |
+-----------------------------+--------+


Arm Ampere Altra - Ubuntu 22.04
Kernel: 5.15.83+
Compiler: gcc 11.4
NIC: Intel Corporation QAT 8970 0 Mbps

Aggregate Results by Test Suite
+----------------------------+--------+
|         Test Suite         | Result |
+============================+========+
| crypto_perf_cryptodev_perf |  PASS  |
+----------------------------+--------+


To view detailed results, visit:
https://lab.dpdk.org/results/dashboard/tarballs/32572/

UNH-IOL DPDK Community Lab

To manage your email subscriptions, visit: 
https://lab.dpdk.org/results/dashboard/preferences/subscriptions/

^ permalink raw reply	[flat|nested] 44+ messages in thread

* |SUCCESS| [GIT MASTER] e5176f23ae8b31437c3e5eb875c81f95bf3a9942
@ 2025-02-14  2:14 dpdklab
  0 siblings, 0 replies; 44+ messages in thread
From: dpdklab @ 2025-02-14  2:14 UTC (permalink / raw)
  To: Test Report; +Cc: dpdk-test-reports

_Testing PASS_

Branch: dpdk

e5176f23ae8b31437c3e5eb875c81f95bf3a9942 --> testing pass

Upstream job id: Template-DTS-Pipeline#212595

Test environment and result as below:

+--------------------+----------------------+----------------------+
|    Environment     | dpdk_fips_validation | compressdev_zlib_pmd |
+====================+======================+======================+
| Ubuntu 20.04       | PASS                 | SKIPPED              |
+--------------------+----------------------+----------------------+
| Ubuntu 22.04 (ARM) | SKIPPED              | PASS                 |
+--------------------+----------------------+----------------------+


Ubuntu 20.04
	Kernel: Depends on container host
	Compiler: gcc (Ubuntu 9.4.0-1ubuntu1~20.04.2) 9.4.0

Ubuntu 22.04 (ARM)
	Kernel: 5.15.0-97-generic
	Compiler: gcc gcc (Ubuntu 11.4.0-1ubuntu1~22.04) 11.4.0

To view detailed results, visit:
https://lab.dpdk.org/results/dashboard/tarballs/32572/

UNH-IOL DPDK Community Lab

To manage your email subscriptions, visit: 
https://lab.dpdk.org/results/dashboard/preferences/subscriptions/

^ permalink raw reply	[flat|nested] 44+ messages in thread

* |SUCCESS| [GIT MASTER] e5176f23ae8b31437c3e5eb875c81f95bf3a9942
@ 2025-02-14  2:10 dpdklab
  0 siblings, 0 replies; 44+ messages in thread
From: dpdklab @ 2025-02-14  2:10 UTC (permalink / raw)
  To: Test Report; +Cc: dpdk-test-reports

_Functional Testing PASS_

Branch: dpdk

e5176f23ae8b31437c3e5eb875c81f95bf3a9942 --> functional testing pass

Upstream job id: Template-DTS-Pipeline#212590

Test environment and result as below:

Ubuntu 22.04
Kernel: 5.15.0-131-generic
Compiler: gcc (Ubuntu 11.4.0-1ubuntu1~22.04) 11.4.0
NIC: Intel Corporation Ethernet Converged Network Adapter 82599ES 10000 Mbps

Aggregate Results by Test Suite
+-----------------------------+--------+
|         Test Suite          | Result |
+=============================+========+
| unit_tests_mbuf             |  PASS  |
+-----------------------------+--------+
| vhost_virtio_user_interrupt |  PASS  |
+-----------------------------+--------+
| virtio_smoke                |  PASS  |
+-----------------------------+--------+


To view detailed results, visit:
https://lab.dpdk.org/results/dashboard/tarballs/32572/

UNH-IOL DPDK Community Lab

To manage your email subscriptions, visit: 
https://lab.dpdk.org/results/dashboard/preferences/subscriptions/

^ permalink raw reply	[flat|nested] 44+ messages in thread

* |SUCCESS| [GIT MASTER] e5176f23ae8b31437c3e5eb875c81f95bf3a9942
@ 2025-02-14  1:54 dpdklab
  0 siblings, 0 replies; 44+ messages in thread
From: dpdklab @ 2025-02-14  1:54 UTC (permalink / raw)
  To: Test Report; +Cc: dpdk-test-reports

_Testing PASS_

Branch: dpdk

e5176f23ae8b31437c3e5eb875c81f95bf3a9942 --> testing pass

Upstream job id: Generic-Unit-Test-DPDK#314861

Test environment and result as below:

+---------------------+----------------+
|     Environment     | dpdk_unit_test |
+=====================+================+
| Windows Server 2022 | PASS           |
+---------------------+----------------+
| CentOS Stream 10    | PASS           |
+---------------------+----------------+
| Arch Linux          | PASS           |
+---------------------+----------------+
| CentOS Stream 9     | PASS           |
+---------------------+----------------+
| Debian Bullseye     | PASS           |
+---------------------+----------------+
| Fedora 40           | PASS           |
+---------------------+----------------+
| Debian 12           | PASS           |
+---------------------+----------------+
| Fedora 41 (Clang)   | PASS           |
+---------------------+----------------+
| Fedora 40 (Clang)   | PASS           |
+---------------------+----------------+
| Fedora 41           | PASS           |
+---------------------+----------------+
| Ubuntu 20.04        | PASS           |
+---------------------+----------------+
| RHEL8               | PASS           |
+---------------------+----------------+
| RHEL9               | PASS           |
+---------------------+----------------+
| Ubuntu 22.04        | PASS           |
+---------------------+----------------+
| Ubuntu 24.04        | PASS           |
+---------------------+----------------+


Windows Server 2022
	Kernel: 10.0.20348.2031
	Compiler: clang 15.0.7, gcc 14.1.0 (MinGW), and MSVC VS 19.39.33521

CentOS Stream 10
	Kernel: Depends on container host
	Compiler: gcc 14.2.1 20241104 (Red Hat 14.2.1-6)

Arch Linux
	Kernel: Depends on container host
	Compiler: gcc 14.2.1 20240910

CentOS Stream 9
	Kernel: Depends on container host
	Compiler: gcc 11.5.0 20240719 (Red Hat 11.5.0-2)

Debian Bullseye
	Kernel: Depends on container host
	Compiler: gcc (Debian 10.2.1-6) 10.2.1 20210110

Fedora 40
	Kernel: Depends on container host
	Compiler: gcc 14.2.1 20240912 (Red Hat 14.2.1-3)

Debian 12
	Kernel: Depends on container host
	Compiler: gcc (Debian 12.2.0-14) 12.2.0

Fedora 41 (Clang)
	Kernel: Depends on container host
	Compiler: clang 19.1.5 (Fedora 19.1.5-1.fc41)

Fedora 40 (Clang)
	Kernel: Depends on container host
	Compiler: clang 18.1.8 (Fedora 18.1.8-1.fc40)

Fedora 41
	Kernel: Depends on container host
	Compiler: gcc 14.2.1 20240912 (Red Hat 14.2.1-3)

Ubuntu 20.04
	Kernel: Depends on container host
	Compiler: gcc (Ubuntu 9.4.0-1ubuntu1~20.04.2) 9.4.0

RHEL8
	Kernel: Depends on container host
	Compiler: gcc 8.5.0 20210514 (Red Hat 8.5.0-22)

RHEL9
	Kernel: Depends on container host
	Compiler: gcc 11.5.0 20240719 (Red Hat 11.5.0-2)

Ubuntu 22.04
	Kernel: Depends on container host
	Compiler: gcc (Ubuntu 11.4.0-1ubuntu1~22.04) 11.4.0

Ubuntu 24.04
	Kernel: Depends on container host
	Compiler: gcc (Ubuntu 13.3.0-6ubuntu2~24.04) 13.3.0

To view detailed results, visit:
https://lab.dpdk.org/results/dashboard/tarballs/32572/

UNH-IOL DPDK Community Lab

To manage your email subscriptions, visit: 
https://lab.dpdk.org/results/dashboard/preferences/subscriptions/

^ permalink raw reply	[flat|nested] 44+ messages in thread

* |SUCCESS| [GIT MASTER] e5176f23ae8b31437c3e5eb875c81f95bf3a9942
@ 2025-02-14  1:49 dpdklab
  0 siblings, 0 replies; 44+ messages in thread
From: dpdklab @ 2025-02-14  1:49 UTC (permalink / raw)
  To: Ali Alnubani, Test Report; +Cc: dpdk-test-reports

_Performance Testing PASS_

Branch: dpdk

e5176f23ae8b31437c3e5eb875c81f95bf3a9942 --> performance testing pass

Upstream job id: Template-DTS-Pipeline#212584

Test environment and result as below:

Ubuntu 24.04
Kernel: 6.8.0-45-generic
Compiler: gcc 13.2.0
NIC: NVIDIA Mellanox ConnectX-7 100000 Mbps
Fail/Total: 0/6

Detail performance results: 
+------------+---------+----------+-------------+------------------------------+
| frame_size | txd/rxd | num_cpus | num_threads |  throughput difference from  |
|            |         |          |             |           expected           |
+============+=========+==========+=============+==============================+
| 64         | 1024    | 1        | 1           | -0.1%                        |
+------------+---------+----------+-------------+------------------------------+
| 128        | 1024    | 1        | 1           | 0.7%                         |
+------------+---------+----------+-------------+------------------------------+
| 256        | 1024    | 1        | 1           | -0.0%                        |
+------------+---------+----------+-------------+------------------------------+
| 512        | 1024    | 1        | 1           | -0.0%                        |
+------------+---------+----------+-------------+------------------------------+
| 1024       | 1024    | 1        | 1           | -0.1%                        |
+------------+---------+----------+-------------+------------------------------+
| 1518       | 1024    | 1        | 1           | -0.1%                        |
+------------+---------+----------+-------------+------------------------------+

Ubuntu 24.04
Kernel: 6.8.0-45-generic
Compiler: gcc 13.2.0
NIC: Mellanox ConnectX-6 Lx 25000 Mbps
Fail/Total: 0/6

Detail performance results: 
+------------+---------+----------+-------------+------------------------------+
| frame_size | txd/rxd | num_cpus | num_threads |  throughput difference from  |
|            |         |          |             |           expected           |
+============+=========+==========+=============+==============================+
| 64         | 1024    | 1        | 1           | 0.1%                         |
+------------+---------+----------+-------------+------------------------------+
| 128        | 1024    | 1        | 1           | -0.0%                        |
+------------+---------+----------+-------------+------------------------------+
| 256        | 1024    | 1        | 1           | -0.0%                        |
+------------+---------+----------+-------------+------------------------------+
| 512        | 1024    | 1        | 1           | -0.0%                        |
+------------+---------+----------+-------------+------------------------------+
| 1024       | 1024    | 1        | 1           | -0.0%                        |
+------------+---------+----------+-------------+------------------------------+
| 1518       | 1024    | 1        | 1           | 0.0%                         |
+------------+---------+----------+-------------+------------------------------+

To view detailed results, visit:
https://lab.dpdk.org/results/dashboard/tarballs/32572/

UNH-IOL DPDK Community Lab

To manage your email subscriptions, visit: 
https://lab.dpdk.org/results/dashboard/preferences/subscriptions/

^ permalink raw reply	[flat|nested] 44+ messages in thread

* |SUCCESS| [GIT MASTER] e5176f23ae8b31437c3e5eb875c81f95bf3a9942
@ 2025-02-14  1:42 dpdklab
  0 siblings, 0 replies; 44+ messages in thread
From: dpdklab @ 2025-02-14  1:42 UTC (permalink / raw)
  To: Test Report; +Cc: dpdk-test-reports

_Testing PASS_

Branch: dpdk

e5176f23ae8b31437c3e5eb875c81f95bf3a9942 --> testing pass

Upstream job id: ACVP-FIPS-testing#8908

Test environment and result as below:

+--------------+----------------------+
| Environment  | dpdk_fips_validation |
+==============+======================+
| Ubuntu 20.04 | PASS                 |
+--------------+----------------------+


Ubuntu 20.04
	Kernel: Depends on container host
	Compiler: gcc (Ubuntu 9.4.0-1ubuntu1~20.04.2) 9.4.0

To view detailed results, visit:
https://lab.dpdk.org/results/dashboard/tarballs/32572/

UNH-IOL DPDK Community Lab

To manage your email subscriptions, visit: 
https://lab.dpdk.org/results/dashboard/preferences/subscriptions/

^ permalink raw reply	[flat|nested] 44+ messages in thread

* |SUCCESS| [GIT MASTER] e5176f23ae8b31437c3e5eb875c81f95bf3a9942
@ 2025-02-14  1:28 dpdklab
  0 siblings, 0 replies; 44+ messages in thread
From: dpdklab @ 2025-02-14  1:28 UTC (permalink / raw)
  To: Test Report; +Cc: dpdk-test-reports

_Testing PASS_

Branch: dpdk

e5176f23ae8b31437c3e5eb875c81f95bf3a9942 --> testing pass

Upstream job id: Generic-DPDK-Compile-Meson#361503

Test environment and result as below:

+------------------------------------+--------------------+
|            Environment             | dpdk_meson_compile |
+====================================+====================+
| RHEL9 (ARM)                        | PASS               |
+------------------------------------+--------------------+
| Ubuntu 20.04 ARM GCC Cross Compile | PASS               |
+------------------------------------+--------------------+
| Ubuntu 20.04 ARM SVE               | PASS               |
+------------------------------------+--------------------+
| Debian 12 with MUSDK               | PASS               |
+------------------------------------+--------------------+


RHEL9 (ARM)
	Kernel: Depends on container host
	Compiler: gcc 11.5.0 20240719 (Red Hat 11.5.0-2)

Ubuntu 20.04 ARM GCC Cross Compile
	Kernel: Depends on container host
	Compiler: aarch64-linux-gnu-gcc (Ubuntu 9.4.0-1ubuntu1~20.04.2) 9.4.0

Ubuntu 20.04 ARM SVE
	Kernel: Depends on container host
	Compiler: gcc (Ubuntu 10.5.0-1ubuntu1~20.04) 10.5.0

Debian 12 with MUSDK
	Kernel: Depends on container host
	Compiler: gcc (Debian 12.2.0-14) 12.2.0

To view detailed results, visit:
https://lab.dpdk.org/results/dashboard/tarballs/32572/

UNH-IOL DPDK Community Lab

To manage your email subscriptions, visit: 
https://lab.dpdk.org/results/dashboard/preferences/subscriptions/

^ permalink raw reply	[flat|nested] 44+ messages in thread

* |SUCCESS| [GIT MASTER] e5176f23ae8b31437c3e5eb875c81f95bf3a9942
@ 2025-02-14  1:25 dpdklab
  0 siblings, 0 replies; 44+ messages in thread
From: dpdklab @ 2025-02-14  1:25 UTC (permalink / raw)
  To: Test Report; +Cc: dpdk-test-reports

_Testing PASS_

Branch: dpdk

e5176f23ae8b31437c3e5eb875c81f95bf3a9942 --> testing pass

Upstream job id: Generic-DPDK-Compile-Meson#361502

Test environment and result as below:

+------------------------------------+--------------------+
|            Environment             | dpdk_meson_compile |
+====================================+====================+
| RHEL9 (ARM)                        | PASS               |
+------------------------------------+--------------------+
| Ubuntu 20.04 ARM GCC Cross Compile | PASS               |
+------------------------------------+--------------------+
| Ubuntu 20.04 ARM SVE               | PASS               |
+------------------------------------+--------------------+
| Debian 12 with MUSDK               | PASS               |
+------------------------------------+--------------------+


RHEL9 (ARM)
	Kernel: Depends on container host
	Compiler: gcc 11.5.0 20240719 (Red Hat 11.5.0-2)

Ubuntu 20.04 ARM GCC Cross Compile
	Kernel: Depends on container host
	Compiler: aarch64-linux-gnu-gcc (Ubuntu 9.4.0-1ubuntu1~20.04.2) 9.4.0

Ubuntu 20.04 ARM SVE
	Kernel: Depends on container host
	Compiler: gcc (Ubuntu 10.5.0-1ubuntu1~20.04) 10.5.0

Debian 12 with MUSDK
	Kernel: Depends on container host
	Compiler: gcc (Debian 12.2.0-14) 12.2.0

To view detailed results, visit:
https://lab.dpdk.org/results/dashboard/tarballs/32572/

UNH-IOL DPDK Community Lab

To manage your email subscriptions, visit: 
https://lab.dpdk.org/results/dashboard/preferences/subscriptions/

^ permalink raw reply	[flat|nested] 44+ messages in thread

end of thread, other threads:[~2025-02-19  5:16 UTC | newest]

Thread overview: 44+ messages (download: mbox.gz / follow: Atom feed)
-- links below jump to the message on this page --
2025-02-14  1:45 |SUCCESS| [GIT MASTER] e5176f23ae8b31437c3e5eb875c81f95bf3a9942 dpdklab
  -- strict thread matches above, loose matches on Subject: below --
2025-02-19  5:16 dpdklab
2025-02-19  5:00 dpdklab
2025-02-18 22:29 dpdklab
2025-02-18 22:16 dpdklab
2025-02-18 15:56 dpdklab
2025-02-18 15:42 dpdklab
2025-02-18  4:37 dpdklab
2025-02-18  2:37 dpdklab
2025-02-18  2:19 dpdklab
2025-02-18  2:15 dpdklab
2025-02-18  2:11 dpdklab
2025-02-18  2:09 dpdklab
2025-02-18  2:03 dpdklab
2025-02-18  1:58 dpdklab
2025-02-18  1:55 dpdklab
2025-02-18  1:46 dpdklab
2025-02-18  1:45 dpdklab
2025-02-18  1:28 dpdklab
2025-02-16  2:53 dpdklab
2025-02-16  2:47 dpdklab
2025-02-16  2:40 dpdklab
2025-02-16  2:37 dpdklab
2025-02-16  2:24 dpdklab
2025-02-16  2:07 dpdklab
2025-02-16  1:58 dpdklab
2025-02-16  1:57 dpdklab
2025-02-16  1:57 dpdklab
2025-02-16  1:47 dpdklab
2025-02-16  1:41 dpdklab
2025-02-16  1:32 dpdklab
2025-02-16  1:26 dpdklab
2025-02-14  6:13 dpdklab
2025-02-14  3:15 dpdklab
2025-02-14  2:45 dpdklab
2025-02-14  2:21 dpdklab
2025-02-14  2:15 dpdklab
2025-02-14  2:14 dpdklab
2025-02-14  2:10 dpdklab
2025-02-14  1:54 dpdklab
2025-02-14  1:49 dpdklab
2025-02-14  1:42 dpdklab
2025-02-14  1:28 dpdklab
2025-02-14  1:25 dpdklab

This is a public inbox, see mirroring instructions
for how to clone and mirror all data and code used for this inbox;
as well as URLs for NNTP newsgroup(s).