From mboxrd@z Thu Jan 1 00:00:00 1970 Return-Path: Received: from mails.dpdk.org (mails.dpdk.org [217.70.189.124]) by inbox.dpdk.org (Postfix) with ESMTP id 0959A4621E for ; Fri, 14 Feb 2025 02:54:52 +0100 (CET) Received: from mails.dpdk.org (localhost [127.0.0.1]) by mails.dpdk.org (Postfix) with ESMTP id 1DAE3402AD; Fri, 14 Feb 2025 02:54:51 +0100 (CET) Received: from mail-oo1-f97.google.com (mail-oo1-f97.google.com [209.85.161.97]) by mails.dpdk.org (Postfix) with ESMTP id 93AB64028E for ; Fri, 14 Feb 2025 02:54:49 +0100 (CET) Received: by mail-oo1-f97.google.com with SMTP id 006d021491bc7-5f6b65c89c4so446774eaf.2 for ; Thu, 13 Feb 2025 17:54:49 -0800 (PST) DKIM-Signature: v=1; a=rsa-sha256; c=relaxed/relaxed; d=iol.unh.edu; s=unh-iol; t=1739498088; x=1740102888; darn=dpdk.org; h=cc:to:from:subject:message-id:date:from:to:cc:subject:date :message-id:reply-to; bh=swQo/anyBE504ThgoLbAWybKhV5zvv8vbmf0P36/wZc=; b=Y3eHdKdolsgxxC7e8D3NsKS5tf/+haJXkb93ccF1UoEiATdiAa5sYea2U9ViR9ulFC XEjJBZvqEICNMMo/gUElV6V0jOLA9/ct0Inl7pcpnemDB70IKoeIEkpfnoV3bhdxl7Uq XkjN7Y1Mo2/L1nFtEPV7b8XJIzEvSCTvWNEmI= X-Google-DKIM-Signature: v=1; a=rsa-sha256; c=relaxed/relaxed; d=1e100.net; s=20230601; t=1739498088; x=1740102888; h=cc:to:from:subject:message-id:date:x-gm-message-state:from:to:cc :subject:date:message-id:reply-to; bh=swQo/anyBE504ThgoLbAWybKhV5zvv8vbmf0P36/wZc=; b=FCaYJvzZ8c+5RHBEGQ/SQ440PT6dmuAfmVswG74wXI5/wQtczI2cBoifE6i8znaN64 8cPHlpvoDbNTmNpTJnKX6miqgZRqh4juHVWqnDghyolv3ywFL+dUGqpfVz2iJFCUUx4T SZycSZ50Qu9sGKqLQK7GJ5JYf+isFpPtOnrgYJpPHWrWbSriQ0Ghi4gGHPrYM6vxea4J fxrPuFkuFKaVk9FfTXlol7mnw/foES2Gj1E2SzhnwWtHCZcKbO4rCxo3VzyUu1zV95wx npNFGQaHA4JrZ7maDGA1MmtddaFOx7rbtN4JnnGiEsPggGuj83gIWt2B6KDRhJed4GPo c45w== X-Gm-Message-State: AOJu0YzQlD+u8CjrmZBzVhVZuRRBVd+TOm2Sgh+ixZXmItWPTwJHxpTW riHKpXihO++IlqUdETlbBFOUDQj/BLhZB66fboIblJWG8zo7MlKTCeDBeHK5LEKuN5pa3/Ihq1m 27wE4QDxkmxD7GLEtM3hGvEhZLHQoywkXVX3CoaLZbTCR9P3QE8zxyw/c X-Gm-Gg: ASbGnctflpZ9LV2Qi+sEiVMTRfDKD4iGm2lHo7dShlUzzstmJLNur9pC9dFgdOZ/IJo ZSHkpqaegfjQ4RzBMJpbDjuNp1CkFnXK+gg0lvyHRCJPVtg5RWq7mnCW7LuhuRT0wyJK9TzI9lj br6TxuIGJkUdDS1oC3KdH32vC0mmzqv0foaHkPWVEHwocw+bEncLxw6h+6809F1rIGsbNZ9s0lU Rzg//9RoQjVh09b5ZVvuBn/YIVxgDzXOrTomQh1/8DNb5g2REgluJH2tvvujnFHWoGRw/QMbzdN m1HTQJgq44ZpVk4+ht2mD0/lsczHex4CMP2PLVhRfA== X-Google-Smtp-Source: AGHT+IHSxjrm+xpKqmxG2Bq+ciY7AnWpb8Pe/N3Hgt8PXlUAZgDviUnqzlNm0Ui1mqtTFx3NoxfrOFudpT6N X-Received: by 2002:a05:6870:3313:b0:29e:4578:5f74 with SMTP id 586e51a60fabf-2b8f8aaf65amr3403906fac.4.1739498088687; Thu, 13 Feb 2025 17:54:48 -0800 (PST) Received: from postal.iol.unh.edu (postal.iol.unh.edu. [2606:4100:3880:1234::84]) by smtp-relay.gmail.com with ESMTPS id 586e51a60fabf-2b963a63815sm152553fac.41.2025.02.13.17.54.48 (version=TLS1_2 cipher=ECDHE-ECDSA-AES128-GCM-SHA256 bits=128/128); Thu, 13 Feb 2025 17:54:48 -0800 (PST) X-Relaying-Domain: iol.unh.edu Date: Thu, 13 Feb 2025 17:54:48 -0800 (PST) Message-ID: <67aea268.050a0220.18e90a.8134SMTPIN_ADDED_MISSING@mx.google.com> Received: from [172.21.0.5] (unknown [172.18.0.240]) by postal.iol.unh.edu (Postfix) with ESMTP id 1D6846052471; Thu, 13 Feb 2025 20:54:48 -0500 (EST) Subject: |SUCCESS| [GIT MASTER] e5176f23ae8b31437c3e5eb875c81f95bf3a9942 From: dpdklab@iol.unh.edu To: Test Report Cc: dpdk-test-reports@iol.unh.edu Content-Type: text/plain X-BeenThere: test-report@dpdk.org X-Mailman-Version: 2.1.29 Precedence: list List-Id: automatic DPDK test reports List-Unsubscribe: , List-Archive: List-Post: List-Help: List-Subscribe: , Errors-To: test-report-bounces@dpdk.org _Testing PASS_ Branch: dpdk e5176f23ae8b31437c3e5eb875c81f95bf3a9942 --> testing pass Upstream job id: Generic-Unit-Test-DPDK#314861 Test environment and result as below: +---------------------+----------------+ | Environment | dpdk_unit_test | +=====================+================+ | Windows Server 2022 | PASS | +---------------------+----------------+ | CentOS Stream 10 | PASS | +---------------------+----------------+ | Arch Linux | PASS | +---------------------+----------------+ | CentOS Stream 9 | PASS | +---------------------+----------------+ | Debian Bullseye | PASS | +---------------------+----------------+ | Fedora 40 | PASS | +---------------------+----------------+ | Debian 12 | PASS | +---------------------+----------------+ | Fedora 41 (Clang) | PASS | +---------------------+----------------+ | Fedora 40 (Clang) | PASS | +---------------------+----------------+ | Fedora 41 | PASS | +---------------------+----------------+ | Ubuntu 20.04 | PASS | +---------------------+----------------+ | RHEL8 | PASS | +---------------------+----------------+ | RHEL9 | PASS | +---------------------+----------------+ | Ubuntu 22.04 | PASS | +---------------------+----------------+ | Ubuntu 24.04 | PASS | +---------------------+----------------+ Windows Server 2022 Kernel: 10.0.20348.2031 Compiler: clang 15.0.7, gcc 14.1.0 (MinGW), and MSVC VS 19.39.33521 CentOS Stream 10 Kernel: Depends on container host Compiler: gcc 14.2.1 20241104 (Red Hat 14.2.1-6) Arch Linux Kernel: Depends on container host Compiler: gcc 14.2.1 20240910 CentOS Stream 9 Kernel: Depends on container host Compiler: gcc 11.5.0 20240719 (Red Hat 11.5.0-2) Debian Bullseye Kernel: Depends on container host Compiler: gcc (Debian 10.2.1-6) 10.2.1 20210110 Fedora 40 Kernel: Depends on container host Compiler: gcc 14.2.1 20240912 (Red Hat 14.2.1-3) Debian 12 Kernel: Depends on container host Compiler: gcc (Debian 12.2.0-14) 12.2.0 Fedora 41 (Clang) Kernel: Depends on container host Compiler: clang 19.1.5 (Fedora 19.1.5-1.fc41) Fedora 40 (Clang) Kernel: Depends on container host Compiler: clang 18.1.8 (Fedora 18.1.8-1.fc40) Fedora 41 Kernel: Depends on container host Compiler: gcc 14.2.1 20240912 (Red Hat 14.2.1-3) Ubuntu 20.04 Kernel: Depends on container host Compiler: gcc (Ubuntu 9.4.0-1ubuntu1~20.04.2) 9.4.0 RHEL8 Kernel: Depends on container host Compiler: gcc 8.5.0 20210514 (Red Hat 8.5.0-22) RHEL9 Kernel: Depends on container host Compiler: gcc 11.5.0 20240719 (Red Hat 11.5.0-2) Ubuntu 22.04 Kernel: Depends on container host Compiler: gcc (Ubuntu 11.4.0-1ubuntu1~22.04) 11.4.0 Ubuntu 24.04 Kernel: Depends on container host Compiler: gcc (Ubuntu 13.3.0-6ubuntu2~24.04) 13.3.0 To view detailed results, visit: https://lab.dpdk.org/results/dashboard/tarballs/32572/ UNH-IOL DPDK Community Lab To manage your email subscriptions, visit: https://lab.dpdk.org/results/dashboard/preferences/subscriptions/