From mboxrd@z Thu Jan 1 00:00:00 1970 Return-Path: Received: from mails.dpdk.org (mails.dpdk.org [217.70.189.124]) by inbox.dpdk.org (Postfix) with ESMTP id 1DDDD46220 for ; Fri, 14 Feb 2025 04:19:07 +0100 (CET) Received: from mails.dpdk.org (localhost [127.0.0.1]) by mails.dpdk.org (Postfix) with ESMTP id 0CF87402AD; Fri, 14 Feb 2025 04:19:07 +0100 (CET) Received: from mail-il1-f225.google.com (mail-il1-f225.google.com [209.85.166.225]) by mails.dpdk.org (Postfix) with ESMTP id 0EC654028E for ; Fri, 14 Feb 2025 04:19:06 +0100 (CET) Received: by mail-il1-f225.google.com with SMTP id e9e14a558f8ab-3d18654e8d6so12346565ab.2 for ; Thu, 13 Feb 2025 19:19:06 -0800 (PST) DKIM-Signature: v=1; a=rsa-sha256; c=relaxed/relaxed; d=iol.unh.edu; s=unh-iol; t=1739503145; x=1740107945; darn=dpdk.org; h=references:in-reply-to:cc:to:from:subject:message-id:date:from:to :cc:subject:date:message-id:reply-to; bh=lXPMq31Xp5bOw+kKvQ6L3/u3m+Prq62ZMKxRJVIwPJg=; b=RJk1nDCAnvXD2RpmZg4bO4CHp3fwPzOMdZ8m+B8eQQ83y75sJAV523sPTQeP/MWEM4 cNA++9Qv/40a0orA2wJNop+DQDy+QhMDK+xjmy22ple9ytdHWr/mm2PDzIE7XPcBPhaI b39Hr2IywW55g0fUTq3Lc7v6SbzcnvLWTGmQg= X-Google-DKIM-Signature: v=1; a=rsa-sha256; c=relaxed/relaxed; d=1e100.net; s=20230601; t=1739503145; x=1740107945; h=references:in-reply-to:cc:to:from:subject:message-id:date :x-gm-message-state:from:to:cc:subject:date:message-id:reply-to; bh=lXPMq31Xp5bOw+kKvQ6L3/u3m+Prq62ZMKxRJVIwPJg=; b=v6QhOq9B8mRPAyAM3y+TSnWen4ghmnm9w9syZYyzlFLn4O4N6mmT9AzpcwtNUq6kF4 l/wFNWYWhj52qo/RJIOYHeuLmvCBZz9SDpD8wMOzRW3QxVz/aaLFuJo9eYq+GG0kswwe cIJQW+w2EJXzdQmlPwuh6EYlYeTnIk0N6OZjyDv/+XJAWNQWXwnwYrlofaSp6k39VF9S Cc52duMJxa6/DIpeUU1seUiqWbDlftm+loi6pE2ngCd5pjiF4AfDR75wzgE9YxDHatz/ sAq7Xo6zaus68fgy6GYuYRokzcEsSUFfLlorMqX3wIIHP5TWi9XCMeoF0jvxkV0LcxZ4 lEGQ== X-Gm-Message-State: AOJu0YwzFHZQQ+UD62yuY8y/uQaIDbnsWr43O+Bh+KXB/rjZ/FPaNf75 glsyp+2yQGKnxgpxNHu9nnVz3tVqLftNk+JA8Bh/9OCwG1HwcF5Pk+aD4B9YcBDwE/RapH9cseL KAhe2NC/BERADTBh/seDhjQcczI0NBJtfgf0n5dTAuD0uzkUhPUQ+TJ7N X-Gm-Gg: ASbGnctg/XR/5TbvFqO2A4p/WhkKw/gRVOVsqibo+OC5h6WFq1F3N+5eXsFzx0Shc0x 1Wq6VzRzQvWsS3FbGhhw1LfLp1KgrdzZ9OS38HZEd+53mu8aA8FEadUjl0OYJdCSnSsuQ+59VAv vbgBNaBh1hlQCzn39J3aQ25B1AFSOl7fmmeSIfurykDaZs6T/lXojw8GaN2eQa6JjV79ClPQCrJ QqQXKcToL5Xshil6k74kGGRzxut5MIJmplcUuLtQEQuHoaQiRvBVukL/i523UCxniTK5c5ZNWck Pci070m4Y8kSGIytcHh1tIvFfdxj3GWLAo0KkaEYHw== X-Google-Smtp-Source: AGHT+IF20ZKnaijYoeyGFNfUa+rd/gMo+FvBLFjXQMy7DOkkTqZGW8S7mgDfO66BD9O5/KnvOrF/BwI9ff3i X-Received: by 2002:a05:6e02:450b:b0:3d1:92fc:fb45 with SMTP id e9e14a558f8ab-3d192fd02demr27062405ab.5.1739503145341; Thu, 13 Feb 2025 19:19:05 -0800 (PST) Received: from postal.iol.unh.edu (postal.iol.unh.edu. [2606:4100:3880:1234::84]) by smtp-relay.gmail.com with ESMTPS id 8926c6da1cb9f-4ed281494absm157806173.8.2025.02.13.19.19.05 (version=TLS1_2 cipher=ECDHE-ECDSA-AES128-GCM-SHA256 bits=128/128); Thu, 13 Feb 2025 19:19:05 -0800 (PST) X-Relaying-Domain: iol.unh.edu Date: Thu, 13 Feb 2025 19:19:05 -0800 (PST) Message-ID: <67aeb629.050a0220.1356e1.8646SMTPIN_ADDED_MISSING@mx.google.com> Received: from [172.17.0.3] (unknown [172.18.0.217]) by postal.iol.unh.edu (Postfix) with ESMTP id C62726052471; Thu, 13 Feb 2025 22:19:04 -0500 (EST) Subject: |SUCCESS| pw151472-151478 [PATCH] [v7,7/7] test: update to latencyst From: dpdklab@iol.unh.edu To: Test Report Cc: dpdk-test-reports@iol.unh.edu In-Reply-To: <20250213212151.1693506-8-stephen@networkplumber.org> References: <20250213212151.1693506-8-stephen@networkplumber.org> Content-Type: text/plain X-BeenThere: test-report@dpdk.org X-Mailman-Version: 2.1.29 Precedence: list List-Id: automatic DPDK test reports List-Unsubscribe: , List-Archive: List-Post: List-Help: List-Subscribe: , Errors-To: test-report-bounces@dpdk.org Test-Label: iol-compile-arm64-testing Test-Status: SUCCESS http://dpdk.org/patch/151478 _Testing PASS_ Submitter: Stephen Hemminger Date: Thursday, February 13 2025 21:20:36 DPDK git baseline: Repo:dpdk Branch: master CommitID:e5176f23ae8b31437c3e5eb875c81f95bf3a9942 151472-151478 --> testing pass Upstream job id: Generic-DPDK-Compile-Meson#361480 Test environment and result as below: +----------------------------------------+--------------------+ | Environment | dpdk_meson_compile | +========================================+====================+ | Fedora 40 (ARM Clang) | PASS | +----------------------------------------+--------------------+ | Fedora 40 (ARM) | PASS | +----------------------------------------+--------------------+ | Debian 12 with MUSDK | PASS | +----------------------------------------+--------------------+ | Fedora 41 (ARM Clang) | PASS | +----------------------------------------+--------------------+ | Ubuntu 20.04 ARM SVE | PASS | +----------------------------------------+--------------------+ | Ubuntu 22.04 (ARM) | PASS | +----------------------------------------+--------------------+ | Fedora 41 (ARM) | PASS | +----------------------------------------+--------------------+ | Ubuntu 20.04 (ARM) | PASS | +----------------------------------------+--------------------+ | Ubuntu 24.04 (ARM) | PASS | +----------------------------------------+--------------------+ | CentOS Stream 9 (ARM) | PASS | +----------------------------------------+--------------------+ | CentOS Stream 10 (ARM) | PASS | +----------------------------------------+--------------------+ | Debian 11 (Buster) (ARM) | PASS | +----------------------------------------+--------------------+ | Debian 12 (arm) | PASS | +----------------------------------------+--------------------+ | Ubuntu 20.04 ARM Clang Cross Compile | PASS | +----------------------------------------+--------------------+ | Ubuntu 20.04 aarch32 GCC Cross Compile | PASS | +----------------------------------------+--------------------+ Fedora 40 (ARM Clang) Kernel: Depends on container host Compiler: clang 18.1.8 (Fedora 18.1.8-1.fc40) Fedora 40 (ARM) Kernel: Depends on container host Compiler: gcc 14.2.1 20240912 (Red Hat 14.2.1-3) Debian 12 with MUSDK Kernel: Depends on container host Compiler: gcc (Debian 12.2.0-14) 12.2.0 Fedora 41 (ARM Clang) Kernel: Depends on container host Compiler: clang 19.1.5 (Fedora 19.1.5-1.fc41) Ubuntu 20.04 ARM SVE Kernel: Depends on container host Compiler: gcc (Ubuntu 10.5.0-1ubuntu1~20.04) 10.5.0 Ubuntu 22.04 (ARM) Kernel: Depends on container host Compiler: gcc (Ubuntu 11.4.0-1ubuntu1~22.04) 11.4.0 Fedora 41 (ARM) Kernel: Depends on container host Compiler: gcc 14.2.1 20240912 (Red Hat 14.2.1-3) Ubuntu 20.04 (ARM) Kernel: Depends on container host Compiler: gcc (Ubuntu 9.4.0-1ubuntu1~20.04.2) 9.4.0 Ubuntu 24.04 (ARM) Kernel: Depends on container host Compiler: gcc (Ubuntu 13.3.0-6ubuntu2~24.04) 13.3.0 CentOS Stream 9 (ARM) Kernel: Depends on container host Compiler: gcc 11.5.0 20240719 (Red Hat 11.5.0-2) CentOS Stream 10 (ARM) Kernel: Depends on container host Compiler: gcc 14.2.1 20241104 (Red Hat 14.2.1-6) Debian 11 (Buster) (ARM) Kernel: Depends on container host Compiler: gcc (Debian 10.2.1-6) 10.2.1 20210110 Debian 12 (arm) Kernel: Depends on container host Compiler: gcc (Debian 12.2.0-14) 12.2.0 Ubuntu 20.04 ARM Clang Cross Compile Kernel: Depends on container host Compiler: clang 10.0.0-4ubuntu1 Ubuntu 20.04 aarch32 GCC Cross Compile Kernel: Depends on container host Compiler: gcc 9.4.0 To view detailed results, visit: https://lab.dpdk.org/results/dashboard/patchsets/32578/ UNH-IOL DPDK Community Lab To manage your email subscriptions, visit: https://lab.dpdk.org/results/dashboard/preferences/subscriptions/