From mboxrd@z Thu Jan  1 00:00:00 1970
Return-Path: <test-report-bounces@dpdk.org>
Received: from mails.dpdk.org (mails.dpdk.org [217.70.189.124])
	by inbox.dpdk.org (Postfix) with ESMTP id D70754611F
	for <public@inbox.dpdk.org>; Fri, 14 Feb 2025 04:59:40 +0100 (CET)
Received: from mails.dpdk.org (localhost [127.0.0.1])
	by mails.dpdk.org (Postfix) with ESMTP id D082B4028E;
	Fri, 14 Feb 2025 04:59:40 +0100 (CET)
Received: from mail-pj1-f100.google.com (mail-pj1-f100.google.com
 [209.85.216.100])
 by mails.dpdk.org (Postfix) with ESMTP id 8EDD64028B
 for <test-report@dpdk.org>; Fri, 14 Feb 2025 04:59:39 +0100 (CET)
Received: by mail-pj1-f100.google.com with SMTP id
 98e67ed59e1d1-2fa2eb7eb45so4442663a91.1
 for <test-report@dpdk.org>; Thu, 13 Feb 2025 19:59:39 -0800 (PST)
DKIM-Signature: v=1; a=rsa-sha256; c=relaxed/relaxed;
 d=iol.unh.edu; s=unh-iol; t=1739505579; x=1740110379; darn=dpdk.org;
 h=references:in-reply-to:cc:to:from:subject:message-id:date:from:to
 :cc:subject:date:message-id:reply-to;
 bh=+Vv8Phh6KB7Op60Rn0OhDNZMtmPXtm5xFRkRsPWrDC8=;
 b=ZI1cdLicr5qbrJ9uLH6w1ZyH+REJpNLjHUOLSUGVn3mVSyyeLQsT4tBmvmMJyJDidl
 3Xqot3M26FvrxGtkYUOp66zrDRJQj+mvvsc7JbQDctNpAel25aAhbgErdaIuMgAYm1/y
 63bL8xNEJsk4EmOSSdXyc1kEsvNBsTFeDvMxw=
X-Google-DKIM-Signature: v=1; a=rsa-sha256; c=relaxed/relaxed;
 d=1e100.net; s=20230601; t=1739505579; x=1740110379;
 h=references:in-reply-to:cc:to:from:subject:message-id:date
 :x-gm-message-state:from:to:cc:subject:date:message-id:reply-to;
 bh=+Vv8Phh6KB7Op60Rn0OhDNZMtmPXtm5xFRkRsPWrDC8=;
 b=iHYBAKkKrUCaO5s+z3VX01PoQh1eQ+H/E/VEHIfq5urin7vwtPkEPoXcb+8VshUyvl
 DepZJjZ9yGlYpPYZFVJtaNnqgv+72awzGzKB4tk+LB0cgsgGZcvZYCTAGUVQmeaa+fsg
 EOqhoROVk3saanRItIvChhVh81vw5hMs7oNtAn6DsjoL1ZrsH1ql/fYfRuX44icuQ3Wo
 2B8aTromMTHt4i5s8oGQS+p90WZdK+J6zm8qy0hDYUl3qSK3aOk+AOvMYr6SldilAqm8
 opa+NtpJ+nQfTb4QveI0OtCX3mn3iaIZwRxgXtas635o39yRgld0llMcsiBDey1Z9st8
 exEQ==
X-Gm-Message-State: AOJu0YxJcmeTJD/MygJWn2RGuQlY2DozCzJdhEa6B6MOzYUwlks/ON4H
 orvKkN/3gzmZuTttQgk0+LaV7zGmLJOokxI577H3wTpUFCnP45SxgCSy3M8b5nNx29gvcBALGXv
 3UO07ml0n/nZBerv4jsUI7N7l7lNNJAEA1gN+PZlPlj8WCNzB+uM/W8t5
X-Gm-Gg: ASbGncu46Sz1lMDhaZSvhw31BtkyGDnkKI0vqgcBF94pAqfGCWVIrAqGpvQxkf578ka
 k+FWZDUsRt5aOApadt5LigjjmaHVLtVTFgx/ECUkPWKiCgm82HrlGMa3RfMkREDBHsd3y3r6bUB
 YHC/l3WOv7nbd12SNBft+MfVdOLBA/94SSwhRIf/k/odl2lMqVhEHa06G9vF5okDtt5+Q0+ouCx
 N9X9tZs3A2/w4bxPIuv1vliUechoc2YJjI6s+8y/YS3LixRdMb7bQ+Jwb3hwhFujM6aSlXcCo/P
 0RNCUiC9Xs6/lcUOETdCs1DpwebV62VmfpwRZCG4+A==
X-Google-Smtp-Source: AGHT+IFYJ+Q9XV+LiCsUol52Y27XDTFwi7mw7BVkAEruIuL9DeM6QEJ8OMepOT8toYukTzlm8+78nPw/LhiV
X-Received: by 2002:a17:90b:1c11:b0:2fa:2268:1af4 with SMTP id
 98e67ed59e1d1-2fc0f9542cbmr8224179a91.7.1739505578686; 
 Thu, 13 Feb 2025 19:59:38 -0800 (PST)
Received: from postal.iol.unh.edu (postal.iol.unh.edu.
 [2606:4100:3880:1234::84]) by smtp-relay.gmail.com with ESMTPS id
 98e67ed59e1d1-2fbf98b9449sm282810a91.4.2025.02.13.19.59.38
 (version=TLS1_2 cipher=ECDHE-ECDSA-AES128-GCM-SHA256 bits=128/128);
 Thu, 13 Feb 2025 19:59:38 -0800 (PST)
X-Relaying-Domain: iol.unh.edu
Date: Thu, 13 Feb 2025 19:59:38 -0800 (PST)
Message-ID: <67aebfaa.170a0220.2285ee.f7b2SMTPIN_ADDED_MISSING@mx.google.com>
Received: from [172.17.0.6] (unknown [172.18.0.217])
 by postal.iol.unh.edu (Postfix) with ESMTP id C68816052471;
 Thu, 13 Feb 2025 22:59:37 -0500 (EST)
Subject: |SUCCESS| pw151490-151491 [PATCH] [v3,2/2] app/test-pmd: use ptype A
From: dpdklab@iol.unh.edu
To: Test Report <test-report@dpdk.org>
Cc: dpdk-test-reports@iol.unh.edu
In-Reply-To: <20250214015638.29983-3-haijie1@huawei.com>
References: <20250214015638.29983-3-haijie1@huawei.com>
Content-Type: text/plain
X-BeenThere: test-report@dpdk.org
X-Mailman-Version: 2.1.29
Precedence: list
List-Id: automatic DPDK test reports <test-report.dpdk.org>
List-Unsubscribe: <https://mails.dpdk.org/options/test-report>,
 <mailto:test-report-request@dpdk.org?subject=unsubscribe>
List-Archive: <http://mails.dpdk.org/archives/test-report/>
List-Post: <mailto:test-report@dpdk.org>
List-Help: <mailto:test-report-request@dpdk.org?subject=help>
List-Subscribe: <https://mails.dpdk.org/listinfo/test-report>,
 <mailto:test-report-request@dpdk.org?subject=subscribe>
Errors-To: test-report-bounces@dpdk.org

Test-Label: iol-abi-testing
Test-Status: SUCCESS
http://dpdk.org/patch/151491

_Testing PASS_

Submitter: Jie Hai <haijie1@huawei.com>
Date: Friday, February 14 2025 01:56:38 
DPDK git baseline: Repo:dpdk
  Branch: master
  CommitID:88ece085bcd743e916172b653337ac94f79f472d

151490-151491 --> testing pass

Upstream job id: Generic-DPDK-Compile-ABI#116146

Test environment and result as below:

+-----------------+----------+
|   Environment   | abi_test |
+=================+==========+
| Debian Bullseye | PASS     |
+-----------------+----------+
| Ubuntu 24.04    | PASS     |
+-----------------+----------+
| Fedora 40       | PASS     |
+-----------------+----------+
| Debian 12       | PASS     |
+-----------------+----------+
| RHEL8           | PASS     |
+-----------------+----------+
| RHEL9           | PASS     |
+-----------------+----------+
| Ubuntu 22.04    | PASS     |
+-----------------+----------+


Debian Bullseye
	Kernel: Depends on container host
	Compiler: gcc (Debian 10.2.1-6) 10.2.1 20210110

Ubuntu 24.04
	Kernel: Depends on container host
	Compiler: gcc (Ubuntu 13.3.0-6ubuntu2~24.04) 13.3.0

Fedora 40
	Kernel: Depends on container host
	Compiler: gcc 14.2.1 20240912 (Red Hat 14.2.1-3)

Debian 12
	Kernel: Depends on container host
	Compiler: gcc (Debian 12.2.0-14) 12.2.0

RHEL8
	Kernel: Depends on container host
	Compiler: gcc 8.5.0 20210514 (Red Hat 8.5.0-22)

RHEL9
	Kernel: Depends on container host
	Compiler: gcc 11.5.0 20240719 (Red Hat 11.5.0-2)

Ubuntu 22.04
	Kernel: Depends on container host
	Compiler: gcc (Ubuntu 11.4.0-1ubuntu1~22.04) 11.4.0

To view detailed results, visit:
https://lab.dpdk.org/results/dashboard/patchsets/32580/

UNH-IOL DPDK Community Lab

To manage your email subscriptions, visit: 
https://lab.dpdk.org/results/dashboard/preferences/subscriptions/