From mboxrd@z Thu Jan  1 00:00:00 1970
Return-Path: <test-report-bounces@dpdk.org>
Received: from mails.dpdk.org (mails.dpdk.org [217.70.189.124])
	by inbox.dpdk.org (Postfix) with ESMTP id 6555B461CF
	for <public@inbox.dpdk.org>; Fri, 14 Feb 2025 05:22:40 +0100 (CET)
Received: from mails.dpdk.org (localhost [127.0.0.1])
	by mails.dpdk.org (Postfix) with ESMTP id 43BCE4028E;
	Fri, 14 Feb 2025 05:22:40 +0100 (CET)
Received: from mail-vk1-f226.google.com (mail-vk1-f226.google.com
 [209.85.221.226])
 by mails.dpdk.org (Postfix) with ESMTP id 5A3404028B
 for <test-report@dpdk.org>; Fri, 14 Feb 2025 05:22:39 +0100 (CET)
Received: by mail-vk1-f226.google.com with SMTP id
 71dfb90a1353d-51eb1a714bfso1072372e0c.3
 for <test-report@dpdk.org>; Thu, 13 Feb 2025 20:22:39 -0800 (PST)
DKIM-Signature: v=1; a=rsa-sha256; c=relaxed/relaxed;
 d=iol.unh.edu; s=unh-iol; t=1739506958; x=1740111758; darn=dpdk.org;
 h=references:in-reply-to:cc:to:from:subject:message-id:date:from:to
 :cc:subject:date:message-id:reply-to;
 bh=7K0aw7l6Guw//wh2AF6ij5vD2HX7qMgqig+97/pG7Eo=;
 b=FvVD31hQzrDbeFfNRbybiSyH8AiEbnL1IOnMEMHxmNmhuuMJPMZ17KfQTHEo9zRM56
 +rExZyisuaT3uRY69iO/trMcV5vbm4JhaMAFMt39CtQRqkQHrvEBe6eyyC2BuMrSReiY
 nuV1y/YRvT+L5tmDIc/9HPMo0/5xOBATHXAcE=
X-Google-DKIM-Signature: v=1; a=rsa-sha256; c=relaxed/relaxed;
 d=1e100.net; s=20230601; t=1739506958; x=1740111758;
 h=references:in-reply-to:cc:to:from:subject:message-id:date
 :x-gm-message-state:from:to:cc:subject:date:message-id:reply-to;
 bh=7K0aw7l6Guw//wh2AF6ij5vD2HX7qMgqig+97/pG7Eo=;
 b=nlnJhw0rqfs2iXsXB97pUwuflGWjfBC7s3+LVTNfqnGKu6Bz0MLv3ixyJH/mpG8bRc
 4QBeBmdw0Lp8gVR96iiKy2U/WRSvgtJA+erTS9aFA8LrryzYRVEyuEXw1hRn/t0/ps57
 pnRglRpLPm7SmI3x2VPJM+c+DxrWYrk6zNE248C0tL7ilA9zp5KsbIR0cGC/9cXP+3Jt
 kWmXIJGhwIH2i19mRwQPbzqsX+OKvv1lpjms0tNIYZursWyvIykuFvtKWi1EzzkDUVbm
 5YeRpQIQXctLLej/qBKluxuMXGNadMczRC0jSUwAspqOuKRRsGO6aEvMaDD36rL1cTZW
 Q/DA==
X-Gm-Message-State: AOJu0Yxmj3/TLppU79NcOODhn1gwnk8LOG7DNqh94A1xqquzXbn5/a5P
 sdzCN7Zw9TLKDP0wy7uckA+umSacIrKux005yMATO5l65c4PHIJ6jGjW1JLaQbaGZIGxcekj7Yp
 EIfJlDjKB57CQYI6euV0h5GvJAAyFxhosNRgWwmA0
X-Gm-Gg: ASbGncstl6kF11Eftm7cJ2vZTzPH7pILKUU3bogZOk64w7y8k4QjoW0fNPeauiU1FLm
 u4i5OO9rjWDMkUTpbf1wMbN+9j/svqWLKEoIpo1UA2E8JeefJQXBI60nfQ4hpBkj1yC0NBuXovc
 hMJO9QPPIhYlo/oqDa7Sf9YvfAfX9CsA54edroAGs5ld2Y3ph1MkP3kxwNGLsOvvQsPpoqdC03s
 g2cOi0onmgwJ6vnlHRyl75jdEA3DOSEJk9kBd6FvVNCO4+upK6w/BqYZDmysWPeDFcAb11Vs5Dd
 jwhVbdXRKILHvmTLFAqAaP3m4UjzSQ==
X-Google-Smtp-Source: AGHT+IGmM+P6fAm3j76SrK+GtDvawaBLVnfIojP1YJuwAn7XyGkLtDe0z9x8A47+UFbicCEgRLzhc2vgXbNn
X-Received: by 2002:a05:6122:4594:b0:51d:e9c0:e607 with SMTP id
 71dfb90a1353d-52067b8e0aamr9156636e0c.4.1739506958619; 
 Thu, 13 Feb 2025 20:22:38 -0800 (PST)
Received: from postal.iol.unh.edu (postal.iol.unh.edu. [132.177.123.84])
 by smtp-relay.gmail.com with ESMTPS id
 71dfb90a1353d-5207aa6c912sm122774e0c.5.2025.02.13.20.22.38
 (version=TLS1_2 cipher=ECDHE-ECDSA-AES128-GCM-SHA256 bits=128/128);
 Thu, 13 Feb 2025 20:22:38 -0800 (PST)
X-Relaying-Domain: iol.unh.edu
Date: Thu, 13 Feb 2025 20:22:38 -0800 (PST)
Message-ID: <67aec50e.050a0220.28e6c9.61f1SMTPIN_ADDED_MISSING@mx.google.com>
Received: from [172.21.0.5] (unknown [172.18.0.240])
 by postal.iol.unh.edu (Postfix) with ESMTP id 274A26052471;
 Thu, 13 Feb 2025 23:22:38 -0500 (EST)
Subject: |SUCCESS| pw151490-151491 [PATCH] [v3,2/2] app/test-pmd: use ptype A
From: dpdklab@iol.unh.edu
To: Test Report <test-report@dpdk.org>
Cc: dpdk-test-reports@iol.unh.edu
In-Reply-To: <20250214015638.29983-3-haijie1@huawei.com>
References: <20250214015638.29983-3-haijie1@huawei.com>
Content-Type: text/plain
X-BeenThere: test-report@dpdk.org
X-Mailman-Version: 2.1.29
Precedence: list
List-Id: automatic DPDK test reports <test-report.dpdk.org>
List-Unsubscribe: <https://mails.dpdk.org/options/test-report>,
 <mailto:test-report-request@dpdk.org?subject=unsubscribe>
List-Archive: <http://mails.dpdk.org/archives/test-report/>
List-Post: <mailto:test-report@dpdk.org>
List-Help: <mailto:test-report-request@dpdk.org?subject=help>
List-Subscribe: <https://mails.dpdk.org/listinfo/test-report>,
 <mailto:test-report-request@dpdk.org?subject=subscribe>
Errors-To: test-report-bounces@dpdk.org

Test-Label: iol-unit-arm64-testing
Test-Status: SUCCESS
http://dpdk.org/patch/151491

_Testing PASS_

Submitter: Jie Hai <haijie1@huawei.com>
Date: Friday, February 14 2025 01:56:38 
DPDK git baseline: Repo:dpdk
  Branch: master
  CommitID:88ece085bcd743e916172b653337ac94f79f472d

151490-151491 --> testing pass

Upstream job id: Generic-Unit-Test-DPDK#314894

Test environment and result as below:

+-----------------------------+----------------+---------------------------+--------------+------------------------------+
|         Environment         | dpdk_unit_test | cryptodev_sw_zuc_autotest | lpm_autotest | cryptodev_sw_snow3g_autotest |
+=============================+================+===========================+==============+==============================+
| Debian 12 (arm)             | PASS           | PASS                      | SKIPPED      | PASS                         |
+-----------------------------+----------------+---------------------------+--------------+------------------------------+
| Debian 11 (Buster) (ARM)    | PASS           | SKIPPED                   | SKIPPED      | SKIPPED                      |
+-----------------------------+----------------+---------------------------+--------------+------------------------------+
| CentOS Stream 9 (ARM)       | PASS           | SKIPPED                   | SKIPPED      | SKIPPED                      |
+-----------------------------+----------------+---------------------------+--------------+------------------------------+
| 32-bit Ubuntu 22.04.4 (ARM) | PASS           | SKIPPED                   | SKIPPED      | SKIPPED                      |
+-----------------------------+----------------+---------------------------+--------------+------------------------------+
| Ubuntu 20.04 (ARM)          | PASS           | SKIPPED                   | SKIPPED      | SKIPPED                      |
+-----------------------------+----------------+---------------------------+--------------+------------------------------+
| CentOS Stream 10 (ARM)      | PASS           | SKIPPED                   | SKIPPED      | SKIPPED                      |
+-----------------------------+----------------+---------------------------+--------------+------------------------------+
| Fedora 40 (ARM)             | PASS           | SKIPPED                   | SKIPPED      | SKIPPED                      |
+-----------------------------+----------------+---------------------------+--------------+------------------------------+
| Fedora 41 (ARM)             | PASS           | SKIPPED                   | SKIPPED      | SKIPPED                      |
+-----------------------------+----------------+---------------------------+--------------+------------------------------+
| Fedora 41 (ARM Clang)       | PASS           | SKIPPED                   | SKIPPED      | SKIPPED                      |
+-----------------------------+----------------+---------------------------+--------------+------------------------------+
| Fedora 40 (ARM Clang)       | PASS           | SKIPPED                   | SKIPPED      | SKIPPED                      |
+-----------------------------+----------------+---------------------------+--------------+------------------------------+
| Ubuntu 24.04 (ARM)          | PASS           | SKIPPED                   | SKIPPED      | SKIPPED                      |
+-----------------------------+----------------+---------------------------+--------------+------------------------------+
| Ubuntu 22.04 (ARM)          | PASS           | SKIPPED                   | SKIPPED      | SKIPPED                      |
+-----------------------------+----------------+---------------------------+--------------+------------------------------+
| RHEL9 (ARM)                 | PASS           | SKIPPED                   | SKIPPED      | SKIPPED                      |
+-----------------------------+----------------+---------------------------+--------------+------------------------------+
| Ubuntu 20.04 ARM SVE        | SKIPPED        | SKIPPED                   | PASS         | SKIPPED                      |
+-----------------------------+----------------+---------------------------+--------------+------------------------------+


Debian 12 (arm)
	Kernel: Depends on container host
	Compiler: gcc (Debian 12.2.0-14) 12.2.0

Debian 11 (Buster) (ARM)
	Kernel: Depends on container host
	Compiler: gcc (Debian 10.2.1-6) 10.2.1 20210110

CentOS Stream 9 (ARM)
	Kernel: Depends on container host
	Compiler: gcc 11.5.0 20240719 (Red Hat 11.5.0-2)

32-bit Ubuntu 22.04.4 (ARM)
	Kernel: 5.15.83+ aarch64
	Compiler: gcc (Ubuntu 11.4.0-1ubuntu1~22.04) 11.4.0

Ubuntu 20.04 (ARM)
	Kernel: Depends on container host
	Compiler: gcc (Ubuntu 9.4.0-1ubuntu1~20.04.2) 9.4.0

CentOS Stream 10 (ARM)
	Kernel: Depends on container host
	Compiler: gcc 14.2.1 20241104 (Red Hat 14.2.1-6)

Fedora 40 (ARM)
	Kernel: Depends on container host
	Compiler: gcc 14.2.1 20240912 (Red Hat 14.2.1-3)

Fedora 41 (ARM)
	Kernel: Depends on container host
	Compiler: gcc 14.2.1 20240912 (Red Hat 14.2.1-3)

Fedora 41 (ARM Clang)
	Kernel: Depends on container host
	Compiler: clang 19.1.5 (Fedora 19.1.5-1.fc41)

Fedora 40 (ARM Clang)
	Kernel: Depends on container host
	Compiler: clang 18.1.8 (Fedora 18.1.8-1.fc40)

Ubuntu 24.04 (ARM)
	Kernel: Depends on container host
	Compiler: gcc (Ubuntu 13.3.0-6ubuntu2~24.04) 13.3.0

Ubuntu 22.04 (ARM)
	Kernel: Depends on container host
	Compiler: gcc (Ubuntu 11.4.0-1ubuntu1~22.04) 11.4.0

RHEL9 (ARM)
	Kernel: Depends on container host
	Compiler: gcc 11.5.0 20240719 (Red Hat 11.5.0-2)

Ubuntu 20.04 ARM SVE
	Kernel: Depends on container host
	Compiler: gcc (Ubuntu 10.5.0-1ubuntu1~20.04) 10.5.0

To view detailed results, visit:
https://lab.dpdk.org/results/dashboard/patchsets/32580/

UNH-IOL DPDK Community Lab

To manage your email subscriptions, visit: 
https://lab.dpdk.org/results/dashboard/preferences/subscriptions/