From mboxrd@z Thu Jan 1 00:00:00 1970 Return-Path: Received: from mails.dpdk.org (mails.dpdk.org [217.70.189.124]) by inbox.dpdk.org (Postfix) with ESMTP id 3634746217 for ; Fri, 14 Feb 2025 06:39:51 +0100 (CET) Received: from mails.dpdk.org (localhost [127.0.0.1]) by mails.dpdk.org (Postfix) with ESMTP id 1E291402B9; Fri, 14 Feb 2025 06:39:51 +0100 (CET) Received: from mail-io1-f99.google.com (mail-io1-f99.google.com [209.85.166.99]) by mails.dpdk.org (Postfix) with ESMTP id 717A8402AD for ; Fri, 14 Feb 2025 06:39:49 +0100 (CET) Received: by mail-io1-f99.google.com with SMTP id ca18e2360f4ac-8556adad825so84549339f.0 for ; Thu, 13 Feb 2025 21:39:49 -0800 (PST) DKIM-Signature: v=1; a=rsa-sha256; c=relaxed/relaxed; d=iol.unh.edu; s=unh-iol; t=1739511589; x=1740116389; darn=dpdk.org; h=references:in-reply-to:cc:to:from:subject:message-id:date:from:to :cc:subject:date:message-id:reply-to; bh=6iIJyWXff9sI7gVSOnz49Zlw111vGv1HJzWNI+byz+E=; b=ZeFC++8xHbl935UlXg7JG+qYQkEPFZYE9FBBUjw10RMWZGLuQRs0o784MIPMlLRS+2 tCCIeUHFLtNUrJ8aH7zwYjsWcmXDXXV279qk+fOwdNhDI2SFKLZGVLDj7IuY8AgymtuY 13HqCvkkM3Qx4Ujtnk3ffGlKVD/JElHYcMPCo= X-Google-DKIM-Signature: v=1; a=rsa-sha256; c=relaxed/relaxed; d=1e100.net; s=20230601; t=1739511589; x=1740116389; h=references:in-reply-to:cc:to:from:subject:message-id:date :x-gm-message-state:from:to:cc:subject:date:message-id:reply-to; bh=6iIJyWXff9sI7gVSOnz49Zlw111vGv1HJzWNI+byz+E=; b=gAyCWBD1eGoX50sWvUfitPm0mqub8PK1BT3syJ6tBjX0pRyg7ZlcCWFjHkfeG4/W1i Oq3EtIp78JQiliemua8xuY0PPfS9NxP6LJY0NR5cLAr8Pku6Y/2rezEaxR3dzPhSBxRQ ywFiDEzl8jtN31cKQOIKzqdCZG+3YnM/ev+B8wBLDfiWcgBu1BmWd48qrCRw/Gf1tO76 lbmNhtw5N3z+e7toA65M9Ou46j5WN2JZxtU2zs2F16faOSAkgWo8ESEXf/cuW4bjth0w BmjYW4h/nuBrfqW1H653A17SBCF2x8xSUKHrJZmyf/nqztKO15tSER9qK5EIfF+ZGkDa Q9vA== X-Gm-Message-State: AOJu0YyUfcoWfiPJxAkS0fLNUKn00WTHhwyCU/C868n0nmfB4UI2SU0I AONukXPPxxy28UYa82s3nUcOAL+4/PMn+IYZesaaWjawY+YT87br8WAlsOkfR9qsVMkrqUgA6Dt uz+R1CXtiJ6qoYem5KeVsOKHVezyMnYZqNJedTnBs X-Gm-Gg: ASbGnctp/frWxANFeZgtWfVIAH0mkIkR/zbeVwQRslAG/rSVefQiira/A7rp+pd+CjF w7wswpiRaqgKx8ts9ddMvIuI5tlTZyoW4fKP1/u+e5STNx/hJcTqvUykwEmSPQu6XpVFhLNCb4p u+8cnysOT4PDFE6fy+SaAF83bt7V6J2XW/d41ncAoLOl48QW7CvtNhmn5xsLzt4WvxM3YyCv0jR VDXAuuTx7iJlhN6DyG55zn/5B5Iwnx3athoPAnngG6IBthVFVXMS8LCQBt7XgAjYIWjuDGute46 nSfPAYMCbxkFoQqPUkQcwTylO2g18A== X-Google-Smtp-Source: AGHT+IFnYwrHq90Rx+1s7xs4kyoSByhBCk9m7VU0ZrtctATj68p599csOD21STLw7b2dUumYiFyc6OVqnPUs X-Received: by 2002:a05:6602:6d10:b0:841:950b:386d with SMTP id ca18e2360f4ac-855578cc497mr791593339f.3.1739511588771; Thu, 13 Feb 2025 21:39:48 -0800 (PST) Received: from postal.iol.unh.edu (postal.iol.unh.edu. [132.177.123.84]) by smtp-relay.gmail.com with ESMTPS id 8926c6da1cb9f-4ed282a721bsm165838173.56.2025.02.13.21.39.48 (version=TLS1_2 cipher=ECDHE-ECDSA-AES128-GCM-SHA256 bits=128/128); Thu, 13 Feb 2025 21:39:48 -0800 (PST) X-Relaying-Domain: iol.unh.edu Date: Thu, 13 Feb 2025 21:39:48 -0800 (PST) Message-ID: <67aed724.050a0220.1b0167.8d55SMTPIN_ADDED_MISSING@mx.google.com> Received: from [172.17.0.6] (unknown [172.18.0.217]) by postal.iol.unh.edu (Postfix) with ESMTP id 3D72F6052471; Fri, 14 Feb 2025 00:39:48 -0500 (EST) Subject: |SUCCESS| pw151479-151489 [PATCH] [v6,11/11] devtools/cocci: add scr From: dpdklab@iol.unh.edu To: Test Report Cc: dpdk-test-reports@iol.unh.edu In-Reply-To: <20250213221819.1856769-12-stephen@networkplumber.org> References: <20250213221819.1856769-12-stephen@networkplumber.org> Content-Type: text/plain X-BeenThere: test-report@dpdk.org X-Mailman-Version: 2.1.29 Precedence: list List-Id: automatic DPDK test reports List-Unsubscribe: , List-Archive: List-Post: List-Help: List-Subscribe: , Errors-To: test-report-bounces@dpdk.org Test-Label: iol-sample-apps-testing Test-Status: SUCCESS http://dpdk.org/patch/151489 _Testing PASS_ Submitter: Stephen Hemminger Date: Thursday, February 13 2025 22:16:24 DPDK git baseline: Repo:dpdk Branch: master CommitID:e5176f23ae8b31437c3e5eb875c81f95bf3a9942 151479-151489 --> testing pass Upstream job id: ACVP-FIPS-testing#8910 Test environment and result as below: +--------------------+----------------------+----------------------+ | Environment | compressdev_zlib_pmd | dpdk_fips_validation | +====================+======================+======================+ | Ubuntu 22.04 (ARM) | PASS | SKIPPED | +--------------------+----------------------+----------------------+ | Ubuntu 22.04 | PASS | SKIPPED | +--------------------+----------------------+----------------------+ | Ubuntu 20.04 | SKIPPED | PASS | +--------------------+----------------------+----------------------+ Ubuntu 22.04 (ARM) Kernel: 5.15.0-97-generic Compiler: gcc gcc (Ubuntu 11.4.0-1ubuntu1~22.04) 11.4.0 Ubuntu 22.04 Kernel: 5.15.0-100-generic Compiler: gcc gcc (Ubuntu 11.4.0-1ubuntu1~22.04) 11.4.0 Ubuntu 20.04 Kernel: Depends on container host Compiler: gcc (Ubuntu 9.4.0-1ubuntu1~20.04.2) 9.4.0 To view detailed results, visit: https://lab.dpdk.org/results/dashboard/patchsets/32579/ UNH-IOL DPDK Community Lab To manage your email subscriptions, visit: https://lab.dpdk.org/results/dashboard/preferences/subscriptions/