From mboxrd@z Thu Jan 1 00:00:00 1970 Return-Path: Received: from mails.dpdk.org (mails.dpdk.org [217.70.189.124]) by inbox.dpdk.org (Postfix) with ESMTP id 0877B46217 for ; Fri, 14 Feb 2025 07:54:48 +0100 (CET) Received: from mails.dpdk.org (localhost [127.0.0.1]) by mails.dpdk.org (Postfix) with ESMTP id 0448140651; Fri, 14 Feb 2025 07:54:48 +0100 (CET) Received: from mail-il1-f225.google.com (mail-il1-f225.google.com [209.85.166.225]) by mails.dpdk.org (Postfix) with ESMTP id 3252B40659 for ; Fri, 14 Feb 2025 07:54:47 +0100 (CET) Received: by mail-il1-f225.google.com with SMTP id e9e14a558f8ab-3ce87d31480so5285685ab.2 for ; Thu, 13 Feb 2025 22:54:47 -0800 (PST) DKIM-Signature: v=1; a=rsa-sha256; c=relaxed/relaxed; d=iol.unh.edu; s=unh-iol; t=1739516086; x=1740120886; darn=dpdk.org; h=cc:to:from:subject:message-id:date:from:to:cc:subject:date :message-id:reply-to; bh=f8FPoEZlpQjU/HxY/AvIl00og9yvGGdroX1pRD2TkLk=; b=ccOqw/I9ULmaMLhqnCP50+laDUvbCnZF2S0VIfLaMCMsLUzvqBVkkTmSXFjKtjsSqE bKcO6hptU8U52XxcwDeqigqaNDjm+FYjv+DWPtsurYGWc8GSZKHjT+8Tn/DJKV17s1y/ //dE669iWxqWkjyzn90gqV1LHCZu1y/Er7Gr8= X-Google-DKIM-Signature: v=1; a=rsa-sha256; c=relaxed/relaxed; d=1e100.net; s=20230601; t=1739516086; x=1740120886; h=cc:to:from:subject:message-id:date:x-gm-message-state:from:to:cc :subject:date:message-id:reply-to; bh=f8FPoEZlpQjU/HxY/AvIl00og9yvGGdroX1pRD2TkLk=; b=ZAOxKJ5cTr3aiVTfdvdZGkRLimczrDXkBXvl/AMQsHGOHESuWBYfMiu+gVcK9PUwUE /LD+vQa5mUWzGOHtA0EG/Lz1Y90jD+8++jjmIKh4mv2PSK/qdbQ4dkl2t9X4stEbg2H7 eW7QCE1jDQp/+nmplvZHBt1bzKQxlw5eFsAUZhG0imt0K1olVtKQxPDdHKkA7ryjwK3f BCLws5FlwHkkxNL1NG2OH3MPgMzn7i/UK9QlbOj7VG5t8c8mH2FT3YjPjIfPEJdwqgzC nibLji7FJh0C1IKeVPaQKHg0Tc9rhoINHMmhNhuEoteM/4jdpR8mCNcozxowSo1CFOXZ r0EQ== X-Gm-Message-State: AOJu0Yz6JcrROkdpL7uoiozd/yK4ypTXkK80GU+yf/IOzL0cXquIoLk7 7ktyMWRMB7TEto5vgVIvnZ9UGY40fZxrIIeZeDnR5KHFpjsYr4CpmwtD0x15p+1q0sjAF5uZ195 EymbhesTIhQMoqg7mZcaR94G/Ijtn6vfH X-Gm-Gg: ASbGncubEcSWdYWvhuKlUjQC0iNKEWqwr8cijpEEEQPlZpTo4ZWiQPHdgsouQz4q8OD PZ6qK/TwFD+CwJMJk68eBI1TwxO5vYFu14VDsRIzDlS7r9+8dyEEBIv3ZpnN1m62/zo1avsT+3T PM6OWziZr+YsZzXH1dM/r/mVEZAvQpwBbc72AbgHXI3VjWfdJ4cEnKipo5UaNEWJaI9RpIZYkmH 3rM2utYrM8izpn7+Die5993cruJ77ERAp5UaoD8FV/1X0nyVfYjui3tMSx5NqoxMDlnCm9PPbvU zRwuqmetFqZVD9vrZ4oTfe4q4FIPDQ== X-Google-Smtp-Source: AGHT+IHRvYigX6hMBjqoRBMoxgb8WgoOa67jCkd/4TlH0jhH2gmQvJu3iMQ/QWMhylHEz8FMNlJhA7ZIl0Kf X-Received: by 2002:a05:6e02:2186:b0:3d0:ca2:156d with SMTP id e9e14a558f8ab-3d18c2ef911mr45242225ab.14.1739516086454; Thu, 13 Feb 2025 22:54:46 -0800 (PST) Received: from postal.iol.unh.edu (postal.iol.unh.edu. [132.177.123.84]) by smtp-relay.gmail.com with ESMTPS id 8926c6da1cb9f-4ed2819ec03sm158916173.37.2025.02.13.22.54.46 (version=TLS1_2 cipher=ECDHE-ECDSA-AES128-GCM-SHA256 bits=128/128); Thu, 13 Feb 2025 22:54:46 -0800 (PST) X-Relaying-Domain: iol.unh.edu Date: Thu, 13 Feb 2025 22:54:46 -0800 (PST) Message-ID: <67aee8b6.050a0220.178125.8516SMTPIN_ADDED_MISSING@mx.google.com> Received: from [172.21.0.6] (unknown [172.18.0.240]) by postal.iol.unh.edu (Postfix) with ESMTP id F28C46052471; Fri, 14 Feb 2025 01:54:45 -0500 (EST) Subject: |SUCCESS| [GIT MASTER] f2eea2f37a82bb73fb01d56350708f7d70e21379 From: dpdklab@iol.unh.edu To: Test Report Cc: dpdk-test-reports@iol.unh.edu, Xueming Li , Christian Ehrhardt , Kevin Traynor , Luca Boccassi Content-Type: text/plain X-BeenThere: test-report@dpdk.org X-Mailman-Version: 2.1.29 Precedence: list List-Id: automatic DPDK test reports List-Unsubscribe: , List-Archive: List-Post: List-Help: List-Subscribe: , Errors-To: test-report-bounces@dpdk.org _Testing PASS_ Branch: tags/v24.11 f2eea2f37a82bb73fb01d56350708f7d70e21379 --> testing pass Upstream job id: Generic-DPDK-Compile-ABI#116179 Test environment and result as below: +-------------------+----------+ | Environment | abi_test | +===================+==========+ | CentOS Stream 9 | PASS | +-------------------+----------+ | Debian 12 | PASS | +-------------------+----------+ | Debian Bullseye | PASS | +-------------------+----------+ | CentOS Stream 10 | PASS | +-------------------+----------+ | Fedora 40 (Clang) | PASS | +-------------------+----------+ | Fedora 40 | PASS | +-------------------+----------+ | Fedora 41 (Clang) | PASS | +-------------------+----------+ | openSUSE Leap 15 | PASS | +-------------------+----------+ | Fedora 41 | PASS | +-------------------+----------+ | RHEL8 | PASS | +-------------------+----------+ | Ubuntu 22.04 | PASS | +-------------------+----------+ | RHEL9 | PASS | +-------------------+----------+ | Ubuntu 24.04 | PASS | +-------------------+----------+ CentOS Stream 9 Kernel: Depends on container host Compiler: gcc 11.5.0 20240719 (Red Hat 11.5.0-2) Debian 12 Kernel: Depends on container host Compiler: gcc (Debian 12.2.0-14) 12.2.0 Debian Bullseye Kernel: Depends on container host Compiler: gcc (Debian 10.2.1-6) 10.2.1 20210110 CentOS Stream 10 Kernel: Depends on container host Compiler: gcc 14.2.1 20241104 (Red Hat 14.2.1-6) Fedora 40 (Clang) Kernel: Depends on container host Compiler: clang 18.1.8 (Fedora 18.1.8-1.fc40) Fedora 40 Kernel: Depends on container host Compiler: gcc 14.2.1 20240912 (Red Hat 14.2.1-3) Fedora 41 (Clang) Kernel: Depends on container host Compiler: clang 19.1.5 (Fedora 19.1.5-1.fc41) openSUSE Leap 15 Kernel: Depends on container host Compiler: gcc (SUSE Linux) 7.5.0 Fedora 41 Kernel: Depends on container host Compiler: gcc 14.2.1 20240912 (Red Hat 14.2.1-3) RHEL8 Kernel: Depends on container host Compiler: gcc 8.5.0 20210514 (Red Hat 8.5.0-22) Ubuntu 22.04 Kernel: Depends on container host Compiler: gcc (Ubuntu 11.4.0-1ubuntu1~22.04) 11.4.0 RHEL9 Kernel: Depends on container host Compiler: gcc 11.5.0 20240719 (Red Hat 11.5.0-2) Ubuntu 24.04 Kernel: Depends on container host Compiler: gcc (Ubuntu 13.3.0-6ubuntu2~24.04) 13.3.0 To view detailed results, visit: https://lab.dpdk.org/results/dashboard/tarballs/32575/ UNH-IOL DPDK Community Lab To manage your email subscriptions, visit: https://lab.dpdk.org/results/dashboard/preferences/subscriptions/