From mboxrd@z Thu Jan 1 00:00:00 1970 Return-Path: Received: from mails.dpdk.org (mails.dpdk.org [217.70.189.124]) by inbox.dpdk.org (Postfix) with ESMTP id C608346220 for ; Fri, 14 Feb 2025 08:02:10 +0100 (CET) Received: from mails.dpdk.org (localhost [127.0.0.1]) by mails.dpdk.org (Postfix) with ESMTP id A0E114064A; Fri, 14 Feb 2025 08:02:10 +0100 (CET) Received: from mail-qk1-f225.google.com (mail-qk1-f225.google.com [209.85.222.225]) by mails.dpdk.org (Postfix) with ESMTP id E6A3340263 for ; Fri, 14 Feb 2025 08:02:08 +0100 (CET) Received: by mail-qk1-f225.google.com with SMTP id af79cd13be357-7c05b91245fso98098885a.2 for ; Thu, 13 Feb 2025 23:02:08 -0800 (PST) DKIM-Signature: v=1; a=rsa-sha256; c=relaxed/relaxed; d=iol.unh.edu; s=unh-iol; t=1739516528; x=1740121328; darn=dpdk.org; h=references:in-reply-to:cc:to:from:subject:message-id:date:from:to :cc:subject:date:message-id:reply-to; bh=pMnAghY41Cm/C9xO7C9/fyaob/c76L0JmLHgJvXe4N4=; b=BKbontfhWZzadx+1QSr2+iSI3q1kh+F9fir0XbyLpwNQwOABPU+7QYyFAwq1tKKipF Qoa1uVfKUbrKZOg/mmohy3EKlFKotE0TGJJeBdy5BBiiC7mE6mCPXc9Dz80Er5mbXURG SW4SNTOUkG+jhuvgCi0qnwTseOsIHztTbtc/U= X-Google-DKIM-Signature: v=1; a=rsa-sha256; c=relaxed/relaxed; d=1e100.net; s=20230601; t=1739516528; x=1740121328; h=references:in-reply-to:cc:to:from:subject:message-id:date :x-gm-message-state:from:to:cc:subject:date:message-id:reply-to; bh=pMnAghY41Cm/C9xO7C9/fyaob/c76L0JmLHgJvXe4N4=; b=G/IZzx25GYFKNM6LoRca0v3IlE5iGnCda0/UoFznKEglFYwe6HzyBySGkKvLKcSsR+ jgdYYS+RBrOu1yISu/XHRkqTBEqU6RBId1ZqxbBDNFJfl0V9ngKunceYo0YB0Z8u6H2t HSEZKUYSk7/rn+yTiukBjokfaqSSfXbvmf5M/vGXh0jCbOd4ufNVl2NaxS3qFy2J3es+ k2uEcrz/LjUYwbPUbY9piLFFRGJYhZMeHdo7KWL6U851sGkXY0fEGf/7VQBSGUwAVueJ hDFGgSdl0HW5O/OvNS8+LBXT7OKVPY9aezQ3YxoEmtmtnaQDV5jMLiysgCGUXSrF/6e4 lNVw== X-Gm-Message-State: AOJu0YzabRTjEWF5Uw/dokmiaBgGKOrqecEo4nka+xfSWyJVhFMrwTBI RwAHo5oixAohKXtza7/ZgqSmqFRRGofyNKypaZwj9p8CFRxoEl2kad/l8TC2NGPc2eCjUp0Wxti kGGStpLhr+HTPxKHlHOnsbx27n2NJDQOJ02rfLK6h X-Gm-Gg: ASbGnctZuiQdaogDUxYCKzAq3xYjlfjnhivmmtS8+31vjk5YMJBTLr4D/TGYjepxtsU fZGo0LogSCDdCg0bwhnwkPrkou8oqurn1bzvQ31JPaTsVs3UFcY32MxVANsUYBave7LrfHVN9FO 8TsF61rbNTzIyYmLi7mJOQLhJvxLJkMtWk/c35m+If+pfUiwrpFUHEqC0VaCwZKHm/mO3Yw9/YY eDLOLqzFEV411R7Vy3Ns+aiB4BwxLQJ9GCL0drlsnG8rU4sPoc2p7/I7ziBtOZ7nguKIBxISPSd tmmOJLiYoSYFx8wz6h1EowOqv1NW4A== X-Google-Smtp-Source: AGHT+IGRamHfvUI86FjNX025XlXpKL4XXUr6+tcB1YXn3HU4JHCkMdPpcAHsUMCV7p6BBaAgnve7sQaH1Hb1 X-Received: by 2002:a05:620a:394d:b0:7b6:7618:d7ce with SMTP id af79cd13be357-7c06fc59e69mr1403311185a.10.1739516528166; Thu, 13 Feb 2025 23:02:08 -0800 (PST) Received: from postal.iol.unh.edu (postal.iol.unh.edu. [132.177.123.84]) by smtp-relay.gmail.com with ESMTPS id af79cd13be357-7c07c85af33sm15863785a.5.2025.02.13.23.02.08 (version=TLS1_2 cipher=ECDHE-ECDSA-AES128-GCM-SHA256 bits=128/128); Thu, 13 Feb 2025 23:02:08 -0800 (PST) X-Relaying-Domain: iol.unh.edu Date: Thu, 13 Feb 2025 23:02:08 -0800 (PST) Message-ID: <67aeea70.050a0220.1ffd80.83e2SMTPIN_ADDED_MISSING@mx.google.com> Received: from [172.21.0.5] (unknown [172.18.0.240]) by postal.iol.unh.edu (Postfix) with ESMTP id BF27B6052471; Fri, 14 Feb 2025 02:02:07 -0500 (EST) Subject: |SUCCESS| pw151479-151489 [PATCH] [v6,11/11] devtools/cocci: add scr From: dpdklab@iol.unh.edu To: Test Report Cc: dpdk-test-reports@iol.unh.edu In-Reply-To: <20250213221819.1856769-12-stephen@networkplumber.org> References: <20250213221819.1856769-12-stephen@networkplumber.org> Content-Type: text/plain X-BeenThere: test-report@dpdk.org X-Mailman-Version: 2.1.29 Precedence: list List-Id: automatic DPDK test reports List-Unsubscribe: , List-Archive: List-Post: List-Help: List-Subscribe: , Errors-To: test-report-bounces@dpdk.org Test-Label: iol-unit-arm64-testing Test-Status: SUCCESS http://dpdk.org/patch/151489 _Testing PASS_ Submitter: Stephen Hemminger Date: Thursday, February 13 2025 22:16:24 DPDK git baseline: Repo:dpdk Branch: master CommitID:e5176f23ae8b31437c3e5eb875c81f95bf3a9942 151479-151489 --> testing pass Upstream job id: Generic-Unit-Test-DPDK#314929 Test environment and result as below: +-----------------------------+----------------+---------------------------+--------------+------------------------------+ | Environment | dpdk_unit_test | cryptodev_sw_zuc_autotest | lpm_autotest | cryptodev_sw_snow3g_autotest | +=============================+================+===========================+==============+==============================+ | 32-bit Ubuntu 22.04.4 (ARM) | PASS | SKIPPED | SKIPPED | SKIPPED | +-----------------------------+----------------+---------------------------+--------------+------------------------------+ | Fedora 40 (ARM Clang) | PASS | SKIPPED | SKIPPED | SKIPPED | +-----------------------------+----------------+---------------------------+--------------+------------------------------+ | CentOS Stream 10 (ARM) | PASS | SKIPPED | SKIPPED | SKIPPED | +-----------------------------+----------------+---------------------------+--------------+------------------------------+ | Fedora 40 (ARM) | PASS | SKIPPED | SKIPPED | SKIPPED | +-----------------------------+----------------+---------------------------+--------------+------------------------------+ | CentOS Stream 9 (ARM) | PASS | SKIPPED | SKIPPED | SKIPPED | +-----------------------------+----------------+---------------------------+--------------+------------------------------+ | RHEL9 (ARM) | PASS | SKIPPED | SKIPPED | SKIPPED | +-----------------------------+----------------+---------------------------+--------------+------------------------------+ | Debian 12 (arm) | PASS | PASS | SKIPPED | PASS | +-----------------------------+----------------+---------------------------+--------------+------------------------------+ | Debian 11 (Buster) (ARM) | PASS | SKIPPED | SKIPPED | SKIPPED | +-----------------------------+----------------+---------------------------+--------------+------------------------------+ | Fedora 41 (ARM Clang) | PASS | SKIPPED | SKIPPED | SKIPPED | +-----------------------------+----------------+---------------------------+--------------+------------------------------+ | Fedora 41 (ARM) | PASS | SKIPPED | SKIPPED | SKIPPED | +-----------------------------+----------------+---------------------------+--------------+------------------------------+ | Ubuntu 20.04 (ARM) | PASS | SKIPPED | SKIPPED | SKIPPED | +-----------------------------+----------------+---------------------------+--------------+------------------------------+ | Ubuntu 24.04 (ARM) | PASS | SKIPPED | SKIPPED | SKIPPED | +-----------------------------+----------------+---------------------------+--------------+------------------------------+ | Ubuntu 22.04 (ARM) | PASS | SKIPPED | SKIPPED | SKIPPED | +-----------------------------+----------------+---------------------------+--------------+------------------------------+ | Ubuntu 20.04 ARM SVE | SKIPPED | SKIPPED | PASS | SKIPPED | +-----------------------------+----------------+---------------------------+--------------+------------------------------+ 32-bit Ubuntu 22.04.4 (ARM) Kernel: 5.15.83+ aarch64 Compiler: gcc (Ubuntu 11.4.0-1ubuntu1~22.04) 11.4.0 Fedora 40 (ARM Clang) Kernel: Depends on container host Compiler: clang 18.1.8 (Fedora 18.1.8-1.fc40) CentOS Stream 10 (ARM) Kernel: Depends on container host Compiler: gcc 14.2.1 20241104 (Red Hat 14.2.1-6) Fedora 40 (ARM) Kernel: Depends on container host Compiler: gcc 14.2.1 20240912 (Red Hat 14.2.1-3) CentOS Stream 9 (ARM) Kernel: Depends on container host Compiler: gcc 11.5.0 20240719 (Red Hat 11.5.0-2) RHEL9 (ARM) Kernel: Depends on container host Compiler: gcc 11.5.0 20240719 (Red Hat 11.5.0-2) Debian 12 (arm) Kernel: Depends on container host Compiler: gcc (Debian 12.2.0-14) 12.2.0 Debian 11 (Buster) (ARM) Kernel: Depends on container host Compiler: gcc (Debian 10.2.1-6) 10.2.1 20210110 Fedora 41 (ARM Clang) Kernel: Depends on container host Compiler: clang 19.1.5 (Fedora 19.1.5-1.fc41) Fedora 41 (ARM) Kernel: Depends on container host Compiler: gcc 14.2.1 20240912 (Red Hat 14.2.1-3) Ubuntu 20.04 (ARM) Kernel: Depends on container host Compiler: gcc (Ubuntu 9.4.0-1ubuntu1~20.04.2) 9.4.0 Ubuntu 24.04 (ARM) Kernel: Depends on container host Compiler: gcc (Ubuntu 13.3.0-6ubuntu2~24.04) 13.3.0 Ubuntu 22.04 (ARM) Kernel: Depends on container host Compiler: gcc (Ubuntu 11.4.0-1ubuntu1~22.04) 11.4.0 Ubuntu 20.04 ARM SVE Kernel: Depends on container host Compiler: gcc (Ubuntu 10.5.0-1ubuntu1~20.04) 10.5.0 To view detailed results, visit: https://lab.dpdk.org/results/dashboard/patchsets/32579/ UNH-IOL DPDK Community Lab To manage your email subscriptions, visit: https://lab.dpdk.org/results/dashboard/preferences/subscriptions/